Workbook

Sheet Load to SQL
A1: PXi_Site_Ref | B1: PXi_UOM | C1: SL9_UOM
A2: fai3 | B2: EA | C2: PC
A3: fai3 | B3: SET | C3: ST
A4: fmcsg2 | B4: EA | C4: PC
A5: fmcsg2 | B5: EACH | C5: PC
A6: fmcsg2 | B6: FT | C6: FT
A7: fmcsg2 | B7: LB | C7: LB
A8: fmcsg2 | B8: MT | C8: M
A9: fmcsg2 | B9: SF | C9: SF
A10: fmcsg2 | B10: GL | C10: GA
A11: fmcsg2 | B11: RL | C11: RL
A12: fmcsg2 | B12: PK | C12: PC
... A36: tsthlive | B36: CASE | C36: PC

Sheet Working
A1: XREF | B1: PXi_Site_Ref | C1: PXi_UOM | D1: SL9_UOM | E1: SL7 | F1: PXi_Site_Ref | G1: U/M | H1: Description | I1: SL9 | J1: U/M | K1: Description | L1: Check | M1: BAN1 | N1: KLU1 | O1: HON1 | P1: SIN1 | Q1: JBT-521 | R1: Check All
B2: =F2 -> fai3 | C2: =G2 -> EA | D2: =J2 -> PC | F2: =PXi!R2 -> fai3 | G2: =PXi!C2 -> EA | H2: =PXi!G2 -> EACH | J2: PC | K2: =VLOOKUP(J2,'SL9'!C:D,2,0) -> PIECE | M2: =IF(ISERROR(VLOOKUP(M$1&$J2,'SL9'!$A:$A,1,0)),"Missing","Ok") -> Ok | N2: =IF(ISERROR(VLOOKUP(N$1&$J2,'SL9'!$A:$A,1,0)),"Missing","Ok") -> Ok | O2: =IF(ISERROR(VLOOKUP(O$1&$J2,'SL9'!$A:$A,1,0)),"Missing","Ok") -> Ok | P2: =IF(ISERROR(VLOOKUP(P$1&$J2,'SL9'!$A:$A,1,0)),"Missing","Ok") -> Ok | Q2: =IF(ISERROR(VLOOKUP(Q$1&$J2,'SL9'!$A:$A,1,0)),"Missing","Ok") -> Ok | R2: =IF(OR(M2="Ok",N2="Ok",O2="Ok",P2="Ok",Q2="Ok"),"Ok","ERROR") -> Ok
B3: =F3 -> fai3 | C3: =G3 -> SET | D3: =J3 -> ST | F3: =PXi!R3 -> fai3 | G3: =PXi!C3 -> SET | H3: =PXi!G3 -> SET | J3: ST | K3: =VLOOKUP(J3,'SL9'!C:D,2,0) -> SET | M3: =IF(ISERROR(VLOOKUP(M$1&$J3,'SL9'!$A:$A,1,0)),"Missing","Ok") -> Ok | N3: =IF(ISERROR(VLOOKUP(N$1&$J3,'SL9'!$A:$A,1,0)),"Missing","Ok") -> Ok | O3: =IF(ISERROR(VLOOKUP(O$1&$J3,'SL9'!$A:$A,1,0)),"Missing","Ok") -> Ok | P3: =IF(ISERROR(VLOOKUP(P$1&$J3,'SL9'!$A:$A,1,0)),"Missing","Ok") -> Ok | Q3: =IF(ISERROR(VLOOKUP(Q$1&$J3,'SL9'!$A:$A,1,0)),"Missing","Ok") -> Ok | R3: =IF(OR(M3="Ok",N3="Ok",O3="Ok",P3="Ok",Q3="Ok"),"Ok","ERROR") -> Ok
B4: =F4 -> fmcsg2 | C4: =G4 -> EA | D4: =J4 -> PC | F4: =PXi!R4 -> fmcsg2 | G4: =PXi!C4 -> EA | H4: =PXi!G4 -> Each | J4: PC | K4: =VLOOKUP(J4,'SL9'!C:D,2,0) -> PIECE | M4: =IF(ISERROR(VLOOKUP(M$1&$J4,'SL9'!$A:$A,1,0)),"Missing","Ok") -> Ok | N4: =IF(ISERROR(VLOOKUP(N$1&$J4,'SL9'!$A:$A,1,0)),"Missing","Ok") -> Ok | O4: =IF(ISERROR(VLOOKUP(O$1&$J4,'SL9'!$A:$A,1,0)),"Missing","Ok") -> Ok | P4: =IF(ISERROR(VLOOKUP(P$1&$J4,'SL9'!$A:$A,1,0)),"Missing","Ok") -> Ok | Q4: =IF(ISERROR(VLOOKUP(Q$1&$J4,'SL9'!$A:$A,1,0)),"Missing","Ok") -> Ok | R4: =IF(OR(M4="Ok",N4="Ok",O4="Ok",P4="Ok",Q4="Ok"),"Ok","ERROR") -> Ok
B5: =F5 -> fmcsg2 | C5: =G5 -> EACH | D5: =J5 -> PC | F5: =PXi!R5 -> fmcsg2 | G5: =PXi!C5 -> EACH | H5: =PXi!G5 -> Each | J5: PC | K5: =VLOOKUP(J5,'SL9'!C:D,2,0) -> PIECE | M5: =IF(ISERROR(VLOOKUP(M$1&$J5,'SL9'!$A:$A,1,0)),"Missing","Ok") -> Ok | N5: =IF(ISERROR(VLOOKUP(N$1&$J5,'SL9'!$A:$A,1,0)),"Missing","Ok") -> Ok | O5: =IF(ISERROR(VLOOKUP(O$1&$J5,'SL9'!$A:$A,1,0)),"Missing","Ok") -> Ok | P5: =IF(ISERROR(VLOOKUP(P$1&$J5,'SL9'!$A:$A,1,0)),"Missing","Ok") -> Ok | Q5: =IF(ISERROR(VLOOKUP(Q$1&$J5,'SL9'!$A:$A,1,0)),"Missing","Ok") -> Ok | R5: =IF(OR(M5="Ok",N5="Ok",O5="Ok",P5="Ok",Q5="Ok"),"Ok","ERROR") -> Ok
B6: =F6 -> fmcsg2 | C6: =G6 -> FT | D6: =J6 -> FT | F6: =PXi!R6 -> fmcsg2 | G6: =PXi!C6 -> FT | H6: =PXi!G6 -> Feet | J6: FT | K6: =VLOOKUP(J6,'SL9'!C:D,2,0) -> FOOT | M6: =IF(ISERROR(VLOOKUP(M$1&$J6,'SL9'!$A:$A,1,0)),"Missing","Ok") -> Ok | N6: =IF(ISERROR(VLOOKUP(N$1&$J6,'SL9'!$A:$A,1,0)),"Missing","Ok") -> Ok | O6: =IF(ISERROR(VLOOKUP(O$1&$J6,'SL9'!$A:$A,1,0)),"Missing","Ok") -> Ok | P6: =IF(ISERROR(VLOOKUP(P$1&$J6,'SL9'!$A:$A,1,0)),"Missing","Ok") -> Ok | Q6: =IF(ISERROR(VLOOKUP(Q$1&$J6,'SL9'!$A:$A,1,0)),"Missing","Ok") -> Ok | R6: =IF(OR(M6="Ok",N6="Ok",O6="Ok",P6="Ok",Q6="Ok"),"Ok","ERROR") -> Ok
B7: =F7 -> fmcsg2 | C7: =G7 -> LB | D7: =J7 -> LB | F7: =PXi!R7 -> fmcsg2 | G7: =PXi!C7 -> LB | H7: =PXi!G7 -> Pounds | J7: LB | K7: =VLOOKUP(J7,'SL9'!C:D,2,0) -> POUND | M7: =IF(ISERROR(VLOOKUP(M$1&$J7,'SL9'!$A:$A,1,0)),"Missing","Ok") -> Ok | N7: =IF(ISERROR(VLOOKUP(N$1&$J7,'SL9'!$A:$A,1,0)),"Missing","Ok") -> Ok | O7: =IF(ISERROR(VLOOKUP(O$1&$J7,'SL9'!$A:$A,1,0)),"Missing","Ok") -> Ok | P7: =IF(ISERROR(VLOOKUP(P$1&$J7,'SL9'!$A:$A,1,0)),"Missing","Ok") -> Ok | Q7: =IF(ISERROR(VLOOKUP(Q$1&$J7,'SL9'!$A:$A,1,0)),"Missing","Ok") -> Ok | R7: =IF(OR(M7="Ok",N7="Ok",O7="Ok",P7="Ok",Q7="Ok"),"Ok","ERROR") -> Ok
B8: =F8 -> fmcsg2 | C8: =G8 -> MT | D8: =J8 -> M | F8: =PXi!R8 -> fmcsg2 | G8: =PXi!C8 -> MT | H8: =PXi!G8 -> Metres | J8: M | K8: =VLOOKUP(J8,'SL9'!C:D,2,0) -> METER | M8: =IF(ISERROR(VLOOKUP(M$1&$J8,'SL9'!$A:$A,1,0)),"Missing","Ok") -> Ok | N8: =IF(ISERROR(VLOOKUP(N$1&$J8,'SL9'!$A:$A,1,0)),"Missing","Ok") -> Ok | O8: =IF(ISERROR(VLOOKUP(O$1&$J8,'SL9'!$A:$A,1,0)),"Missing","Ok") -> Ok | P8: =IF(ISERROR(VLOOKUP(P$1&$J8,'SL9'!$A:$A,1,0)),"Missing","Ok") -> Ok | Q8: =IF(ISERROR(VLOOKUP(Q$1&$J8,'SL9'!$A:$A,1,0)),"Missing","Ok") -> Ok | R8: =IF(OR(M8="Ok",N8="Ok",O8="Ok",P8="Ok",Q8="Ok"),"Ok","ERROR") -> Ok
B9: =F9 -> fmcsg2 | C9: =G9 -> SF | D9: =J9 -> SF | F9: =PXi!R9 -> fmcsg2 | G9: =PXi!C9 -> SF | H9: =PXi!G9 -> Square Feet | J9: SF | K9: =VLOOKUP(J9,'SL9'!C:D,2,0) -> SQUARE FOOT | M9: =IF(ISERROR(VLOOKUP(M$1&$J9,'SL9'!$A:$A,1,0)),"Missing","Ok") -> Ok | N9: =IF(ISERROR(VLOOKUP(N$1&$J9,'SL9'!$A:$A,1,0)),"Missing","Ok") -> Ok | O9: =IF(ISERROR(VLOOKUP(O$1&$J9,'SL9'!$A:$A,1,0)),"Missing","Ok") -> Ok | P9: =IF(ISERROR(VLOOKUP(P$1&$J9,'SL9'!$A:$A,1,0)),"Missing","Ok") -> Ok | Q9: =IF(ISERROR(VLOOKUP(Q$1&$J9,'SL9'!$A:$A,1,0)),"Missing","Ok") -> Ok | R9: =IF(OR(M9="Ok",N9="Ok",O9="Ok",P9="Ok",Q9="Ok"),"Ok","ERROR") -> Ok
B10: =F10 -> fmcsg2 | C10: =G10 -> GL | D10: =J10 -> GA | F10: =PXi!R10 -> fmcsg2 | G10: =PXi!C10 -> GL | H10: =PXi!G10 -> Gallon | J10: GA | K10: =VLOOKUP(J10,'SL9'!C:D,2,0) -> GALLON | M10: =IF(ISERROR(VLOOKUP(M$1&$J10,'SL9'!$A:$A,1,0)),"Missing","Ok") -> Ok | N10: =IF(ISERROR(VLOOKUP(N$1&$J10,'SL9'!$A:$A,1,0)),"Missing","Ok") -> Ok | O10: =IF(ISERROR(VLOOKUP(O$1&$J10,'SL9'!$A:$A,1,0)),"Missing","Ok") -> Ok | P10: =IF(ISERROR(VLOOKUP(P$1&$J10,'SL9'!$A:$A,1,0)),"Missing","Ok") -> Ok | Q10: =IF(ISERROR(VLOOKUP(Q$1&$J10,'SL9'!$A:$A,1,0)),"Missing","Ok") -> Ok | R10: =IF(OR(M10="Ok",N10="Ok",O10="Ok",P10="Ok",Q10="Ok"),"Ok","ERROR") -> Ok
B11: =F11 -> fmcsg2 | C11: =G11 -> RL | D11: =J11 -> RL | F11: =PXi!R11 -> fmcsg2 | G11: =PXi!C11 -> RL | H11: =PXi!G11 -> Roll | J11: RL | K11: =VLOOKUP(J11,'SL9'!C:D,2,0) -> ROLL | M11: =IF(ISERROR(VLOOKUP(M$1&$J11,'SL9'!$A:$A,1,0)),"Missing","Ok") -> Ok | N11: =IF(ISERROR(VLOOKUP(N$1&$J11,'SL9'!$A:$A,1,0)),"Missing","Ok") -> Ok | O11: =IF(ISERROR(VLOOKUP(O$1&$J11,'SL9'!$A:$A,1,0)),"Missing","Ok") -> Ok | P11: =IF(ISERROR(VLOOKUP(P$1&$J11,'SL9'!$A:$A,1,0)),"Missing","Ok") -> Ok | Q11: =IF(ISERROR(VLOOKUP(Q$1&$J11,'SL9'!$A:$A,1,0)),"Missing","Ok") -> Ok | R11: =IF(OR(M11="Ok",N11="Ok",O11="Ok",P11="Ok",Q11="Ok"),"Ok","ERROR") -> Ok
B12: =F12 -> fmcsg2 | C12: =G12 -> PK | D12: =J12 -> PC | F12: =PXi!R12 -> fmcsg2 | G12: =PXi!C12 -> PK | H12: =PXi!G12 -> Pack | J12: PC | K12: =VLOOKUP(J12,'SL9'!C:D,2,0) -> PIECE | M12: =IF(ISERROR(VLOOKUP(M$1&$J12,'SL9'!$A:$A,1,0)),"Missing","Ok") -> Ok | N12: =IF(ISERROR(VLOOKUP(N$1&$J12,'SL9'!$A:$A,1,0)),"Missing","Ok") -> Ok | O12: =IF(ISERROR(VLOOKUP(O$1&$J12,'SL9'!$A:$A,1,0)),"Missing","Ok") -> Ok | P12: =IF(ISERROR(VLOOKUP(P$1&$J12,'SL9'!$A:$A,1,0)),"Missing","Ok") -> Ok | Q12: =IF(ISERROR(VLOOKUP(Q$1&$J12,'SL9'!$A:$A,1,0)),"Missing","Ok") -> Ok | R12: =IF(OR(M12="Ok",N12="Ok",O12="Ok",P12="Ok",Q12="Ok"),"Ok","ERROR") -> Ok
B13: =F13 -> fmcphi2 | C13: =G13 -> EACH | D13: =J13 -> PC | F13: =PXi!R13 -> fmcphi2 | G13: =PXi!C13 -> EACH | H13: =PXi!G13 -> Each | J13: PC | K13: =VLOOKUP(J13,'SL9'!C:D,2,0) -> PIECE | M13: =IF(ISERROR(VLOOKUP(M$1&$J13,'SL9'!$A:$A,1,0)),"Missing","Ok") -> Ok | N13: =IF(ISERROR(VLOOKUP(N$1&$J13,'SL9'!$A:$A,1,0)),"Missing","Ok") -> Ok | O13: =IF(ISERROR(VLOOKUP(O$1&$J13,'SL9'!$A:$A,1,0)),"Missing","Ok") -> Ok | P13: =IF(ISERROR(VLOOKUP(P$1&$J13,'SL9'!$A:$A,1,0)),"Missing","Ok") -> Ok | Q13: =IF(ISERROR(VLOOKUP(Q$1&$J13,'SL9'!$A:$A,1,0)),"Missing","Ok") -> Ok | R13: =IF(OR(M13="Ok",N13="Ok",O13="Ok",P13="Ok",Q13="Ok"),"Ok","ERROR") -> Ok
... B21: =F21 -> tsthlive | C21: =G21 -> INCH | D21: =J21 -> IN | F21: =PXi!R21 -> tsthlive | G21: =PXi!C21 -> INCH | H21: =PXi!G21 -> INCH | J21: IN | K21: =VLOOKUP(J21,'SL9'!C:D,2,0) -> INCH | M21: =IF(ISERROR(VLOOKUP(M$1&$J21,'SL9'!$A:$A,1,0)),"Missing","Ok") -> Ok | N21: =IF(ISERROR(VLOOKUP(N$1&$J21,'SL9'!$A:$A,1,0)),"Missing","Ok") -> Ok | O21: =IF(ISERROR(VLOOKUP(O$1&$J21,'SL9'!$A:$A,1,0)),"Missing","Ok") -> Ok | P21: =IF(ISERROR(VLOOKUP(P$1&$J21,'SL9'!$A:$A,1,0)),"Missing","Ok") -> Ok | Q21: =IF(ISERROR(VLOOKUP(Q$1&$J21,'SL9'!$A:$A,1,0)),"Missing","Ok") -> Ok | R21: =IF(OR(M21="Ok",N21="Ok",O21="Ok",P21="Ok",Q21="Ok"),"Ok","ERROR") -> Ok
B22: =F22 -> tsthlive | C22: =G22 -> LOT | D22: =J22 -> PC | F22: =PXi!R22 -> tsthlive | G22: =PXi!C22 -> LOT | H22: =PXi!G22 -> LOT | J22: PC | K22: =VLOOKUP(J22,'SL9'!C:D,2,0) -> PIECE | M22: =IF(ISERROR(VLOOKUP(M$1&$J22,'SL9'!$A:$A,1,0)),"Missing","Ok") -> Ok | N22: =IF(ISERROR(VLOOKUP(N$1&$J22,'SL9'!$A:$A,1,0)),"Missing","Ok") -> Ok | O22: =IF(ISERROR(VLOOKUP(O$1&$J22,'SL9'!$A:$A,1,0)),"Missing","Ok") -> Ok | P22: =IF(ISERROR(VLOOKUP(P$1&$J22,'SL9'!$A:$A,1,0)),"Missing","Ok") -> Ok | Q22: =IF(ISERROR(VLOOKUP(Q$1&$J22,'SL9'!$A:$A,1,0)),"Missing","Ok") -> Ok | R22: =IF(OR(M22="Ok",N22="Ok",O22="Ok",P22="Ok",Q22="Ok"),"Ok","ERROR") -> Ok | S22: Not used
B23: =F23 -> tsthlive | C23: =G23 -> METE | D23: =J23 -> M | F23: =PXi!R23 -> tsthlive | G23: =PXi!C23 -> METE | H23: =PXi!G23 -> METE | J23: M | K23: =VLOOKUP(J23,'SL9'!C:D,2,0) -> METER | M23: =IF(ISERROR(VLOOKUP(M$1&$J23,'SL9'!$A:$A,1,0)),"Missing","Ok") -> Ok | N23: =IF(ISERROR(VLOOKUP(N$1&$J23,'SL9'!$A:$A,1,0)),"Missing","Ok") -> Ok | O23: =IF(ISERROR(VLOOKUP(O$1&$J23,'SL9'!$A:$A,1,0)),"Missing","Ok") -> Ok | P23: =IF(ISERROR(VLOOKUP(P$1&$J23,'SL9'!$A:$A,1,0)),"Missing","Ok") -> Ok | Q23: =IF(ISERROR(VLOOKUP(Q$1&$J23,'SL9'!$A:$A,1,0)),"Missing","Ok") -> Ok | R23: =IF(OR(M23="Ok",N23="Ok",O23="Ok",P23="Ok",Q23="Ok"),"Ok","ERROR") -> Ok
B24: =F24 -> tsthlive | C24: =G24 -> PAIL | D24: =J24 -> PC | F24: =PXi!R24 -> tsthlive | G24: =PXi!C24 -> PAIL | H24: =PXi!G24 -> PAIL | J24: PC | K24: =VLOOKUP(J24,'SL9'!C:D,2,0) -> PIECE | M24: =IF(ISERROR(VLOOKUP(M$1&$J24,'SL9'!$A:$A,1,0)),"Missing","Ok") -> Ok | N24: =IF(ISERROR(VLOOKUP(N$1&$J24,'SL9'!$A:$A,1,0)),"Missing","Ok") -> Ok | O24: =IF(ISERROR(VLOOKUP(O$1&$J24,'SL9'!$A:$A,1,0)),"Missing","Ok") -> Ok | P24: =IF(ISERROR(VLOOKUP(P$1&$J24,'SL9'!$A:$A,1,0)),"Missing","Ok") -> Ok | Q24: =IF(ISERROR(VLOOKUP(Q$1&$J24,'SL9'!$A:$A,1,0)),"Missing","Ok") -> Ok | R24: =IF(OR(M24="Ok",N24="Ok",O24="Ok",P24="Ok",Q24="Ok"),"Ok","ERROR") -> Ok | S24: Okay - Confirm with HEL
B25: =F25 -> tsthlive | C25: =G25 -> PAIR | D25: =J25 -> ST | F25: =PXi!R25 -> tsthlive | G25: =PXi!C25 -> PAIR | H25: =PXi!G25 -> PAIR | J25: ST | K25: =VLOOKUP(J25,'SL9'!C:D,2,0) -> SET | M25: =IF(ISERROR(VLOOKUP(M$1&$J25,'SL9'!$A:$A,1,0)),"Missing","Ok") -> Ok | N25: =IF(ISERROR(VLOOKUP(N$1&$J25,'SL9'!$A:$A,1,0)),"Missing","Ok") -> Ok | O25: =IF(ISERROR(VLOOKUP(O$1&$J25,'SL9'!$A:$A,1,0)),"Missing","Ok") -> Ok | P25: =IF(ISERROR(VLOOKUP(P$1&$J25,'SL9'!$A:$A,1,0)),"Missing","Ok") -> Ok | Q25: =IF(ISERROR(VLOOKUP(Q$1&$J25,'SL9'!$A:$A,1,0)),"Missing","Ok") -> Ok | R25: =IF(OR(M25="Ok",N25="Ok",O25="Ok",P25="Ok",Q25="Ok"),"Ok","ERROR") -> Ok | S25: Okay
B26: =F26 -> tsthlive | C26: =G26 -> SET | D26: =J26 -> ST | F26: =PXi!R26 -> tsthlive | G26: =PXi!C26 -> SET | H26: =PXi!G26 -> SET | J26: ST | K26: =VLOOKUP(J26,'SL9'!C:D,2,0) -> SET | M26: =IF(ISERROR(VLOOKUP(M$1&$J26,'SL9'!$A:$A,1,0)),"Missing","Ok") -> Ok | N26: =IF(ISERROR(VLOOKUP(N$1&$J26,'SL9'!$A:$A,1,0)),"Missing","Ok") -> Ok | O26: =IF(ISERROR(VLOOKUP(O$1&$J26,'SL9'!$A:$A,1,0)),"Missing","Ok") -> Ok | P26: =IF(ISERROR(VLOOKUP(P$1&$J26,'SL9'!$A:$A,1,0)),"Missing","Ok") -> Ok | Q26: =IF(ISERROR(VLOOKUP(Q$1&$J26,'SL9'!$A:$A,1,0)),"Missing","Ok") -> Ok | R26: =IF(OR(M26="Ok",N26="Ok",O26="Ok",P26="Ok",Q26="Ok"),"Ok","ERROR") -> Ok
B27: =F27 -> tsthlive | C27: =G27 -> TUBE | D27: =J27 -> PC | F27: =PXi!R27 -> tsthlive | G27: =PXi!C27 -> TUBE | H27: =PXi!G27 -> TUBE | J27: PC | K27: =VLOOKUP(J27,'SL9'!C:D,2,0) -> PIECE | M27: =IF(ISERROR(VLOOKUP(M$1&$J27,'SL9'!$A:$A,1,0)),"Missing","Ok") -> Ok | N27: =IF(ISERROR(VLOOKUP(N$1&$J27,'SL9'!$A:$A,1,0)),"Missing","Ok") -> Ok | O27: =IF(ISERROR(VLOOKUP(O$1&$J27,'SL9'!$A:$A,1,0)),"Missing","Ok") -> Ok | P27: =IF(ISERROR(VLOOKUP(P$1&$J27,'SL9'!$A:$A,1,0)),"Missing","Ok") -> Ok | Q27: =IF(ISERROR(VLOOKUP(Q$1&$J27,'SL9'!$A:$A,1,0)),"Missing","Ok") -> Ok | R27: =IF(OR(M27="Ok",N27="Ok",O27="Ok",P27="Ok",Q27="Ok"),"Ok","ERROR") -> Ok
B28: =F28 -> tsthlive | C28: =G28 -> UNIT | D28: =J28 -> PC | F28: =PXi!R28 -> tsthlive | G28: =PXi!C28 -> UNIT | H28: =PXi!G28 -> UNIT | J28: PC | K28: =VLOOKUP(J28,'SL9'!C:D,2,0) -> PIECE | M28: =IF(ISERROR(VLOOKUP(M$1&$J28,'SL9'!$A:$A,1,0)),"Missing","Ok") -> Ok | N28: =IF(ISERROR(VLOOKUP(N$1&$J28,'SL9'!$A:$A,1,0)),"Missing","Ok") -> Ok | O28: =IF(ISERROR(VLOOKUP(O$1&$J28,'SL9'!$A:$A,1,0)),"Missing","Ok") -> Ok | P28: =IF(ISERROR(VLOOKUP(P$1&$J28,'SL9'!$A:$A,1,0)),"Missing","Ok") -> Ok | Q28: =IF(ISERROR(VLOOKUP(Q$1&$J28,'SL9'!$A:$A,1,0)),"Missing","Ok") -> Ok | R28: =IF(OR(M28="Ok",N28="Ok",O28="Ok",P28="Ok",Q28="Ok"),"Ok","ERROR") -> Ok
B29: =F29 -> tsthlive | C29: =G29 -> PC | D29: =J29 -> PC | F29: =PXi!R29 -> tsthlive | G29: =PXi!C29 -> PC | H29: =PXi!G29 -> PIECE | J29: PC | K29: =VLOOKUP(J29,'SL9'!C:D,2,0) -> PIECE | M29: =IF(ISERROR(VLOOKUP(M$1&$J29,'SL9'!$A:$A,1,0)),"Missing","Ok") -> Ok | N29: =IF(ISERROR(VLOOKUP(N$1&$J29,'SL9'!$A:$A,1,0)),"Missing","Ok") -> Ok | O29: =IF(ISERROR(VLOOKUP(O$1&$J29,'SL9'!$A:$A,1,0)),"Missing","Ok") -> Ok | P29: =IF(ISERROR(VLOOKUP(P$1&$J29,'SL9'!$A:$A,1,0)),"Missing","Ok") -> Ok | Q29: =IF(ISERROR(VLOOKUP(Q$1&$J29,'SL9'!$A:$A,1,0)),"Missing","Ok") -> Ok | R29: =IF(OR(M29="Ok",N29="Ok",O29="Ok",P29="Ok",Q29="Ok"),"Ok","ERROR") -> Ok
B30: =F30 -> tsthlive | C30: =G30 -> FEET | D30: =J30 -> FT | F30: =PXi!R30 -> tsthlive | G30: =PXi!C30 -> FEET | H30: =PXi!G30 -> FEET | J30: FT | K30: =VLOOKUP(J30,'SL9'!C:D,2,0) -> FOOT | M30: =IF(ISERROR(VLOOKUP(M$1&$J30,'SL9'!$A:$A,1,0)),"Missing","Ok") -> Ok | N30: =IF(ISERROR(VLOOKUP(N$1&$J30,'SL9'!$A:$A,1,0)),"Missing","Ok") -> Ok | O30: =IF(ISERROR(VLOOKUP(O$1&$J30,'SL9'!$A:$A,1,0)),"Missing","Ok") -> Ok | P30: =IF(ISERROR(VLOOKUP(P$1&$J30,'SL9'!$A:$A,1,0)),"Missing","Ok") -> Ok | Q30: =IF(ISERROR(VLOOKUP(Q$1&$J30,'SL9'!$A:$A,1,0)),"Missing","Ok") -> Ok | R30: =IF(OR(M30="Ok",N30="Ok",O30="Ok",P30="Ok",Q30="Ok"),"Ok","ERROR") -> Ok
B31: =F31 -> tsthlive | C31: =G31 -> PACK | D31: =J31 -> PC | F31: =PXi!R31 -> tsthlive | G31: =PXi!C31 -> PACK | H31: =PXi!G31 -> PACK | J31: PC | K31: =VLOOKUP(J31,'SL9'!C:D,2,0) -> PIECE | M31: =IF(ISERROR(VLOOKUP(M$1&$J31,'SL9'!$A:$A,1,0)),"Missing","Ok") -> Ok | N31: =IF(ISERROR(VLOOKUP(N$1&$J31,'SL9'!$A:$A,1,0)),"Missing","Ok") -> Ok | O31: =IF(ISERROR(VLOOKUP(O$1&$J31,'SL9'!$A:$A,1,0)),"Missing","Ok") -> Ok | P31: =IF(ISERROR(VLOOKUP(P$1&$J31,'SL9'!$A:$A,1,0)),"Missing","Ok") -> Ok | Q31: =IF(ISERROR(VLOOKUP(Q$1&$J31,'SL9'!$A:$A,1,0)),"Missing","Ok") -> Ok | R31: =IF(OR(M31="Ok",N31="Ok",O31="Ok",P31="Ok",Q31="Ok"),"Ok","ERROR") -> Ok | S31: Okay - Confirm with HEL
B32: =F32 -> tsthlive | C32: =G32 -> SF | D32: =J32 -> SF | F32: =PXi!R32 -> tsthlive | G32: =PXi!C32 -> SF | H32: =PXi!G32 -> SQUARE FEET | J32: SF | K32: =VLOOKUP(J32,'SL9'!C:D,2,0) -> SQUARE FOOT | M32: =IF(ISERROR(VLOOKUP(M$1&$J32,'SL9'!$A:$A,1,0)),"Missing","Ok") -> Ok | N32: =IF(ISERROR(VLOOKUP(N$1&$J32,'SL9'!$A:$A,1,0)),"Missing","Ok") -> Ok | O32: =IF(ISERROR(VLOOKUP(O$1&$J32,'SL9'!$A:$A,1,0)),"Missing","Ok") -> Ok | P32: =IF(ISERROR(VLOOKUP(P$1&$J32,'SL9'!$A:$A,1,0)),"Missing","Ok") -> Ok | Q32: =IF(ISERROR(VLOOKUP(Q$1&$J32,'SL9'!$A:$A,1,0)),"Missing","Ok") -> Ok | R32: =IF(OR(M32="Ok",N32="Ok",O32="Ok",P32="Ok",Q32="Ok"),"Ok","ERROR") -> Ok
B33: =F33 -> tsthlive | C33: =G33 -> LF | D33: =J33 -> FT | F33: =PXi!R33 -> tsthlive | G33: =PXi!C33 -> LF | H33: =PXi!G33 -> LINEAR FEET | J33: FT | K33: =VLOOKUP(J33,'SL9'!C:D,2,0) -> FOOT | M33: =IF(ISERROR(VLOOKUP(M$1&$J33,'SL9'!$A:$A,1,0)),"Missing","Ok") -> Ok | N33: =IF(ISERROR(VLOOKUP(N$1&$J33,'SL9'!$A:$A,1,0)),"Missing","Ok") -> Ok | O33: =IF(ISERROR(VLOOKUP(O$1&$J33,'SL9'!$A:$A,1,0)),"Missing","Ok") -> Ok | P33: =IF(ISERROR(VLOOKUP(P$1&$J33,'SL9'!$A:$A,1,0)),"Missing","Ok") -> Ok | Q33: =IF(ISERROR(VLOOKUP(Q$1&$J33,'SL9'!$A:$A,1,0)),"Missing","Ok") -> Ok | R33: =IF(OR(M33="Ok",N33="Ok",O33="Ok",P33="Ok",Q33="Ok"),"Ok","ERROR") -> Ok
B34: =F34 -> tsthlive | C34: =G34 -> RL | D34: =J34 -> RL | F34: =PXi!R34 -> tsthlive | G34: =PXi!C34 -> RL | H34: =PXi!G34 -> ROLL | J34: RL | K34: =VLOOKUP(J34,'SL9'!C:D,2,0) -> ROLL | M34: =IF(ISERROR(VLOOKUP(M$1&$J34,'SL9'!$A:$A,1,0)),"Missing","Ok") -> Ok | N34: =IF(ISERROR(VLOOKUP(N$1&$J34,'SL9'!$A:$A,1,0)),"Missing","Ok") -> Ok | O34: =IF(ISERROR(VLOOKUP(O$1&$J34,'SL9'!$A:$A,1,0)),"Missing","Ok") -> Ok | P34: =IF(ISERROR(VLOOKUP(P$1&$J34,'SL9'!$A:$A,1,0)),"Missing","Ok") -> Ok | Q34: =IF(ISERROR(VLOOKUP(Q$1&$J34,'SL9'!$A:$A,1,0)),"Missing","Ok") -> Ok | R34: =IF(OR(M34="Ok",N34="Ok",O34="Ok",P34="Ok",Q34="Ok"),"Ok","ERROR") -> Ok
B35: =F35 -> tsthlive | C35: =G35 -> LB | D35: =J35 -> LB | F35: =PXi!R35 -> tsthlive | G35: =PXi!C35 -> LB | H35: =PXi!G35 -> Auto Inserted: LB | J35: LB | K35: =VLOOKUP(J35,'SL9'!C:D,2,0) -> POUND | M35: =IF(ISERROR(VLOOKUP(M$1&$J35,'SL9'!$A:$A,1,0)),"Missing","Ok") -> Ok | N35: =IF(ISERROR(VLOOKUP(N$1&$J35,'SL9'!$A:$A,1,0)),"Missing","Ok") -> Ok | O35: =IF(ISERROR(VLOOKUP(O$1&$J35,'SL9'!$A:$A,1,0)),"Missing","Ok") -> Ok | P35: =IF(ISERROR(VLOOKUP(P$1&$J35,'SL9'!$A:$A,1,0)),"Missing","Ok") -> Ok | Q35: =IF(ISERROR(VLOOKUP(Q$1&$J35,'SL9'!$A:$A,1,0)),"Missing","Ok") -> Ok | R35: =IF(OR(M35="Ok",N35="Ok",O35="Ok",P35="Ok",Q35="Ok"),"Ok","ERROR") -> Ok
B36: =F36 -> tsthlive | C36: =G36 -> CASE | D36: =J36 -> PC | F36: =PXi!R36 -> tsthlive | G36: =PXi!C36 -> CASE | H36: =PXi!G36 -> CASE (12 CANS) | J36: PC | K36: =VLOOKUP(J36,'SL9'!C:D,2,0) -> PIECE | M36: =IF(ISERROR(VLOOKUP(M$1&$J36,'SL9'!$A:$A,1,0)),"Missing","Ok") -> Ok | N36: =IF(ISERROR(VLOOKUP(N$1&$J36,'SL9'!$A:$A,1,0)),"Missing","Ok") -> Ok | O36: =IF(ISERROR(VLOOKUP(O$1&$J36,'SL9'!$A:$A,1,0)),"Missing","Ok") -> Ok | P36: =IF(ISERROR(VLOOKUP(P$1&$J36,'SL9'!$A:$A,1,0)),"Missing","Ok") -> Ok | Q36: =IF(ISERROR(VLOOKUP(Q$1&$J36,'SL9'!$A:$A,1,0)),"Missing","Ok") -> Ok | R36: =IF(OR(M36="Ok",N36="Ok",O36="Ok",P36="Ok",Q36="Ok"),"Ok","ERROR") -> Ok | S36: Not used

Sheet PXi
A1: row_id | B1: sys_tbl_type | C1: sys_tbl_code | D1: tbl_sales_mtd | E1: tbl_sales_ytd | F1: sys_tbl_sales_ly | G1: sys_description | H1: sys_money_value | I1: date_last_change | J1: sys_tbl_alpha_1 | K1: sys_tbl_alpha_2 | L1: sys_tbl_alpha_3 | M1: tbl_alpha_4_1 | N1: tbl_alpha_4_2 | O1: tbl_alpha_4_3 | P1: tbl_alpha_4_4 | Q1: Import_date | R1: Pxi_Site_Ref
A2: 2450 | B2: UM | C2: EA | D2: 0.00 | E2: 0.00 | F2: 0.00 | G2: EACH | H2: 0.000000 | I2: 1899-12-31 | J2: Y | K2: NULL | L2: NULL | M2: NULL | N2: NULL | O2: N | P2: NULL | Q2: 2019-01-13 22:32:00.000 | R2: fai3
A3: 2451 | B3: UM | C3: SET | D3: 0.00 | E3: 0.00 | F3: 0.00 | G3: SET | H3: 0.000000 | I3: 1899-12-31 | J3: Y | K3: NULL | L3: NULL | M3: NULL | N3: NULL | O3: N | P3: NULL | Q3: 2019-01-13 22:32:00.000 | R3: fai3
A4: 2674 | B4: UM | C4: EA | D4: 0.00 | E4: 0.00 | F4: 0.00 | G4: Each | H4: 0.000000 | I4: 1899-12-31 | J4: N | K4: NULL | L4: NULL | M4: NULL | N4: NULL | O4: N | P4: NULL | Q4: 2019-01-13 22:32:00.000 | R4: fmcsg2
A5: 2675 | B5: UM | C5: EACH | D5: 0.00 | E5: 0.00 | F5: 0.00 | G5: Each | H5: 0.000000 | I5: 1899-12-31 | J5: N | K5: NULL | L5: NULL | M5: NULL | N5: NULL | O5: N | P5: NULL | Q5: 2019-01-13 22:32:00.000 | R5: fmcsg2
A6: 2676 | B6: UM | C6: FT | D6: 0.00 | E6: 0.00 | F6: 0.00 | G6: Feet | H6: 0.000000 | I6: 1899-12-31 | J6: N | K6: NULL | L6: NULL | M6: NULL | N6: NULL | O6: N | P6: NULL | Q6: 2019-01-13 22:32:00.000 | R6: fmcsg2
A7: 2677 | B7: UM | C7: LB | D7: 0.00 | E7: 0.00 | F7: 0.00 | G7: Pounds | H7: 0.000000 | I7: 1899-12-31 | J7: N | K7: NULL | L7: NULL | M7: NULL | N7: NULL | O7: N | P7: NULL | Q7: 2019-01-13 22:32:00.000 | R7: fmcsg2
A8: 2678 | B8: UM | C8: MT | D8: 0.00 | E8: 0.00 | F8: 0.00 | G8: Metres | H8: 0.000000 | I8: 1899-12-31 | J8: N | K8: NULL | L8: NULL | M8: NULL | N8: NULL | O8: N | P8: NULL | Q8: 2019-01-13 22:32:00.000 | R8: fmcsg2
A9: 2679 | B9: UM | C9: SF | D9: 0.00 | E9: 0.00 | F9: 0.00 | G9: Square Feet | H9: 0.000000 | I9: 1899-12-31 | J9: N | K9: NULL | L9: NULL | M9: NULL | N9: NULL | O9: N | P9: NULL | Q9: 2019-01-13 22:32:00.000 | R9: fmcsg2
A10: 2680 | B10: UM | C10: GL | D10: 0.00 | E10: 0.00 | F10: 0.00 | G10: Gallon | H10: 0.000000 | I10: 1899-12-31 | J10: N | K10: NULL | L10: NULL | M10: NULL | N10: NULL | O10: N | P10: NULL | Q10: 2019-01-13 22:32:00.000 | R10: fmcsg2
A11: 5270 | B11: UM | C11: RL | D11: 0.00 | E11: 0.00 | F11: 0.00 | G11: Roll | H11: 0.000000 | I11: 1899-12-31 | J11: N | K11: NULL | L11: NULL | M11: NULL | N11: NULL | O11: N | P11: NULL | Q11: 2019-01-13 22:32:00.000 | R11: fmcsg2
A12: 5272 | B12: UM | C12: PK | D12: 0.00 | E12: 0.00 | F12: 0.00 | G12: Pack | H12: 0.000000 | I12: 1899-12-31 | J12: N | K12: NULL | L12: NULL | M12: NULL | N12: NULL | O12: N | P12: NULL | Q12: 2019-01-13 22:32:00.000 | R12: fmcsg2
... A36: 5548 | B36: UM | C36: CASE | D36: 0.00 | E36: 0.00 | F36: 0.00 | G36: CASE (12 CANS) | H36: 0.000000 | I36: 1899-12-31 | J36: N | K36: NULL | L36: NULL | M36: NULL | N36: NULL | O36: N | P36: NULL | Q36: 2019-01-13 22:32:00.000 | R36: tsthlive

Sheet SL9
A1: Lookup | B1: site_ref | C1: u_m | D1: description | E1: precision_ | F1: NoteExistsFlag | G1: RecordDate | H1: RowPointer | I1: CreatedBy | J1: UpdatedBy | K1: CreateDate | L1: InWorkflow | M1: iso_u_m
A2: =B2&C2 -> 1JBTBC | B2: 1JBT | C2: BC | D2: BUCKET | E2: 3 | F2: 0 | G2: 42676.345 | H2: D9F36634-A598-4A70-BD41-BFC4B27C15CB | I2: sa | J2: MorrisC | K2: 42649.358 | L2: 0 | M2: BC
A3: =B3&C3 -> 1JBTBX | B3: 1JBT | C3: BX | D3: BOX | E3: 3 | F3: 0 | G3: 42676.345 | H3: 9E892EB7-8DD0-4087-81F7-18881FC71CFE | I3: sa | J3: MorrisC | K3: 42649.358 | L3: 0 | M3: BX
A4: =B4&C4 -> 1JBTDR | B4: 1JBT | C4: DR | D4: DRUM | E4: 3 | F4: 0 | G4: 42676.345 | H4: 08BE7D05-A783-49FE-94C0-72D6D0A1F477 | I4: sa | J4: MorrisC | K4: 42649.358 | L4: 0 | M4: DR
A5: =B5&C5 -> 1JBTFT | B5: 1JBT | C5: FT | D5: FOOT | E5: 3 | F5: 0 | G5: 42676.345 | H5: 8A46D557-12C1-4128-8CFD-1012C0C90ECF | I5: sa | J5: MorrisC | K5: 42649.358 | L5: 0 | M5: FT
A6: =B6&C6 -> 1JBTGA | B6: 1JBT | C6: GA | D6: GALLON | E6: 3 | F6: 0 | G6: 42676.345 | H6: B0178C73-57B2-43B7-8531-0CDAE8FCE7A6 | I6: sa | J6: MorrisC | K6: 42649.358 | L6: 0 | M6: GA
A7: =B7&C7 -> 1JBTIN | B7: 1JBT | C7: IN | D7: INCH | E7: 3 | F7: 0 | G7: 42676.345 | H7: 609C9E2E-724E-49E0-AC46-9F4646FC0091 | I7: MorrisC | J7: MorrisC | K7: 42676.345 | L7: 0 | M7: IN
A8: =B8&C8 -> 1JBTLB | B8: 1JBT | C8: LB | D8: POUND | E8: 3 | F8: 0 | G8: 42676.345 | H8: 7D408265-6F7B-44A6-9939-15A25736686E | I8: sa | J8: MorrisC | K8: 42649.358 | L8: 0 | M8: LB
A9: =B9&C9 -> 1JBTM | B9: 1JBT | C9: M | D9: METER | E9: 3 | F9: 0 | G9: 42676.345 | H9: AFC58621-1019-48AC-9098-FC2CDCD30F0F | I9: sa | J9: MorrisC | K9: 42649.358 | L9: 0 | M9: MR
A10: =B10&C10 -> 1JBTPC | B10: 1JBT | C10: PC | D10: PIECE | E10: 3 | F10: 0 | G10: 42676.345 | H10: A5C64E9C-AA7A-4402-A067-CFDC2EAC5C77 | I10: sa | J10: MorrisC | K10: 42649.358 | L10: 0 | M10: PC
A11: =B11&C11 -> 1JBTRL | B11: 1JBT | C11: RL | D11: ROLL | E11: 3 | F11: 0 | G11: 42676.345 | H11: 0BFA8AAF-DD09-4A3D-8A55-EFB5441F0F9D | I11: sa | J11: MorrisC | K11: 42649.358 | L11: 0 | M11: RL
A12: =B12&C12 -> 1JBTSF | B12: 1JBT | C12: SF | D12: SQUARE FOOT | E12: 3 | F12: 0 | G12: 42676.345 | H12: BCC287CF-B28C-4AC4-817B-76192039CEBD | I12: sa | J12: MorrisC | K12: 42649.358 | L12: 0 | M12: SF
A13: =B13&C13 -> 1JBTST | B13: 1JBT | C13: ST | D13: SET | E13: 2 | F13: 0 | G13: 43115.514 | H13: F574B540-C44F-477B-BF9A-D78ED752F9E6 | I13: MorrisC | J13: MorrisC | K13: 43115.514 | L13: 0 | M13: ST
... A165: =B165&C165 -> SIN1ST | B165: SIN1 | C165: ST | D165: SET | E165: 2 | F165: 0 | G165: 43165.33 | H165: 348E3638-C754-4DE7-B44D-75F43E83BB5E | I165: MorrisC | J165: MorrisC | K165: 43165.33 | L165: 0 | M165: ST
A166: =B166&C166
A167: =B167&C167
A168: =B168&C168
A169: =B169&C169
A170: =B170&C170
A171: =B171&C171
A172: =B172&C172
A173: =B173&C173
A174: =B174&C174
A175: =B175&C175
A176: =B176&C176
A177: =B177&C177
... A462: =B462&C462

Sheet Kernel Listing
A1: U/M | B1: Description | C1: Planning Precision | D1: ISO U/M | E1: ISO U/M Description
A2: BX | B2: Box | C2: 3 | D2: BX | E2: Box
A3: DR | B3: Drum | C3: 3 | D3: DR | E3: Drum
A4: FT | B4: Foot | C4: 3 | D4: FT | E4: Foot
A5: GA | B5: Gallon (US) | C5: 3 | D5: GA | E5: Gallon
A6: IN | B6: Inch | C6: 3 | D6: IN | E6: Inch
A7: KG | B7: Kilogram | C7: 2 | D7: KG | E7: Kilogram
A8: LB | B8: Pound | C8: 3 | D8: LB | E8: Pound
A9: MR | B9: Meter | C9: 3 | D9: MR | E9: Meter
A10: PC | B10: Piece | C10: 3 | D10: PC | E10: Piece
A11: RL | B11: Roll | C11: 3 | D11: RL | E11: Roll
A12: SF | B12: Square Foot | C12: 3 | D12: SF | E12: Square Foot
A13: SM | B13: Square Meter | C13: 3 | D13: SM | E13: Square Meter
... A15: LT | B15: Liter | C15: 3 | D15: LT | E15: Liter
