Workbook

Sheet Progress
B2: Assignment | C2: Year | D2: Status | E2: 43306 | F2: 43308 | G2: Change | H2: Inception | I2: Change
B3: Ron | C3: 1999 | D3: =IF(E3+F3=0,"Closed","Open") -> Closed | E3: =SUMIFS(Ref!$L:$L,Ref!$N:$N,B3,Ref!$K:$K,C3) -> 0 | F3: =SUMIFS(Data!$B:$B,Data!$E:$E,B3,Data!$A:$A,C3) -> 0 | G3: =+F3-E3 -> 0 | H3: 1 | I3: =+F3-H3 -> -1
B4: Ron | C4: 2001 | D4: =IF(E4+F4=0,"Closed","Open") -> Closed | E4: =SUMIFS(Ref!$L:$L,Ref!$N:$N,B4,Ref!$K:$K,C4) -> 0 | F4: =SUMIFS(Data!$B:$B,Data!$E:$E,B4,Data!$A:$A,C4) -> 0 | G4: =+F4-E4 -> 0 | H4: 1 | I4: =+F4-H4 -> -1
B5: Ron | C5: 2005 | D5: =IF(E5+F5=0,"Closed","Open") -> Closed | E5: =SUMIFS(Ref!$L:$L,Ref!$N:$N,B5,Ref!$K:$K,C5) -> 0 | F5: =SUMIFS(Data!$B:$B,Data!$E:$E,B5,Data!$A:$A,C5) -> 0 | G5: =+F5-E5 -> 0 | H5: 1 | I5: =+F5-H5 -> -1
B6: Ron | C6: 2005 | D6: =IF(E6+F6=0,"Closed","Open") -> Closed | E6: =SUMIFS(Ref!$L:$L,Ref!$N:$N,B6,Ref!$K:$K,C6) -> 0 | F6: =SUMIFS(Data!$B:$B,Data!$E:$E,B6,Data!$A:$A,C6) -> 0 | G6: =+F6-E6 -> 0 | H6: 1 | I6: =+F6-H6 -> -1
B7: Ron | C7: 2006 | D7: =IF(E7+F7=0,"Closed","Open") -> Closed | E7: =SUMIFS(Ref!$L:$L,Ref!$N:$N,B7,Ref!$K:$K,C7) -> 0 | F7: =SUMIFS(Data!$B:$B,Data!$E:$E,B7,Data!$A:$A,C7) -> 0 | G7: =+F7-E7 -> 0 | H7: 10 | I7: =+F7-H7 -> -10
B8: Ron | C8: 2007 | D8: =IF(E8+F8=0,"Closed","Open") -> Closed | E8: =SUMIFS(Ref!$L:$L,Ref!$N:$N,B8,Ref!$K:$K,C8) -> 0 | F8: =SUMIFS(Data!$B:$B,Data!$E:$E,B8,Data!$A:$A,C8) -> 0 | G8: =+F8-E8 -> 0 | H8: 11 | I8: =+F8-H8 -> -11
B9: Ron | C9: 2008 | D9: =IF(E9+F9=0,"Closed","Open") -> Closed | E9: =SUMIFS(Ref!$L:$L,Ref!$N:$N,B9,Ref!$K:$K,C9) -> 0 | F9: =SUMIFS(Data!$B:$B,Data!$E:$E,B9,Data!$A:$A,C9) -> 0 | G9: =+F9-E9 -> 0 | H9: 7 | I9: =+F9-H9 -> -7
B10: Ron | C10: 2009 | D10: =IF(E10+F10=0,"Closed","Open") -> Open | E10: =SUMIFS(Ref!$L:$L,Ref!$N:$N,B10,Ref!$K:$K,C10) -> 2 | F10: =SUMIFS(Data!$B:$B,Data!$E:$E,B10,Data!$A:$A,C10) -> 0 | G10: =+F10-E10 -> -2 | H10: 22 | I10: =+F10-H10 -> -22
B11: Ron | C11: 2010 | D11: =IF(E11+F11=0,"Closed","Open") -> Closed | E11: =SUMIFS(Ref!$L:$L,Ref!$N:$N,B11,Ref!$K:$K,C11) -> 0 | F11: =SUMIFS(Data!$B:$B,Data!$E:$E,B11,Data!$A:$A,C11) -> 0 | G11: =+F11-E11 -> 0 | H11: 14 | I11: =+F11-H11 -> -14
B12: Ron | C12: 2011 | D12: =IF(E12+F12=0,"Closed","Open") -> Closed | E12: =SUMIFS(Ref!$L:$L,Ref!$N:$N,B12,Ref!$K:$K,C12) -> 0 | F12: =SUMIFS(Data!$B:$B,Data!$E:$E,B12,Data!$A:$A,C12) -> 0 | G12: =+F12-E12 -> 0 | H12: 18 | I12: =+F12-H12 -> -18
B13: Ron | C13: 2012 | D13: =IF(E13+F13=0,"Closed","Open") -> Closed | E13: =SUMIFS(Ref!$L:$L,Ref!$N:$N,B13,Ref!$K:$K,C13) -> 0 | F13: =SUMIFS(Data!$B:$B,Data!$E:$E,B13,Data!$A:$A,C13) -> 0 | G13: =+F13-E13 -> 0 | H13: 16 | I13: =+F13-H13 -> -16
B14: Ron | C14: 2013 | D14: =IF(E14+F14=0,"Closed","Open") -> Open | E14: =SUMIFS(Ref!$L:$L,Ref!$N:$N,B14,Ref!$K:$K,C14) -> 3 | F14: =SUMIFS(Data!$B:$B,Data!$E:$E,B14,Data!$A:$A,C14) -> 0 | G14: =+F14-E14 -> -3 | H14: 14 | I14: =+F14-H14 -> -14
... B46: Linda | C46: 2018 | D46: =IF(E46+F46=0,"Closed","Open") -> #REF! | E46: =SUMIFS(Ref!$L:$L,Ref!$N:$N,B46,Ref!$K:$K,C46) -> 176 | F46: =SUMIFS(Data!$B:$B,Data!$E:$E,B46,Data!$A:$A,C46) -> #REF! | G46: =+F46-E46 -> #REF! | H46: 184 | I46: =+F46-H46 -> #REF!
B47: New | F47: =SUMIFS(Data!$B:$B,Data!$E:$E,B47) -> #REF! | G47: =+F47-E47 -> #REF! | H47: =SUMIFS(Data!$G:$G,Data!$D:$D,D47,Data!$E:$E,E47) -> 0 | I47: =+F47-H47 -> #REF!
B48: Grand Total | E48: =SUM(E3:E47) -> 567 | F48: =SUM(F3:F47) -> #REF! | G48: =SUM(G3:G47) -> #REF! | H48: =SUM(H3:H47) -> 1074 | I48: =SUM(I3:I47) -> #REF!
G49: =-G48/E48 -> #REF! | I49: =-I48/H48 -> #REF!

Sheet Summary
A3: Sum of Count | B3: Assign
A4: Row Labels | B4: Bonnie | C4: Greg | D4: Linda | E4: Ron | F4: Grand Total
A5: 2016 | E5: 2 | F5: 2
A6: 2017 | B6: 3 | C6: 8 | D6: 19 | E6: 14 | F6: 44
A7: 2018 | B7: 111 | C7: 61 | D7: 184 | E7: 112 | F7: 468
A8: Grand Total | B8: 114 | C8: 69 | D8: 203 | E8: 128 | F8: 514

Sheet Data
A1: Year | B1: Count | C1: Prefix | D1: Assignment | E1: Prev Assignment | F1: Ref Errors | G1: po_stat | H1: line_stat | I1: type | J1: po_num | K1: po_line | L1: vend_num | M1: name | N1: drop_ship_no | O1: order_date | P1: item | Q1: qty_ordered | R1: qty_received | S1: qty_rejected | T1: qty_voucher | U1: qty_returned | V1: item_cost | W1: ref_type | X1: ref_num | Y1: ref_line_suf | Z1: ref_release | AA1: CreatedBy
A2: =YEAR(O2) -> 2016 | B2: =IF(J2=J1,0,1) -> 1 | C2: =LEFT(J2,2) -> A0 | D2: =VLOOKUP(AA2,Ref!A:B,2,0) -> Ron | E2: =IFERROR(VLOOKUP(J2&K2,Ref!J:N,5,0),"New") -> Ron | F2: =IF(W2<>"K","",IF(ISERROR(VLOOKUP(X2&Y2&Z2,'Open Prjs'!A:A,1,0)),"Prj Error","")) | G2: O | H2: O | I2: R | J2: A000091548 | K2: 1 | L2: V008784 | M2: John Bean Technologies ( Kunshan) Co., LTD | N2: N/A | O2: 42523 | P2: P&G BATCH ORDER - | Q2: 5660340 | R2: 3464641.7 | S2: 0 | T2: 3464641.7 | U2: 0 | V2: 1 | W2: K | X2: A000007568 | Y2: 360 | Z2: 40 | AA2: MoranRo
A3: =YEAR(O3) -> 2016 | B3: =IF(J3=J2,0,1) -> 1 | C3: =LEFT(J3,2) -> A0 | D3: =VLOOKUP(AA3,Ref!A:B,2,0) -> Ron | E3: =IFERROR(VLOOKUP(J3&K3,Ref!J:N,5,0),"New") -> Ron | F3: =IF(W3<>"K","",IF(ISERROR(VLOOKUP(X3&Y3&Z3,'Open Prjs'!A:A,1,0)),"Prj Error","")) | G3: O | H3: F | I3: R | J3: A000093260 | K3: 1 | L3: V008784 | M3: John Bean Technologies ( Kunshan) Co., LTD | N3: FM00999 | O3: 42726 | P3: 4150-0003 | Q3: 1 | R3: 1 | S3: 0 | T3: 0.129845 | U3: 0 | V3: 52724 | W3: K | X3: A000007603 | Y3: 360 | Z3: 1 | AA3: MoranRo
A4: =YEAR(O4) -> 2017 | B4: =IF(J4=#REF!,0,1) -> #REF! | C4: =LEFT(J4,2) -> A0 | D4: =VLOOKUP(AA4,Ref!A:B,2,0) -> Linda | E4: =IFERROR(VLOOKUP(J4&K4,Ref!J:N,5,0),"New") -> Linda | F4: =IF(W4<>"K","",IF(ISERROR(VLOOKUP(X4&Y4&Z4,'Open Prjs'!A:A,1,0)),"Prj Error","")) | G4: O | H4: O | I4: R | J4: A000094337 | K4: 1 | L4: V007908 | M4: John Bean Technologies Ltd. (UK) | N4: Jobsite | O4: 42845 | P4: Erfurt Support for April 2017 | Q4: 15000 | R4: 4817.78 | S4: 0 | T4: 4817.78 | U4: 0 | V4: 1 | W4: K | X4: WE00007542 | Y4: 980 | Z4: 3 | AA4: McCracL
A5: =YEAR(O5) -> 2017 | B5: =IF(J5=#REF!,0,1) -> #REF! | C5: =LEFT(J5,2) -> A0 | D5: =VLOOKUP(AA5,Ref!A:B,2,0) -> Greg | E5: =IFERROR(VLOOKUP(J5&K5,Ref!J:N,5,0),"New") -> Greg | F5: =IF(W5<>"K","",IF(ISERROR(VLOOKUP(X5&Y5&Z5,'Open Prjs'!A:A,1,0)),"Prj Error","")) | G5: O | H5: F | I5: R | J5: A000094450 | K5: 1 | L5: V008862 | M5: JOHN BEAN TECHNOLOGIES CORPORATION (WOLF-TEC) | N5: FM00999 | O5: 42852 | P5: A7608-5143 | Q5: 26 | R5: 26 | S5: 0 | T5: 0 | U5: 0 | V5: 288.06 | W5: I | X5: NULL | Y5: 0 | Z5: 0 | AA5: ForceGr
A6: =YEAR(O6) -> 2017 | B6: =IF(J6=#REF!,0,1) -> #REF! | C6: =LEFT(J6,2) -> A0 | D6: =VLOOKUP(AA6,Ref!A:B,2,0) -> Ron | E6: =IFERROR(VLOOKUP(J6&K6,Ref!J:N,5,0),"New") -> Ron | F6: =IF(W6<>"K","",IF(ISERROR(VLOOKUP(X6&Y6&Z6,'Open Prjs'!A:A,1,0)),"Prj Error","")) | G6: O | H6: O | I6: R | J6: A000094509 | K6: 1 | L6: V008989 | M6: John Bean Technologies ( Kunshan) Co., LTD | N6: Jobsite | O6: 42857 | P6: 10/EACH P/N A7620-1001-A | Q6: 5376150 | R6: 4862170.3 | S6: 0 | T6: 4846872.8 | U6: 0 | V6: 1 | W6: K | X6: A000007620 | Y6: 360 | Z6: 1 | AA6: MoranRo
A7: =YEAR(O7) -> 2017 | B7: =IF(J7=#REF!,0,1) -> #REF! | C7: =LEFT(J7,2) -> A0 | D7: =VLOOKUP(AA7,Ref!A:B,2,0) -> Ron | E7: =IFERROR(VLOOKUP(J7&K7,Ref!J:N,5,0),"New") -> Ron | F7: =IF(W7<>"K","",IF(ISERROR(VLOOKUP(X7&Y7&Z7,'Open Prjs'!A:A,1,0)),"Prj Error","")) | G7: O | H7: O | I7: R | J7: A000095757 | K7: 1 | L7: V007908 | M7: John Bean Technologies Ltd. (UK) | N7: Jobsite | O7: 42984 | P7: ON-SITE SUPPORT AT ERFURT | Q7: 12000 | R7: 0 | S7: 0 | T7: 0 | U7: 0 | V7: 1 | W7: K | X7: WE00007542 | Y7: 970 | Z7: 19 | AA7: MoranRo
A8: =YEAR(O8) -> 2018 | B8: =IF(J8=#REF!,0,1) -> #REF! | C8: =LEFT(J8,2) -> A0 | D8: =VLOOKUP(AA8,Ref!A:B,2,0) -> Greg | E8: =IFERROR(VLOOKUP(J8&K8,Ref!J:N,5,0),"New") -> Greg | F8: =IF(W8<>"K","",IF(ISERROR(VLOOKUP(X8&Y8&Z8,'Open Prjs'!A:A,1,0)),"Prj Error","")) | G8: O | H8: O | I8: R | J8: A000097727 | K8: 1 | L8: V008784 | M8: John Bean Technologies ( Kunshan) Co., LTD | N8: NULL | O8: 43194 | P8: A7556-5046 | Q8: 7 | R8: 0 | S8: 0 | T8: 0 | U8: 0 | V8: 490 | W8: I | X8: NULL | Y8: 0 | Z8: 0 | AA8: ForceGr
A9: =YEAR(O9) -> 2018 | B9: =IF(J9=#REF!,0,1) -> #REF! | C9: =LEFT(J9,2) -> A0 | D9: =VLOOKUP(AA9,Ref!A:B,2,0) -> Linda | E9: =IFERROR(VLOOKUP(J9&K9,Ref!J:N,5,0),"New") -> Linda | F9: =IF(W9<>"K","",IF(ISERROR(VLOOKUP(X9&Y9&Z9,'Open Prjs'!A:A,1,0)),"Prj Error","")) | G9: O | H9: F | I9: R | J9: A000098041 | K9: 1 | L9: V007908 | M9: John Bean Technologies Ltd. (UK) | N9: NULL | O9: 43222 | P9: 3110-204-002 | Q9: 30 | R9: 30 | S9: 0 | T9: 0 | U9: 0 | V9: 18.606 | W9: I | X9: NULL | Y9: 0 | Z9: 0 | AA9: McCracL
A10: =YEAR(O10) -> 2018 | B10: =IF(J10=J9,0,1) -> 0 | C10: =LEFT(J10,2) -> A0 | D10: =VLOOKUP(AA10,Ref!A:B,2,0) -> Linda | E10: =IFERROR(VLOOKUP(J10&K10,Ref!J:N,5,0),"New") -> Linda | F10: =IF(W10<>"K","",IF(ISERROR(VLOOKUP(X10&Y10&Z10,'Open Prjs'!A:A,1,0)),"Prj Error","")) | G10: O | H10: O | I10: R | J10: A000098041 | K10: 2 | L10: V007908 | M10: John Bean Technologies Ltd. (UK) | N10: NULL | O10: 43222 | P10: 3110-206-045 | Q10: 5 | R10: 1 | S10: 0 | T10: 0 | U10: 0 | V10: 36.876 | W10: I | X10: NULL | Y10: 0 | Z10: 0 | AA10: McCracL
A11: =YEAR(O11) -> 2018 | B11: =IF(J11=#REF!,0,1) -> #REF! | C11: =LEFT(J11,2) -> A0 | D11: =VLOOKUP(AA11,Ref!A:B,2,0) -> Greg | E11: =IFERROR(VLOOKUP(J11&K11,Ref!J:N,5,0),"New") -> Greg | F11: =IF(W11<>"K","",IF(ISERROR(VLOOKUP(X11&Y11&Z11,'Open Prjs'!A:A,1,0)),"Prj Error","")) | G11: O | H11: O | I11: R | J11: A000098175 | K11: 1 | L11: V008784 | M11: John Bean Technologies ( Kunshan) Co., LTD | N11: NULL | O11: 43241 | P11: A7556-5046 | Q11: 14 | R11: 0 | S11: 0 | T11: 0 | U11: 0 | V11: 490 | W11: I | X11: NULL | Y11: 0 | Z11: 0 | AA11: ForceGr
A12: =YEAR(O12) -> 2018 | B12: =IF(J12=#REF!,0,1) -> #REF! | C12: =LEFT(J12,2) -> A0 | D12: =VLOOKUP(AA12,Ref!A:B,2,0) -> Linda | E12: =IFERROR(VLOOKUP(J12&K12,Ref!J:N,5,0),"New") -> Linda | F12: =IF(W12<>"K","",IF(ISERROR(VLOOKUP(X12&Y12&Z12,'Open Prjs'!A:A,1,0)),"Prj Error","")) | G12: O | H12: O | I12: R | J12: A000098323 | K12: 1 | L12: V007908 | M12: John Bean Technologies Ltd. (UK) | N12: NULL | O12: 43258 | P12: 3110-206-040 | Q12: 6 | R12: 0 | S12: 0 | T12: 0 | U12: 0 | V12: 111.73345 | W12: I | X12: NULL | Y12: 0 | Z12: 0 | AA12: McCracL
A13: =YEAR(O13) -> 2018 | B13: =IF(J13=#REF!,0,1) -> #REF! | C13: =LEFT(J13,2) -> A0 | D13: =VLOOKUP(AA13,Ref!A:B,2,0) -> Linda | E13: =IFERROR(VLOOKUP(J13&K13,Ref!J:N,5,0),"New") -> Linda | F13: =IF(W13<>"K","",IF(ISERROR(VLOOKUP(X13&Y13&Z13,'Open Prjs'!A:A,1,0)),"Prj Error","")) | G13: O | H13: O | I13: R | J13: A000098347 | K13: 1 | L13: V007908 | M13: John Bean Technologies Ltd. (UK) | N13: FM00999 | O13: 43262 | P13: 3110-052-175-350 | Q13: 20 | R13: 0 | S13: 0 | T13: 0 | U13: 0 | V13: 334.087 | W13: I | X13: NULL | Y13: 0 | Z13: 0 | AA13: McCracL
A14: =YEAR(O14) -> 2018 | B14: =IF(J14=J13,0,1) -> 0 | C14: =LEFT(J14,2) -> A0 | D14: =VLOOKUP(AA14,Ref!A:B,2,0) -> Linda | E14: =IFERROR(VLOOKUP(J14&K14,Ref!J:N,5,0),"New") -> Linda | F14: =IF(W14<>"K","",IF(ISERROR(VLOOKUP(X14&Y14&Z14,'Open Prjs'!A:A,1,0)),"Prj Error","")) | G14: O | H14: O | I14: R | J14: A000098347 | K14: 2 | L14: V007908 | M14: John Bean Technologies Ltd. (UK) | N14: FM00999 | O14: 43262 | P14: 3110-052-250-550 | Q14: 1 | R14: 0 | S14: 0 | T14: 0 | U14: 0 | V14: 695.05 | W14: I | X14: NULL | Y14: 0 | Z14: 0 | AA14: McCracL
A15: =YEAR(O15) -> 2018 | B15: =IF(J15=#REF!,0,1) -> #REF! | C15: =LEFT(J15,2) -> A0 | D15: =VLOOKUP(AA15,Ref!A:B,2,0) -> Linda | E15: =IFERROR(VLOOKUP(J15&K15,Ref!J:N,5,0),"New") -> Linda | F15: =IF(W15<>"K","",IF(ISERROR(VLOOKUP(X15&Y15&Z15,'Open Prjs'!A:A,1,0)),"Prj Error","")) | G15: O | H15: O | I15: R | J15: A000098374 | K15: 1 | L15: V007908 | M15: John Bean Technologies Ltd. (UK) | N15: NULL | O15: 43264 | P15: 3110-200-001 | Q15: 25 | R15: 0 | S15: 0 | T15: 0 | U15: 0 | V15: 14.5411 | W15: I | X15: NULL | Y15: 0 | Z15: 0 | AA15: McCracL
A16: =YEAR(O16) -> 2018 | B16: =IF(J16=J15,0,1) -> 0 | C16: =LEFT(J16,2) -> A0 | D16: =VLOOKUP(AA16,Ref!A:B,2,0) -> Linda | E16: =IFERROR(VLOOKUP(J16&K16,Ref!J:N,5,0),"New") -> Linda | F16: =IF(W16<>"K","",IF(ISERROR(VLOOKUP(X16&Y16&Z16,'Open Prjs'!A:A,1,0)),"Prj Error","")) | G16: O | H16: O | I16: R | J16: A000098374 | K16: 2 | L16: V007908 | M16: John Bean Technologies Ltd. (UK) | N16: NULL | O16: 43264 | P16: 3110-200-015 | Q16: 10 | R16: 0 | S16: 0 | T16: 0 | U16: 0 | V16: 22.076 | W16: I | X16: NULL | Y16: 0 | Z16: 0 | AA16: McCracL
A17: =YEAR(O17) -> 2018 | B17: =IF(J17=#REF!,0,1) -> #REF! | C17: =LEFT(J17,2) -> A0 | D17: =VLOOKUP(AA17,Ref!A:B,2,0) -> Linda | E17: =IFERROR(VLOOKUP(J17&K17,Ref!J:N,5,0),"New") -> Linda | F17: =IF(W17<>"K","",IF(ISERROR(VLOOKUP(X17&Y17&Z17,'Open Prjs'!A:A,1,0)),"Prj Error","")) | G17: O | H17: O | I17: R | J17: A000098506 | K17: 1 | L17: V007908 | M17: John Bean Technologies Ltd. (UK) | N17: NULL | O17: 43277 | P17: 3110-206-005-KIT | Q17: 5 | R17: 0 | S17: 0 | T17: 0 | U17: 0 | V17: 22.95474 | W17: I | X17: NULL | Y17: 0 | Z17: 0 | AA17: McCracL
A18: =YEAR(O18) -> 2018 | B18: =IF(J18=#REF!,0,1) -> #REF! | C18: =LEFT(J18,2) -> A0 | D18: =VLOOKUP(AA18,Ref!A:B,2,0) -> Linda | E18: =IFERROR(VLOOKUP(J18&K18,Ref!J:N,5,0),"New") -> Linda | F18: =IF(W18<>"K","",IF(ISERROR(VLOOKUP(X18&Y18&Z18,'Open Prjs'!A:A,1,0)),"Prj Error","")) | G18: O | H18: O | I18: R | J18: A000098532 | K18: 1 | L18: V007908 | M18: John Bean Technologies Ltd. (UK) | N18: FM00999 | O18: 43280 | P18: 3110-052-100-200 | Q18: 30 | R18: 0 | S18: 0 | T18: 0 | U18: 0 | V18: 212.536 | W18: I | X18: NULL | Y18: 0 | Z18: 0 | AA18: McCracL
A19: =YEAR(O19) -> 2018 | B19: =IF(J19=J18,0,1) -> 0 | C19: =LEFT(J19,2) -> A0 | D19: =VLOOKUP(AA19,Ref!A:B,2,0) -> Linda | E19: =IFERROR(VLOOKUP(J19&K19,Ref!J:N,5,0),"New") -> Linda | F19: =IF(W19<>"K","",IF(ISERROR(VLOOKUP(X19&Y19&Z19,'Open Prjs'!A:A,1,0)),"Prj Error","")) | G19: O | H19: O | I19: R | J19: A000098532 | K19: 2 | L19: V007908 | M19: John Bean Technologies Ltd. (UK) | N19: FM00999 | O19: 43280 | P19: 3110-052-175-350 | Q19: 25 | R19: 0 | S19: 0 | T19: 0 | U19: 0 | V19: 334.087 | W19: I | X19: NULL | Y19: 0 | Z19: 0 | AA19: McCracL
A20: =YEAR(O20) -> 2018 | B20: =IF(J20=J19,0,1) -> 0 | C20: =LEFT(J20,2) -> A0 | D20: =VLOOKUP(AA20,Ref!A:B,2,0) -> Linda | E20: =IFERROR(VLOOKUP(J20&K20,Ref!J:N,5,0),"New") -> Linda | F20: =IF(W20<>"K","",IF(ISERROR(VLOOKUP(X20&Y20&Z20,'Open Prjs'!A:A,1,0)),"Prj Error","")) | G20: O | H20: O | I20: R | J20: A000098532 | K20: 3 | L20: V007908 | M20: John Bean Technologies Ltd. (UK) | N20: FM00999 | O20: 43280 | P20: 3110-052-250-550 | Q20: 26 | R20: 0 | S20: 0 | T20: 0 | U20: 0 | V20: 695.05 | W20: I | X20: NULL | Y20: 0 | Z20: 0 | AA20: McCracL
A21: =YEAR(O21) -> 2018 | B21: =IF(J21=J20,0,1) -> 1 | C21: =LEFT(J21,2) -> A0 | D21: =VLOOKUP(AA21,Ref!A:B,2,0) -> Linda | E21: =IFERROR(VLOOKUP(J21&K21,Ref!J:N,5,0),"New") -> Linda | F21: =IF(W21<>"K","",IF(ISERROR(VLOOKUP(X21&Y21&Z21,'Open Prjs'!A:A,1,0)),"Prj Error","")) | G21: O | H21: O | I21: R | J21: A000098533 | K21: 1 | L21: V007908 | M21: John Bean Technologies Ltd. (UK) | N21: NULL | O21: 43280 | P21: 3110-202-010 | Q21: 400 | R21: 0 | S21: 0 | T21: 0 | U21: 0 | V21: 0.5074 | W21: I | X21: NULL | Y21: 0 | Z21: 0 | AA21: McCracL
A22: =YEAR(O22) -> 2018 | B22: =IF(J22=J21,0,1) -> 0 | C22: =LEFT(J22,2) -> A0 | D22: =VLOOKUP(AA22,Ref!A:B,2,0) -> Linda | E22: =IFERROR(VLOOKUP(J22&K22,Ref!J:N,5,0),"New") -> Linda | F22: =IF(W22<>"K","",IF(ISERROR(VLOOKUP(X22&Y22&Z22,'Open Prjs'!A:A,1,0)),"Prj Error","")) | G22: O | H22: O | I22: R | J22: A000098533 | K22: 2 | L22: V007908 | M22: John Bean Technologies Ltd. (UK) | N22: NULL | O22: 43280 | P22: 3110-204-002 | Q22: 40 | R22: 0 | S22: 0 | T22: 0 | U22: 0 | V22: 18.606 | W22: I | X22: NULL | Y22: 0 | Z22: 0 | AA22: McCracL
A23: =YEAR(O23) -> 2018 | B23: =IF(J23=J22,0,1) -> 0 | C23: =LEFT(J23,2) -> A0 | D23: =VLOOKUP(AA23,Ref!A:B,2,0) -> Linda | E23: =IFERROR(VLOOKUP(J23&K23,Ref!J:N,5,0),"New") -> Linda | F23: =IF(W23<>"K","",IF(ISERROR(VLOOKUP(X23&Y23&Z23,'Open Prjs'!A:A,1,0)),"Prj Error","")) | G23: O | H23: O | I23: R | J23: A000098533 | K23: 3 | L23: V007908 | M23: John Bean Technologies Ltd. (UK) | N23: NULL | O23: 43280 | P23: 3110-206-070 | Q23: 100 | R23: 0 | S23: 0 | T23: 0 | U23: 0 | V23: 32.044199 | W23: I | X23: NULL | Y23: 0 | Z23: 0 | AA23: McCracL
A24: =YEAR(O24) -> 2018 | B24: =IF(J24=J23,0,1) -> 0 | C24: =LEFT(J24,2) -> A0 | D24: =VLOOKUP(AA24,Ref!A:B,2,0) -> Linda | E24: =IFERROR(VLOOKUP(J24&K24,Ref!J:N,5,0),"New") -> Linda | F24: =IF(W24<>"K","",IF(ISERROR(VLOOKUP(X24&Y24&Z24,'Open Prjs'!A:A,1,0)),"Prj Error","")) | G24: O | H24: O | I24: R | J24: A000098533 | K24: 4 | L24: V007908 | M24: John Bean Technologies Ltd. (UK) | N24: NULL | O24: 43280 | P24: 3111-200-055 | Q24: 22 | R24: 0 | S24: 0 | T24: 0 | U24: 0 | V24: 176.922 | W24: I | X24: NULL | Y24: 0 | Z24: 0 | AA24: McCracL
A25: =YEAR(O25) -> 2018 | B25: =IF(J25=#REF!,0,1) -> #REF! | C25: =LEFT(J25,2) -> A0 | D25: =VLOOKUP(AA25,Ref!A:B,2,0) -> Linda | E25: =IFERROR(VLOOKUP(J25&K25,Ref!J:N,5,0),"New") -> Linda | F25: =IF(W25<>"K","",IF(ISERROR(VLOOKUP(X25&Y25&Z25,'Open Prjs'!A:A,1,0)),"Prj Error","")) | G25: O | H25: F | I25: R | J25: A000098600 | K25: 1 | L25: V007908 | M25: John Bean Technologies Ltd. (UK) | N25: NULL | O25: 43291 | P25: UK1147-5021 | Q25: 7 | R25: 7 | S25: 0 | T25: 0 | U25: 0 | V25: 4.021 | W25: I | X25: NULL | Y25: 0 | Z25: 0 | AA25: McCracL
A26: =YEAR(O26) -> 2018 | B26: =IF(J26=J25,0,1) -> 0 | C26: =LEFT(J26,2) -> A0 | D26: =VLOOKUP(AA26,Ref!A:B,2,0) -> Linda | E26: =IFERROR(VLOOKUP(J26&K26,Ref!J:N,5,0),"New") -> Linda | F26: =IF(W26<>"K","",IF(ISERROR(VLOOKUP(X26&Y26&Z26,'Open Prjs'!A:A,1,0)),"Prj Error","")) | G26: O | H26: F | I26: R | J26: A000098600 | K26: 2 | L26: V007908 | M26: John Bean Technologies Ltd. (UK) | N26: NULL | O26: 43291 | P26: UK1147-5023 | Q26: 7 | R26: 7 | S26: 0 | T26: 0 | U26: 0 | V26: 6.037 | W26: I | X26: NULL | Y26: 0 | Z26: 0 | AA26: McCracL
A27: =YEAR(O27) -> 2018 | B27: =IF(J27=#REF!,0,1) -> #REF! | C27: =LEFT(J27,2) -> A0 | D27: =VLOOKUP(AA27,Ref!A:B,2,0) -> Linda | E27: =IFERROR(VLOOKUP(J27&K27,Ref!J:N,5,0),"New") -> New | F27: =IF(W27<>"K","",IF(ISERROR(VLOOKUP(X27&Y27&Z27,'Open Prjs'!A:A,1,0)),"Prj Error","")) | G27: O | H27: O | I27: R | J27: A000098734 | K27: 1 | L27: V007908 | M27: John Bean Technologies Ltd. (UK) | N27: FM00999 | O27: 43306 | P27: 3110-052-100-200 | Q27: 15 | R27: 0 | S27: 0 | T27: 0 | U27: 0 | V27: 212.536 | W27: I | X27: NULL | Y27: 0 | Z27: 0 | AA27: McCracL
A28: =YEAR(O28) -> 2018 | B28: =IF(J28=J27,0,1) -> 0 | C28: =LEFT(J28,2) -> A0 | D28: =VLOOKUP(AA28,Ref!A:B,2,0) -> Linda | E28: =IFERROR(VLOOKUP(J28&K28,Ref!J:N,5,0),"New") -> New | F28: =IF(W28<>"K","",IF(ISERROR(VLOOKUP(X28&Y28&Z28,'Open Prjs'!A:A,1,0)),"Prj Error","")) | G28: O | H28: O | I28: R | J28: A000098734 | K28: 2 | L28: V007908 | M28: John Bean Technologies Ltd. (UK) | N28: FM00999 | O28: 43306 | P28: 3110-052-175-350 | Q28: 20 | R28: 0 | S28: 0 | T28: 0 | U28: 0 | V28: 334.087 | W28: I | X28: NULL | Y28: 0 | Z28: 0 | AA28: McCracL
A29: =YEAR(O29) -> 2018 | B29: =IF(J29=#REF!,0,1) -> #REF! | C29: =LEFT(J29,2) -> A0 | D29: =VLOOKUP(AA29,Ref!A:B,2,0) -> Linda | E29: =IFERROR(VLOOKUP(J29&K29,Ref!J:N,5,0),"New") -> New | F29: =IF(W29<>"K","",IF(ISERROR(VLOOKUP(X29&Y29&Z29,'Open Prjs'!A:A,1,0)),"Prj Error","")) | G29: O | H29: O | I29: R | J29: A000098746 | K29: 1 | L29: V007908 | M29: John Bean Technologies Ltd. (UK) | N29: NULL | O29: 43307 | P29: 3110-206-070 | Q29: 100 | R29: 0 | S29: 0 | T29: 0 | U29: 0 | V29: 32.0442 | W29: I | X29: NULL | Y29: 0 | Z29: 0 | AA29: McCracL
A30: =YEAR(O30) -> 2018 | B30: =IF(J30=J29,0,1) -> 0 | C30: =LEFT(J30,2) -> A0 | D30: =VLOOKUP(AA30,Ref!A:B,2,0) -> Linda | E30: =IFERROR(VLOOKUP(J30&K30,Ref!J:N,5,0),"New") -> New | F30: =IF(W30<>"K","",IF(ISERROR(VLOOKUP(X30&Y30&Z30,'Open Prjs'!A:A,1,0)),"Prj Error","")) | G30: O | H30: O | I30: R | J30: A000098746 | K30: 2 | L30: V007908 | M30: John Bean Technologies Ltd. (UK) | N30: NULL | O30: 43307 | P30: 3111-200-055 | Q30: 10 | R30: 0 | S30: 0 | T30: 0 | U30: 0 | V30: 176.9222 | W30: I | X30: NULL | Y30: 0 | Z30: 0 | AA30: McCracL

Sheet Ref
A1: CreatedBy | B1: Assignment | D1: ref | E1: Prefix | F1: DS | G1: Assignment | H1: Warehouse | J1: Ref | K1: Year | L1: Count | M1: Prefix | N1: Assignment | O1: Prev Assignment | P1: Ref Errors | Q1: po_stat | R1: line_stat | S1: type | T1: po_num | U1: po_line
A2: sa | B2: Ron | D2: =E2&F2 -> A0NULL | E2: A0 | F2: NULL | G2: Ron | H2: Kingston | J2: =T2&U2 -> A0000725251 | K2: 2009 | L2: 1 | M2: A0 | N2: Ron | O2: Ron | Q2: O | R2: O | S2: R | T2: A000072525 | U2: 1
A3: DeGideoG | B3: Ron | D3: =E3&F3 -> A0FM00999 | E3: A0 | F3: FM00999 | G3: Ron | J3: =T3&U3 -> A0000738061 | K3: 2009 | L3: 1 | M3: A0 | N3: Ron | O3: Ron | P3: Prj Error | Q3: O | R3: F | S3: R | T3: A000073806 | U3: 1
A4: JastrzM | B4: Ron | D4: =E4&F4 -> A0Jobsite | E4: A0 | F4: Jobsite | G4: Ron | J4: =T4&U4 -> A0000784638 | K4: 2011 | L4: 1 | M4: A0 | N4: Linda | O4: Linda | Q4: O | R4: F | S4: R | T4: A000078463 | U4: 8
A5: KentP | B5: Greg | D5: =E5&F5 -> ASNULL | E5: AS | F5: NULL | G5: Ron | H5: Kingston | J5: =T5&U5 -> A0000825531 | K5: 2013 | L5: 1 | M5: A0 | N5: Ron | O5: Ron | Q5: O | R5: F | S5: R | T5: A000082553 | U5: 1
A6: McCracL | B6: Linda | D6: =E6&F6 -> A0N/A | E6: A0 | F6: N/A | G6: Ron | J6: =T6&U6 -> A0000830553 | K6: 2013 | L6: 1 | M6: A0 | N6: Linda | O6: Linda | P6: Prj Error | Q6: O | R6: O | S6: R | T6: A000083055 | U6: 3
A7: LandryD | B7: Ron | D7: =E7&F7 -> C0NULL | E7: C0 | F7: NULL | G7: Ron | H7: Kingston | J7: =T7&U7 -> A0000834601 | K7: 2013 | L7: 1 | M7: A0 | N7: Ron | O7: Ron | Q7: O | R7: F | S7: R | T7: A000083460 | U7: 1
A8: SargentG | B8: Ron | D8: =E8&F8 -> ABNULL | E8: AB | F8: NULL | G8: Ron | H8: Kingston | J8: =T8&U8 -> A0000834602 | K8: 2013 | L8: 0 | M8: A0 | N8: Ron | O8: Ron | Q8: O | R8: F | S8: R | T8: A000083460 | U8: 2
A9: WilsonB | B9: Greg | D9: =E9&F9 -> CSNULL | E9: CS | F9: NULL | G9: Ron | H9: Kingston | J9: =T9&U9 -> A0000841531 | K9: 2013 | L9: 1 | M9: A0 | N9: Ron | O9: Ron | P9: Prj Error | Q9: O | R9: F | S9: R | T9: A000084153 | U9: 1
A10: TinneyJ | B10: Ron | J10: =T10&U10 -> A0000842331 | K10: 2013 | L10: 1 | M10: A0 | N10: Linda | O10: Linda | Q10: O | R10: F | S10: R | T10: A000084233 | U10: 1
A11: KentPat | B11: Greg | J11: =T11&U11 -> A0000842332 | K11: 2013 | L11: 0 | M11: A0 | N11: Linda | O11: Linda | Q11: O | R11: F | S11: R | T11: A000084233 | U11: 2
A12: MoranRo | B12: Ron | J12: =T12&U12 -> A00008495411 | K12: 2013 | L12: 1 | M12: A0 | N12: Linda | O12: Linda | Q12: O | R12: F | S12: R | T12: A000084954 | U12: 11
A13: SherryB | B13: Bonnie | J13: =T13&U13 -> A0000852342 | K13: 2014 | L13: 1 | M13: A0 | N13: Greg | O13: Greg | P13: Prj Error | Q13: O | R13: F | S13: R | T13: A000085234 | U13: 2
A14: ForceGr | B14: Greg | J14: =T14&U14 -> A0000857001 | K14: 2014 | L14: 1 | M14: A0 | N14: Ron | O14: Ron | Q14: O | R14: F | S14: R | T14: A000085700 | U14: 1
A15: DwyerL | B15: Bonnie | J15: =T15&U15 -> A0000859091 | K15: 2014 | L15: 1 | M15: A0 | N15: Greg | O15: Greg | Q15: O | R15: F | S15: R | T15: A000085909 | U15: 1
A16: ChristJa | B16: Bonnie | J16: =T16&U16 -> A0000862141 | K16: 2014 | L16: 1 | M16: A0 | N16: Linda | O16: Linda | Q16: O | R16: F | S16: R | T16: A000086214 | U16: 1
J17: =T17&U17 -> A0000864831 | K17: 2014 | L17: 1 | M17: A0 | N17: Ron | O17: Ron | Q17: O | R17: F | S17: R | T17: A000086483 | U17: 1
J18: =T18&U18 -> A0000871452 | K18: 2014 | L18: 1 | M18: A0 | N18: Greg | O18: Greg | Q18: O | R18: F | S18: R | T18: A000087145 | U18: 2
J19: =T19&U19 -> A0000878591 | K19: 2015 | L19: 1 | M19: A0 | N19: Linda | O19: Linda | Q19: O | R19: F | S19: R | T19: A000087859 | U19: 1
J20: =T20&U20 -> A0000879922 | K20: 2015 | L20: 1 | M20: A0 | N20: Ron | O20: Ron | Q20: O | R20: F | S20: R | T20: A000087992 | U20: 2
J21: =T21&U21 -> A0000880971 | K21: 2015 | L21: 1 | M21: A0 | N21: Ron | O21: Ron | Q21: O | R21: F | S21: R | T21: A000088097 | U21: 1
J22: =T22&U22 -> A0000882791 | K22: 2015 | L22: 1 | M22: A0 | N22: Ron | O22: Ron | Q22: O | R22: F | S22: R | T22: A000088279 | U22: 1
J23: =T23&U23 -> A0000884961 | K23: 2015 | L23: 1 | M23: A0 | N23: Ron | O23: Ron | Q23: O | R23: F | S23: R | T23: A000088496 | U23: 1
J24: =T24&U24 -> A0000885371 | K24: 2015 | L24: 1 | M24: A0 | N24: Ron | O24: Ron | Q24: O | R24: F | S24: R | T24: A000088537 | U24: 1
J25: =T25&U25 -> A0000885372 | K25: 2015 | L25: 0 | M25: A0 | N25: Ron | O25: Ron | Q25: O | R25: F | S25: R | T25: A000088537 | U25: 2
J26: =T26&U26 -> A0000886912 | K26: 2015 | L26: 1 | M26: A0 | N26: Ron | O26: Ron | Q26: O | R26: F | S26: R | T26: A000088691 | U26: 2
J27: =T27&U27 -> A0000890301 | K27: 2015 | L27: 1 | M27: A0 | N27: Ron | O27: Ron | Q27: O | R27: F | S27: R | T27: A000089030 | U27: 1
J28: =T28&U28 -> A0000890302 | K28: 2015 | L28: 0 | M28: A0 | N28: Ron | O28: Ron | Q28: O | R28: F | S28: R | T28: A000089030 | U28: 2
... J31: =T31&U31 -> A0000891191 | K31: 2015 | L31: 1 | M31: A0 | N31: Linda | O31: Linda | Q31: O | R31: O | S31: R | T31: A000089119 | U31: 1
J32: =T32&U32 -> A0000891192 | K32: 2015 | L32: 0 | M32: A0 | N32: Linda | O32: Linda | P32: Prj Error | Q32: O | R32: O | S32: R | T32: A000089119 | U32: 2
J33: =T33&U33 -> A0000891491 | K33: 2015 | L33: 1 | M33: A0 | N33: Linda | O33: Linda | Q33: O | R33: F | S33: R | T33: A000089149 | U33: 1
J34: =T34&U34 -> A0000891492 | K34: 2015 | L34: 0 | M34: A0 | N34: Linda | O34: Linda | Q34: O | R34: F | S34: R | T34: A000089149 | U34: 2
J35: =T35&U35 -> A0000893941 | K35: 2015 | L35: 1 | M35: A0 | N35: Linda | O35: Linda | P35: Prj Error | Q35: O | R35: O | S35: R | T35: A000089394 | U35: 1
J36: =T36&U36 -> A0000898601 | K36: 2015 | L36: 1 | M36: A0 | N36: Ron | O36: Ron | Q36: O | R36: F | S36: R | T36: A000089860 | U36: 1
J37: =T37&U37 -> A0000900442 | K37: 2015 | L37: 1 | M37: A0 | N37: Linda | O37: Linda | Q37: O | R37: F | S37: R | T37: A000090044 | U37: 2
J38: =T38&U38 -> A0000903202 | K38: 2016 | L38: 1 | M38: A0 | N38: Ron | O38: Ron | Q38: O | R38: F | S38: R | T38: A000090320 | U38: 2
J39: =T39&U39 -> A0000903203 | K39: 2016 | L39: 0 | M39: A0 | N39: Ron | O39: Ron | Q39: O | R39: F | S39: R | T39: A000090320 | U39: 3
J40: =T40&U40 -> A0000903204 | K40: 2016 | L40: 0 | M40: A0 | N40: Ron | O40: Ron | Q40: O | R40: F | S40: R | T40: A000090320 | U40: 4
J41: =T41&U41 -> A0000903205 | K41: 2016 | L41: 0 | M41: A0 | N41: Ron | O41: Ron | Q41: O | R41: F | S41: R | T41: A000090320 | U41: 5
J42: =T42&U42 -> A0000903206 | K42: 2016 | L42: 0 | M42: A0 | N42: Ron | O42: Ron | Q42: O | R42: F | S42: R | T42: A000090320 | U42: 6
...

Sheet Open Prjs
A1: Ref | B1: proj_num | C1: proj_desc | D1: type | E1: proj_date | F1: Proj Stat | G1: proj_type | H1: task_num | I1: task_desc | J1: Task Stat | K1: seq | L1: ref_type | M1: ref_num | N1: ref_line_suf | O1: ref_release
A2: =B2&H2&K2 -> A000007568501 | B2: A000007568 | D2: P | E2: 42229 | F2: A | G2: GMC | H2: 50 | I2: FREIGHT | J2: A | K2: 1 | L2: P | M2: A000091548 | N2: 2 | O2: 0
A3: =B3&H3&K3 -> A0000075683301 | B3: A000007568 | D3: P | E3: 42229 | F3: A | G3: GMC | H3: 330 | I3: SERVICE MANUALS | J3: A | K3: 1 | L3: P | M3: A000097028 | N3: 1 | O3: 0
A4: =B4&H4&K4 -> A0000075683601 | B4: A000007568 | D4: P | E4: 42229 | F4: A | G4: GMC | H4: 360 | I4: VEHICLE COMPONENTS | J4: A | K4: 1 | L4: P | M4: A000089118 | N4: 1 | O4: 0
A5: =B5&H5&K5 -> A0000075683602 | B5: A000007568 | D5: P | E5: 42229 | F5: A | G5: GMC | H5: 360 | I5: VEHICLE COMPONENTS | J5: A | K5: 2 | L5: P | M5: A000089118 | N5: 2 | O5: 0
A6: =B6&H6&K6 -> A0000075683603 | B6: A000007568 | D6: P | E6: 42229 | F6: A | G6: GMC | H6: 360 | I6: VEHICLE COMPONENTS | J6: A | K6: 3 | L6: P | M6: A000089118 | N6: 3 | O6: 0
A7: =B7&H7&K7 -> A0000075683604 | B7: A000007568 | D7: P | E7: 42229 | F7: A | G7: GMC | H7: 360 | I7: VEHICLE COMPONENTS | J7: A | K7: 4 | L7: P | M7: A000089142 | N7: 1 | O7: 0
A8: =B8&H8&K8 -> A0000075683605 | B8: A000007568 | D8: P | E8: 42229 | F8: A | G8: GMC | H8: 360 | I8: VEHICLE COMPONENTS | J8: A | K8: 5 | L8: P | M8: NULL | N8: 0 | O8: 0
A9: =B9&H9&K9 -> A0000075683606 | B9: A000007568 | D9: P | E9: 42229 | F9: A | G9: GMC | H9: 360 | I9: VEHICLE COMPONENTS | J9: A | K9: 6 | L9: P | M9: NULL | N9: 0 | O9: 0
A10: =B10&H10&K10 -> A0000075683608 | B10: A000007568 | D10: P | E10: 42229 | F10: A | G10: GMC | H10: 360 | I10: VEHICLE COMPONENTS | J10: A | K10: 8 | L10: P | M10: A000090446 | N10: 1 | O10: 0
A11: =B11&H11&K11 -> A0000075683609 | B11: A000007568 | D11: P | E11: 42229 | F11: A | G11: GMC | H11: 360 | I11: VEHICLE COMPONENTS | J11: A | K11: 9 | L11: P | M11: A000090446 | N11: 2 | O11: 0
A12: =B12&H12&K12 -> A00000756836010 | B12: A000007568 | D12: P | E12: 42229 | F12: A | G12: GMC | H12: 360 | I12: VEHICLE COMPONENTS | J12: A | K12: 10 | L12: P | M12: A000090446 | N12: 3 | O12: 0
A13: =B13&H13&K13 -> A00000756836011 | B13: A000007568 | D13: P | E13: 42229 | F13: A | G13: GMC | H13: 360 | I13: VEHICLE COMPONENTS | J13: A | K13: 11 | L13: P | M13: A000090619 | N13: 1 | O13: 0
... A49: =B49&H49&K49 -> A0000075683614 | B49: A000007568 | D49: P | E49: 42229 | F49: A | G49: GMC | H49: 361 | I49: VEHICLE COMPONENTS - BOX ELDER | J49: A | K49: 4 | L49: I | M49: NULL | N49: 0 | O49: 0
A50: =B50&H50&K50 -> A000007568381NULL | B50: A000007568 | D50: P | E50: 42229 | F50: A | G50: GMC | H50: 381 | I50: VEHICLE ASSSEMBLY - BOX ELDER | J50: A | K50: NULL | L50: NULL | M50: NULL | N50: NULL | O50: NULL
A51: =B51&H51&K51 -> A000007568391NULL | B51: A000007568 | D51: P | E51: 42229 | F51: A | G51: GMC | H51: 391 | I51: VEHICLE TEST - BOX ELDER | J51: A | K51: NULL | L51: NULL | M51: NULL | N51: NULL | O51: NULL
A52: =B52&H52&K52 -> A000007568600NULL | B52: A000007568 | D52: P | E52: 42229 | F52: A | G52: GMC | H52: 600 | I52: ENGINEERING | J52: A | K52: NULL | L52: NULL | M52: NULL | N52: NULL | O52: NULL
A53: =B53&H53&K53 -> A000007568901NULL | B53: A000007568 | D53: P | E53: 42229 | F53: A | G53: GMC | H53: 901 | I53: TRAVEL & LIVING EXPENSE | J53: A | K53: NULL | L53: NULL | M53: NULL | N53: NULL | O53: NULL
A54: =B54&H54&K54 -> A000007568902NULL | B54: A000007568 | D54: P | E54: 42229 | F54: A | G54: GMC | H54: 902 | I54: BUSINESS MEALS EXPENSE | J54: A | K54: NULL | L54: NULL | M54: NULL | N54: NULL | O54: NULL
A55: =B55&H55&K55 -> A000007568903NULL | B55: A000007568 | D55: P | E55: 42229 | F55: A | G55: GMC | H55: 903 | I55: PERSONAL MEALS EXPENSE | J55: A | K55: NULL | L55: NULL | M55: NULL | N55: NULL | O55: NULL
A56: =B56&H56&K56 -> A000007568904NULL | B56: A000007568 | D56: P | E56: 42229 | F56: A | G56: GMC | H56: 904 | I56: PROJECT EXPENSE | J56: A | K56: NULL | L56: NULL | M56: NULL | N56: NULL | O56: NULL
A57: =B57&H57&K57 -> A000007603101 | B57: A000007603 | D57: P | E57: 42692 | F57: A | G57: GMC | H57: 10 | I57: PERIPHERIAL EQUIPMENT | J57: A | K57: 1 | L57: J | M57: 7603V997AA | N57: 0 | O57: 0
A58: =B58&H58&K58 -> A000007603103 | B58: A000007603 | D58: P | E58: 42692 | F58: A | G58: GMC | H58: 10 | I58: PERIPHERIAL EQUIPMENT | J58: A | K58: 3 | L58: I | M58: NULL | N58: 0 | O58: 0
A59: =B59&H59&K59 -> A000007603104 | B59: A000007603 | D59: P | E59: 42692 | F59: A | G59: GMC | H59: 10 | I59: PERIPHERIAL EQUIPMENT | J59: A | K59: 4 | L59: P | M59: A000094499 | N59: 1 | O59: 0
A60: =B60&H60&K60 -> A000007603106 | B60: A000007603 | D60: P | E60: 42692 | F60: A | G60: GMC | H60: 10 | I60: PERIPHERIAL EQUIPMENT | J60: A | K60: 6 | L60: I | M60: NULL | N60: 0 | O60: 0
A61: =B61&H61&K61 -> A000007603107 | B61: A000007603 | D61: P | E61: 42692 | F61: A | G61: GMC | H61: 10 | I61: PERIPHERIAL EQUIPMENT | J61: A | K61: 7 | L61: P | M61: A000095415 | N61: 1 | O61: 0
A62: =B62&H62&K62 -> A000007603109 | B62: A000007603 | D62: P | E62: 42692 | F62: A | G62: GMC | H62: 10 | I62: PERIPHERIAL EQUIPMENT | J62: A | K62: 9 | L62: P | M62: A000095415 | N62: 3 | O62: 0
A63: =B63&H63&K63 -> A0000076031010 | B63: A000007603 | D63: P | E63: 42692 | F63: A | G63: GMC | H63: 10 | I63: PERIPHERIAL EQUIPMENT | J63: A | K63: 10 | L63: P | M63: A000095415 | N63: 4 | O63: 0
A64: =B64&H64&K64 -> A0000076031012 | B64: A000007603 | D64: P | E64: 42692 | F64: A | G64: GMC | H64: 10 | I64: PERIPHERIAL EQUIPMENT | J64: A | K64: 12 | L64: I | M64: NULL | N64: 0 | O64: 0
A65: =B65&H65&K65 -> A0000076031014 | B65: A000007603 | D65: P | E65: 42692 | F65: A | G65: GMC | H65: 10 | I65: PERIPHERIAL EQUIPMENT | J65: A | K65: 14 | L65: I | M65: NULL | N65: 0 | O65: 0
A66: =B66&H66&K66 -> A0000076031016 | B66: A000007603 | D66: P | E66: 42692 | F66: A | G66: GMC | H66: 10 | I66: PERIPHERIAL EQUIPMENT | J66: A | K66: 16 | L66: I | M66: NULL | N66: 0 | O66: 0
A67: =B67&H67&K67 -> A000007603301 | B67: A000007603 | D67: P | E67: 42692 | F67: A | G67: GMC | H67: 30 | I67: ELECTRONICAL CONTROLS | J67: A | K67: 1 | L67: J | M67: 7603V997EC | N67: 0 | O67: 0
A68: =B68&H68&K68 -> A00000760340NULL | B68: A000007603 | D68: P | E68: 42692 | F68: A | G68: GMC | H68: 40 | I68: ELECTRICAL ENGINEERING | J68: A | K68: NULL | L68: NULL | M68: NULL | N68: NULL | O68: NULL
A69: =B69&H69&K69 -> A00000760350NULL | B69: A000007603 | D69: P | E69: 42692 | F69: A | G69: GMC | H69: 50 | I69: FREIGHT | J69: A | K69: NULL | L69: NULL | M69: NULL | N69: NULL | O69: NULL
A70: =B70&H70&K70 -> A00000760390NULL | B70: A000007603 | D70: P | E70: 42692 | F70: A | G70: GMC | H70: 90 | I70: MECHANICAL ENGINEERING | J70: A | K70: NULL | L70: NULL | M70: NULL | N70: NULL | O70: NULL
A71: =B71&H71&K71 -> A000007603160NULL | B71: A000007603 | D71: P | E71: 42692 | F71: A | G71: GMC | H71: 160 | I71: VEHICLE ENGINEERING | J71: A | K71: NULL | L71: NULL | M71: NULL | N71: NULL | O71: NULL
A72: =B72&H72&K72 -> A000007603170NULL | B72: A000007603 | D72: P | E72: 42692 | F72: A | G72: GMC | H72: 170 | I72: VEHICLE SOFTWARE | J72: A | K72: NULL | L72: NULL | M72: NULL | N72: NULL | O72: NULL
A73: =B73&H73&K73 -> A000007603200NULL | B73: A000007603 | D73: P | E73: 42692 | F73: A | G73: GMC | H73: 200 | I73: FIELD DEBUG SYS. MECHANICAL | J73: A | K73: NULL | L73: NULL | M73: NULL | N73: NULL | O73: NULL
A74: =B74&H74&K74 -> A000007603210NULL | B74: A000007603 | D74: P | E74: 42692 | F74: A | G74: GMC | H74: 210 | I74: FIELD DEBUG ROAD SYSTEM | J74: A | K74: NULL | L74: NULL | M74: NULL | N74: NULL | O74: NULL
A75: =B75&H75&K75 -> A0000076032702 | B75: A000007603 | D75: P | E75: 42692 | F75: A | G75: GMC | H75: 270 | I75: MECHANICAL EQUIPMENT | J75: A | K75: 2 | L75: I | M75: NULL | N75: 0 | O75: 0
...
