Workbook
Name LoadMethod: Ref!$C$2:$C$3
Name Scope: Ref!$B$2:$B$3
Name Sites: Sites!$A$3:$A$38
Name YesNo: Ref!$A$2:$A$3

Sheet Data Owners
A1: Assignments | F1: Exceptions
A2: Functional Area | B2: Site | C2: Data Owner | D2: Data Group | F2: Functional Area | G2: Form Name | H2: Data Owner
A3: ACC | B3: KIN1 | C3: John Bohrman | D3: John Bohrman, Melissa Siress | F3: Accounting | G3: Accounting Periods | H3: SL9 Data
A4: AM | B4: KIN1 | C4: Julie Ramirez | D4: Julie Ramirez; Jackie Soechting; Jennifer Grant | F4: Accounting | G4: Chart of Accounts | H4: SL9 Data
A5: ENG | B5: KIN1 | C5: Jeff Gill | D5: Jeff Gill; Joe Foley; Brian Hutchins | F5: Accounting | G5: Unit Code 1 | H5: SL9 Data
A6: FS | B6: KIN1 | C6: Julie Ramirez | D6: Julie Ramirez; Jackie Soechting; Jennifer Grant | F6: Accounting | G6: Unit Code 2 | H6: SL9 Data
A7: GEN | B7: KIN1 | C7: All | D7: All | F7: Accounting | G7: Unit Code 3 | H7: SL9 Data
A8: HR | B8: KIN1 | C8: Melinda Beuf | D8: Melinda Beuf, Jeff Melvin | F8: Accounting | G8: Unit Code 4 | H8: SL9 Data
A9: INV | B9: KIN1 | C9: Brian Hutchins | D9: Joe Foley; Brian Hutchins; Jeff Gill; Julie Ramirez | F9: Accounting | G9: Copy Unit Codes to Accounts | H9: SL9 Data
A10: PRJ | B10: KIN1 | C10: Jackie Soechting | D10: Julie Ramirez; Jackie Soechting; Jennifer Grant; Jeff Melvin; Jeff Gill | F10: Accounting | G10: Chart of Account Allocations | H10: SL9 Data
A11: QC | B11: KIN1 | C11: Brian Hutchins | D11: Joe Foley; Brian Hutchins; Jeff Gill; Julie Ramirez
A12: PP | B12: KIN1 | C12: Jeff Melvin | D12: Jeff Melvin; Jessie Berner; Jeff Gill; Brian Hutchins
A13: IT | B13: KIN1 | C13: Peter Kirker | D13: Peter Kirker
A14: PUR | B14: KIN1 | C14: Joe Foley | D14: Joe Foley; Brian Hutchins
A15: SYS | B15: KIN1 | C15: Ray Sroberts | D15: Ray Sroberts
A16: ACC | B16: SNT1 | C16: Bruno Cauwe | D16: Bruno Cauwe, Alec Lamon, Piet Steyaert
A17: AM | B17: SNT1 | C17: Ronald De Saeger | D17: Ronald De Saeger, Johan Van Riet
A18: ENG | B18: SNT1 | C18: Hans De Cock | D18: Hans De Cock, Marc Janssens, Luc Meersman
A19: FS | B19: SNT1 | C19: Jan Pauwels | D19: Jan Pauwels, Vicky Brokken
A20: GEN | B20: SNT1 | C20: All | D20: All
A21: HR | B21: SNT1 | C21: Marc Janssens | D21: Marc Janssens
A22: INV | B22: SNT1 | C22: Luc Meersman | D22: Ronald De Saeger, Johan Van Riet, Igor Convens, Hans De Cock, Jan Vangansbeke, Bruno Cauwe, Marc Janssens, Luc Meersman
... A27: PUR | B27: SNT1 | C27: Igor Convens | D27: Igor Convens, Jana Van Den Eynden

Sheet Cheats
A1: Rates | B1: Employees | C1: Mfg Rates
B2: Departments | C2: Fixed and Variable OH Rates by Department
B3: Project Cost Codes | C3: Default Cost Rate and Default Budget Rate
B4: Work Codes | C4: Cost and Rate (price)
B5: Product Codes | C5: Material Fixed OH and Material Variable OH and Overhead Rate
B6: Partners | C6: Labor Cost
B7: Work Centers | C7: Setup Rate and Run Rate
B8: Change Cost Rates (Utility) | C8: Update current and open jobs
A10: Work Center | B10: Resource
B11: Resource Group
B12: Work Center
A14: Department | B14: Unit Code 1
B15: Copy UC to Accounts
B16: Department
A18: AR Advantage | B18: No Setup
A20: AP Advantage | B20: Sites/Entities | C20: Add PNC Company ID and UC4
A22: WF T&E | B22: No Setup
A24: WF ISO | B24: L2-Bank Reconciliations | C24: Add Identification No
B25: L5-Bank File Format
B26: L5-Bank Code Bank File Format
B27: L3-Accounts Payable Parameters
A29: Ceridian | B29: No Setup
A31: Blackline | B31: No Setup
A33: Anaplan | B33: L3-JBT Parameters | C33: Update Anaplan Tab
A35: HFM | B35: L3-JBT Parameters | C35: Update Hyperion Tab
A37: Taxware | B37: L2-Tax Jurisdiction | C37: Setup in Seed
B38: L2-Process Indicator IDs
B39: L2-Process Indicator Types
B40: L2-Process Indicator Matrix
B41: L3-General Parameters | C41: Check "Use Tax Jurisdiction" on General Tab
B42: L2-Tax Codes | C42: Add Tax Jurisdiction "US" and Process Indicator Type "GOODS"
B43: L3-Service Parameters | C43: Add Default Process Indicator Type
B44: Tax Interface Parameters | C44: Handled by Ray

Sheet Sites
A1: Go To Index
A2: Site | B2: UC4 | C2: Default Warehouse | D2: Site Description | E2: Hyperion Entity | F2: Reports To
A3: ALL
A4: LCOM | B4: ALL | D4: LCOM
A5: BAN1 | B5: FC | C5: BAN1 | D5: Thailand (THB) | E5: 520 | F5: THB
A6: JBT-521 | B6: CO | C6: MAIN | D6: Thailand FAI (THB) | E6: 521 | F6: THB
A7: KLU1 | B7: FC | C7: KLU1 | D7: Malaysia (MYR) | F7: MYR
A8: SIN1 | B8: FC | C8: SIN1 | D8: Singapore (USD) | F8: LFOR
A9: HON1 | B9: FC | C9: HON1 | D9: Hong Kong (USD) | F9: LFOR
A10: JBT-541 | B10: FC | C10: MAIN | D10: Spain Holding BV Ledger | E10: 541 | F10: LFOR
A11: JBT-546 | B11: GS | C11: MAIN | D11: Spain Holding BV Ledger | E11: 546 | F11: LFOR
A12: JBT-551 | B12: EX | C12: MAIN | D12: Spain Holding BV Ledger | E12: 551 | F12: LFOR
A13: JBT-556 | B13: JW | C13: MAIN | D13: Spain Holding BV Ledger | E13: 556 | F13: LFOR
A14: AUK1 | B14: CO | C14: AUK1 | D14: New Zealand (NZD) | F14: NZD
A15: BRI1 | B15: CO | C15: BRI1 | D15: Australia (AUD) | F15: AUD
A16: 1JBT | B16: CO | C16: 1JBT | D16: 1JBT | F16: LCOM
A17: ALP1 | B17: FC | C17: ALP1 | D17: Alpharetta Site | E17: 127 | F17: LCOM
A18: CHA1 | B18: AG | C18: CHA1 | D18: CHA1 | E18: 120 | F18: LCOM
A19: CORP | B19: CO | C19: CORP | D19: CORP | E19: 900 | F19: LCOM
A20: FHQ1 | B20: PH | C20: FHQ1 | D20: FHQ1 | E20: 133 | F20: LCOM
A21: KIN1 | B21: FC | C21: KIN1 | D21: KIN1 | E21: 140 | F21: LCOM
A22: SAN1 | B22: FC | C22: SAN1 | D22: SAN1 | E22: 135 | F22: LCOM
A23: LDOM | B23: ALL | D23: LCOM
A24: JBT-145 | B24: CO | C24: MAIN | D24: JBT Equipment Finance LLC | E24: 145 | F24: LDOM
A25: LFOR | B25: ALL | D25: LCOM
A26: JBT-450 | B26: CO | C26: MAIN | D26: Corporate European Finance Ledger | E26: 450 | F26: LFOR
A27: JBT-451 | B27: CO | C27: MAIN | D27: South Africa Holding BV | E27: 451 | F27: LFOR
A28: JBT-452 | B28: CO | C28: MAIN | D28: Spain Holding BV Ledger | E28: 452 | F28: LFOR
A29: KUN1 | B29: FC | C29: KUN1 | D29: Kunshan | E29: 545 | F29: CNY
A30: SNT1 | B30: CN | C30: SNT1 | D30: SNT1 | E30: 415

Sheet Ref
A1: Yes/No | B1: Scope | C1: Load Method | F1: End User Type Look Up | I1: Entity | J1: UC4 | L1: Vend Cat Code | M1: UC4 Desc
A2: Yes | B2: Global | C2: Manual | F2: Letters | G2: Words | I2: 125 | J2: CN
A3: No | B3: Site | C3: SQL | F3: AM | G3: AM Product | I3: 130 | J3: EA
F4: AMOT | G4: AM Product Over Time | I4: 134 | J4: EA
F5: EQ | G5: Equipment | I5: 135 | J5: FC
F6: EQOT | G6: Equipment Over Time | I6: 160 | J6: AV
F7: IN | G7: Install | I7: 400 | J7: FC
F8: LS | G8: Lease | I8: 415 | J8: CN
F9: RB | G9: AM Rebuild | I9: 420 | J9: EA
F10: SC | G10: AM Service/Svc Cont | I10: 438 | J10: BB
F11: A | G11: AM Product | I11: 455 | J11: CN
F12: E | G12: Equipment | I12: 480 | J12: PL
F13: I | G13: Install | I13: 520 | J13: FC | L13: F | M13: FC
F14: L | G14: Lease | I14: 520 | J14: CN | L14: C | M14: CN
F15: R | G15: AM Rebuild | I15: 521 | J15: FC
F16: S | G16: AM Service | I16: 545 | J16: FC
F17: WAR | G17: Warranty | I17: 490 | J17: CN
I18: 500 | J18: FC
I19: 525 | J19: FC

Sheet Index
AF1: Y: Changes needed once new site is in Seed G: Script run to update multiple fields
A2: Link | B2: Level | C2: Seq | D2: Area | E2: Form Name | F2: Update When | G2: Module | H2: Seed | I2: Scope Level | J2: Loading Method | K2: Data Owner | L2: Prod: Completed | M2: Seed: Completed | N2: Test: Completed | O2: Notes | P2: Prod: 1JBTCOA | Q2: Prod: LCOM | R2: Prod: LDOM | S2: Prod: LFOR | T2: Prod: 1JBT | U2: Prod: ALP1 | V2: Prod: CHA1 | W2: Prod: CORP | X2: Prod: FHQ1 | Y2: Prod: JBT-145 | Z2: Prod: JBT-450 | AA2: Prod: JBT-451 | AB2: Prod: JBT-452 | AC2: Prod: KIN1 | AD2: Prod: SAN1 | AE2: Seed: sLCOM | AF2: Seed_TEMPLATE | AG2: Seed_RUS1 | AH2: Seed: Seed_LFOR | AI2: Seed: Seed_SIN1 | AJ2: Seed: Seed_KOR1 | AK2: Seed: Seed_THB | AL2: Seed: Seed_BKK1 | AM2: Seed: Seed_THQ1 | AN2: Seed: Seed_IDR | AO2: Seed: Seed_IDN1 | AP2: Seed: Seed_PHP | AQ2: Seed: Seed_PHL1 | AR2: Seed: Seed_HON1 | AS2: Seed: Seed_JBT-541 | AT2: Seed: Seed_JBT-546 | AU2: Seed: Seed_JBT-551 | AV2: Seed: Seed_JBT-556 | AW2: Seed: Seed_MYR | AX2: Seed: Seed_KLU1 | AY2: Seed: Seed_JPY | AZ2: Seed: Seed_TOK1 | BA2: Seed: Seed_AUD | BB2: Seed: Seed_BRI1 | BC2: Seed: Seed_NZD | BD2: Seed: Seed_AUK1 | BE2: Seed: Seed_CNY | BF2: Seed: Seed_KUN1 | BG2: Test: PilotA_1JBT | BH2: Test: PilotA_BAN1 | BI2: Test: PilotA_HON1 | BJ2: Test: PilotA_SIN1 | BK2: Test: PilotA_KLU1 | BL2: Test: PilotA_JBT-521 | BM2: Test: PilotC_1JBT | BN2: Test: PilotC_BKK1 | BO2: Test: PilotC_THQ1 | BP2: Test: PilotC_SIN1
A3: =LEFT(Table1[[#This Row],[Level]],2)&"-"&Table1[[#This Row],[Seq]] -> L1-1 | B3: L1-COA | C3: =IFERROR(IF(AND(Table1[[#This Row],[Level]]=B2,Table1[[#This Row],[Form Name]]=E2),C2,IF(Table1[[#This Row],[Level]]=B2,C2+1,1)),1) -> 1 | D3: ACC | E3: Accounting Periods | F3: Seed | G3: GL | H3: Yes | I3: Global | J3: Manual | K3: =IFERROR(VLOOKUP(E3,'Data Owners'!G:H,2,0),VLOOKUP(D3,'Data Owners'!A:D,3,0)) -> SL9 Data | L3: =IF(OR(P3="",Q3="",R3="",S3="",T3="",U3="",V3="",W3="",X3="",Y3="",Z3="",AA3="",AB3="",AC3="",AD3=""),"",IF(AND(P3="N/A",Q3="N/A",R3="N/A",S3="N/A",T3="N/A",U3="N/A",V3="N/A",W3="N/A",X3="N/A",Y3="N/A",Z3="N/A",AA3="N/A",AB3="N/A",AC3="N/A",AD3="N/A"),"N/A",IF(MAX(P3:AD3)=0,"",MAX(P3:AD3)))) -> 43241 | M3: =IF(OR(AE3="Need Info",AF3="Need Info",AG3="Need Info",AH3="Need Info",AI3="Need Info",AJ3="Need Info",AK3="Need Info",AL3="Need Info",AM3="Need Info",AN3="Need Info",AO3="Need Info",AP3="Need Info",AQ3="Need Info"),"Need Info",IF(OR(AE3="",AF3="",AG3="",AH3="",AI3="",AJ3="",AK3="",AL3="",AM3="",AN3="",AO3="",AP3="",AQ3=""),"",IF(AND(AE3="N/A",AF3="N/A",AG3="N/A",AH3="N/A",AI3="N/A",AJ3="N/A",AK3="N/A",AL3="N/A",AM3="N/A",AN3="N/A",AO3="N/A",AP3="N/A",AQ3="N/A"),"N/A",IF(MAX(AE3:AQ3)=0,"",MAX(AE3:AQ3))))) -> 43532 | P3: N/A | Q3: 43104 | R3: 43241 | S3: 43241 | T3: 43104 | U3: 43104 | V3: 43144 | W3: 43104 | X3: 43104 | Y3: 43241 | Z3: 43172 | AA3: 43172 | AB3: 43172 | AC3: 43104 | AD3: 43104 | AE3: N/A | AF3: 43532 | AG3: 43532 | AH3: 43402 | AI3: 43402 | AJ3: 43402 | AK3: 43402 | AL3: 43402 | AM3: 43402 | AN3: 43402 | AO3: 43402 | AP3: 43402 | AQ3: 43402 | AR3: 43402 | AS3: 43402 | AT3: 43402 | AU3: 43402 | AV3: 43402 | AW3: 43402 | AX3: 43402 | AY3: 43402 | AZ3: 43402 | BA3: 43402 | BB3: 43402 | BC3: 43402 | BD3: 43402 | BE3: 43144 | BF3: 43144 | BG3: 43104 | BH3: 43402 | BI3: 43402 | BJ3: 43402 | BK3: 43402 | BL3: 43402 | BN3: =Table1[[#This Row],[Seed: Seed_BKK1]] -> 43402 | BO3: =Table1[[#This Row],[Seed: Seed_THQ1]] -> 43402 | BP3: =Table1[[#This Row],[Seed: Seed_SIN1]] -> 43402
A4: =LEFT(Table1[[#This Row],[Level]],2)&"-"&Table1[[#This Row],[Seq]] -> L1-2 | B4: L1-COA | C4: =IFERROR(IF(AND(Table1[[#This Row],[Level]]=B3,Table1[[#This Row],[Form Name]]=E3),C3,IF(Table1[[#This Row],[Level]]=B3,C3+1,1)),1) -> 2 | D4: ACC | E4: Chart of Accounts | F4: Seed | G4: GL | H4: Yes | I4: Global | J4: Manual | K4: =IFERROR(VLOOKUP(E4,'Data Owners'!G:H,2,0),VLOOKUP(D4,'Data Owners'!A:D,3,0)) -> SL9 Data | L4: =IF(OR(P4="",Q4="",R4="",S4="",T4="",U4="",V4="",W4="",X4="",Y4="",Z4="",AA4="",AB4="",AC4="",AD4=""),"",IF(AND(P4="N/A",Q4="N/A",R4="N/A",S4="N/A",T4="N/A",U4="N/A",V4="N/A",W4="N/A",X4="N/A",Y4="N/A",Z4="N/A",AA4="N/A",AB4="N/A",AC4="N/A",AD4="N/A"),"N/A",IF(MAX(P4:AD4)=0,"",MAX(P4:AD4)))) -> 43308 | M4: =IF(OR(AE4="Need Info",AF4="Need Info",AG4="Need Info",AH4="Need Info",AI4="Need Info",AJ4="Need Info",AK4="Need Info",AL4="Need Info",AM4="Need Info",AN4="Need Info",AO4="Need Info",AP4="Need Info",AQ4="Need Info"),"Need Info",IF(OR(AE4="",AF4="",AG4="",AH4="",AI4="",AJ4="",AK4="",AL4="",AM4="",AN4="",AO4="",AP4="",AQ4=""),"",IF(AND(AE4="N/A",AF4="N/A",AG4="N/A",AH4="N/A",AI4="N/A",AJ4="N/A",AK4="N/A",AL4="N/A",AM4="N/A",AN4="N/A",AO4="N/A",AP4="N/A",AQ4="N/A"),"N/A",IF(MAX(AE4:AQ4)=0,"",MAX(AE4:AQ4))))) | O4: See "Additional Info" Hyperlink | P4: 43308 | Q4: 43308 | R4: 43308 | S4: 43308 | T4: 43308 | U4: 43308 | V4: 43308 | W4: 43308 | X4: 43308 | Y4: 43308 | Z4: 43308 | AA4: 43308 | AB4: 43308 | AC4: 43308 | AD4: 43308 | AE4: N/A | AF4: 43467 | AG4: 43467 | AR4: 43467 | AS4: 43467 | AT4: 43467 | AU4: 43467 | AV4: 43467 | AW4: 43467 | AX4: 43467 | AY4: 43402 | AZ4: 43402 | BA4: 43402 | BB4: 43402 | BC4: 43402 | BD4: 43402 | BE4: 43283 | BF4: 43283 | BG4: 43308 | BH4: 43402 | BI4: 43402 | BJ4: 43402 | BK4: 43402 | BL4: 43402 | BM4: N/A | BN4: =Table1[[#This Row],[Seed: Seed_BKK1]] -> 0 | BO4: =Table1[[#This Row],[Seed: Seed_THQ1]] -> 0 | BP4: =Table1[[#This Row],[Seed: Seed_SIN1]] -> 0
A5: =LEFT(Table1[[#This Row],[Level]],2)&"-"&Table1[[#This Row],[Seq]] -> L1-3 | B5: L1-COA | C5: =IFERROR(IF(AND(Table1[[#This Row],[Level]]=B4,Table1[[#This Row],[Form Name]]=E4),C4,IF(Table1[[#This Row],[Level]]=B4,C4+1,1)),1) -> 3 | D5: ACC | E5: Unit Code 1 | F5: After Seed | G5: GL | H5: Yes | I5: Global | J5: Manual | K5: =IFERROR(VLOOKUP(E5,'Data Owners'!G:H,2,0),VLOOKUP(D5,'Data Owners'!A:D,3,0)) -> SL9 Data | L5: =IF(OR(P5="",Q5="",R5="",S5="",T5="",U5="",V5="",W5="",X5="",Y5="",Z5="",AA5="",AB5="",AC5="",AD5=""),"",IF(AND(P5="N/A",Q5="N/A",R5="N/A",S5="N/A",T5="N/A",U5="N/A",V5="N/A",W5="N/A",X5="N/A",Y5="N/A",Z5="N/A",AA5="N/A",AB5="N/A",AC5="N/A",AD5="N/A"),"N/A",IF(MAX(P5:AD5)=0,"",MAX(P5:AD5)))) -> 43446 | M5: =IF(OR(AE5="Need Info",AF5="Need Info",AG5="Need Info",AH5="Need Info",AI5="Need Info",AJ5="Need Info",AK5="Need Info",AL5="Need Info",AM5="Need Info",AN5="Need Info",AO5="Need Info",AP5="Need Info",AQ5="Need Info"),"Need Info",IF(OR(AE5="",AF5="",AG5="",AH5="",AI5="",AJ5="",AK5="",AL5="",AM5="",AN5="",AO5="",AP5="",AQ5=""),"",IF(AND(AE5="N/A",AF5="N/A",AG5="N/A",AH5="N/A",AI5="N/A",AJ5="N/A",AK5="N/A",AL5="N/A",AM5="N/A",AN5="N/A",AO5="N/A",AP5="N/A",AQ5="N/A"),"N/A",IF(MAX(AE5:AQ5)=0,"",MAX(AE5:AQ5))))) | O5: Add new UC1 to LCOM, 1JBT, CORP | P5: 43402 | Q5: 43402 | R5: 43308 | S5: 43308 | T5: 43308 | U5: 43308 | V5: 43446 | W5: 43402 | X5: 43308 | Y5: 43308 | Z5: 43308 | AA5: 43308 | AB5: 43308 | AC5: 43308 | AD5: 43308 | AE5: N/A | AF5: 43467 | AG5: 43467 | AR5: Inactive | AS5: Inactive | AT5: Inactive | AU5: Inactive | AV5: Inactive | AW5: Inactive | AX5: Inactive | AY5: Inactive | AZ5: Inactive | BA5: Inactive | BB5: Inactive | BC5: Inactive | BD5: Inactive | BG5: 43308 | BH5: 43420 | BI5: 43420 | BJ5: 43420 | BK5: 43420 | BL5: 43420 | BM5: N/A | BN5: 43480 | BO5: 43480 | BP5: 43480
A6: =LEFT(Table1[[#This Row],[Level]],2)&"-"&Table1[[#This Row],[Seq]] -> L1-4 | B6: L1-COA | C6: =IFERROR(IF(AND(Table1[[#This Row],[Level]]=B5,Table1[[#This Row],[Form Name]]=E5),C5,IF(Table1[[#This Row],[Level]]=B5,C5+1,1)),1) -> 4 | D6: ACC | E6: Unit Code 2 | F6: After Seed | G6: GL | H6: Yes | I6: Global | J6: Manual | K6: =IFERROR(VLOOKUP(E6,'Data Owners'!G:H,2,0),VLOOKUP(D6,'Data Owners'!A:D,3,0)) -> SL9 Data | L6: =IF(OR(P6="",Q6="",R6="",S6="",T6="",U6="",V6="",W6="",X6="",Y6="",Z6="",AA6="",AB6="",AC6="",AD6=""),"",IF(AND(P6="N/A",Q6="N/A",R6="N/A",S6="N/A",T6="N/A",U6="N/A",V6="N/A",W6="N/A",X6="N/A",Y6="N/A",Z6="N/A",AA6="N/A",AB6="N/A",AC6="N/A",AD6="N/A"),"N/A",IF(MAX(P6:AD6)=0,"",MAX(P6:AD6)))) -> 43301 | M6: =IF(OR(AE6="Need Info",AF6="Need Info",AG6="Need Info",AH6="Need Info",AI6="Need Info",AJ6="Need Info",AK6="Need Info",AL6="Need Info",AM6="Need Info",AN6="Need Info",AO6="Need Info",AP6="Need Info",AQ6="Need Info"),"Need Info",IF(OR(AE6="",AF6="",AG6="",AH6="",AI6="",AJ6="",AK6="",AL6="",AM6="",AN6="",AO6="",AP6="",AQ6=""),"",IF(AND(AE6="N/A",AF6="N/A",AG6="N/A",AH6="N/A",AI6="N/A",AJ6="N/A",AK6="N/A",AL6="N/A",AM6="N/A",AN6="N/A",AO6="N/A",AP6="N/A",AQ6="N/A"),"N/A",IF(MAX(AE6:AQ6)=0,"",MAX(AE6:AQ6))))) | O6: Add new UC2 to LCOM, 1JBT, CORP | P6: 43301 | Q6: 43301 | R6: 43253 | S6: 43253 | T6: 43301 | U6: 43253 | V6: 43214 | W6: 43253 | X6: 43300 | Y6: 43253 | Z6: 43253 | AA6: 43253 | AB6: 43253 | AC6: 43253 | AD6: 43253 | AE6: N/A | AF6: 43165 | AG6: 43165 | AR6: Inactive | AS6: Inactive | AT6: Inactive | AU6: Inactive | AV6: Inactive | AW6: Inactive | AX6: Inactive | AY6: Inactive | AZ6: Inactive | BA6: Inactive | BB6: Inactive | BC6: Inactive | BD6: Inactive | BG6: 43301 | BH6: 43412 | BI6: 43412 | BJ6: 43412 | BK6: 43412 | BL6: 43412 | BM6: 43480 | BN6: 43480 | BO6: 43480 | BP6: 43480
A7: =LEFT(Table1[[#This Row],[Level]],2)&"-"&Table1[[#This Row],[Seq]] -> L1-5 | B7: L1-COA | C7: =IFERROR(IF(AND(Table1[[#This Row],[Level]]=B6,Table1[[#This Row],[Form Name]]=E6),C6,IF(Table1[[#This Row],[Level]]=B6,C6+1,1)),1) -> 5 | D7: ACC | E7: Unit Code 3 | F7: After Seed | G7: GL | H7: Yes | I7: Global | J7: Manual | K7: =IFERROR(VLOOKUP(E7,'Data Owners'!G:H,2,0),VLOOKUP(D7,'Data Owners'!A:D,3,0)) -> SL9 Data | L7: =IF(OR(P7="",Q7="",R7="",S7="",T7="",U7="",V7="",W7="",X7="",Y7="",Z7="",AA7="",AB7="",AC7="",AD7=""),"",IF(AND(P7="N/A",Q7="N/A",R7="N/A",S7="N/A",T7="N/A",U7="N/A",V7="N/A",W7="N/A",X7="N/A",Y7="N/A",Z7="N/A",AA7="N/A",AB7="N/A",AC7="N/A",AD7="N/A"),"N/A",IF(MAX(P7:AD7)=0,"",MAX(P7:AD7)))) -> 43301 | M7: =IF(OR(AE7="Need Info",AF7="Need Info",AG7="Need Info",AH7="Need Info",AI7="Need Info",AJ7="Need Info",AK7="Need Info",AL7="Need Info",AM7="Need Info",AN7="Need Info",AO7="Need Info",AP7="Need Info",AQ7="Need Info"),"Need Info",IF(OR(AE7="",AF7="",AG7="",AH7="",AI7="",AJ7="",AK7="",AL7="",AM7="",AN7="",AO7="",AP7="",AQ7=""),"",IF(AND(AE7="N/A",AF7="N/A",AG7="N/A",AH7="N/A",AI7="N/A",AJ7="N/A",AK7="N/A",AL7="N/A",AM7="N/A",AN7="N/A",AO7="N/A",AP7="N/A",AQ7="N/A"),"N/A",IF(MAX(AE7:AQ7)=0,"",MAX(AE7:AQ7))))) | P7: 43301 | Q7: 43253 | R7: 43253 | S7: 43253 | T7: 43253 | U7: 43253 | V7: 43174 | W7: 43253 | X7: 43253 | Y7: 43253 | Z7: 43253 | AA7: 43253 | AB7: 43253 | AC7: 43253 | AD7: 43253 | AE7: N/A | AF7: N/A | AG7: N/A | AR7: Inactive | AS7: Inactive | AT7: Inactive | AU7: Inactive | AV7: Inactive | AW7: Inactive | AX7: Inactive | AY7: Inactive | AZ7: Inactive | BA7: Inactive | BB7: Inactive | BC7: Inactive | BD7: Inactive | BG7: 43253 | BH7: 43403 | BI7: 43403 | BJ7: 43403 | BK7: 43403 | BL7: 43403 | BM7: N/A | BN7: 43510 | BO7: 43510 | BP7: 43479
A8: =LEFT(Table1[[#This Row],[Level]],2)&"-"&Table1[[#This Row],[Seq]] -> L1-6 | B8: L1-COA | C8: =IFERROR(IF(AND(Table1[[#This Row],[Level]]=B7,Table1[[#This Row],[Form Name]]=E7),C7,IF(Table1[[#This Row],[Level]]=B7,C7+1,1)),1) -> 6 | D8: ACC | E8: Unit Code 4 | F8: After Seed | G8: GL | H8: Yes | I8: Global | J8: Manual | K8: =IFERROR(VLOOKUP(E8,'Data Owners'!G:H,2,0),VLOOKUP(D8,'Data Owners'!A:D,3,0)) -> SL9 Data | L8: =IF(OR(P8="",Q8="",R8="",S8="",T8="",U8="",V8="",W8="",X8="",Y8="",Z8="",AA8="",AB8="",AC8="",AD8=""),"",IF(AND(P8="N/A",Q8="N/A",R8="N/A",S8="N/A",T8="N/A",U8="N/A",V8="N/A",W8="N/A",X8="N/A",Y8="N/A",Z8="N/A",AA8="N/A",AB8="N/A",AC8="N/A",AD8="N/A"),"N/A",IF(MAX(P8:AD8)=0,"",MAX(P8:AD8)))) -> 43301 | M8: =IF(OR(AE8="Need Info",AF8="Need Info",AG8="Need Info",AH8="Need Info",AI8="Need Info",AJ8="Need Info",AK8="Need Info",AL8="Need Info",AM8="Need Info",AN8="Need Info",AO8="Need Info",AP8="Need Info",AQ8="Need Info"),"Need Info",IF(OR(AE8="",AF8="",AG8="",AH8="",AI8="",AJ8="",AK8="",AL8="",AM8="",AN8="",AO8="",AP8="",AQ8=""),"",IF(AND(AE8="N/A",AF8="N/A",AG8="N/A",AH8="N/A",AI8="N/A",AJ8="N/A",AK8="N/A",AL8="N/A",AM8="N/A",AN8="N/A",AO8="N/A",AP8="N/A",AQ8="N/A"),"N/A",IF(MAX(AE8:AQ8)=0,"",MAX(AE8:AQ8))))) | P8: 43301 | Q8: 43253 | R8: 43253 | S8: 43253 | T8: 43253 | U8: 43253 | V8: 43173 | W8: 43253 | X8: 43253 | Y8: 43253 | Z8: 43253 | AA8: 43253 | AB8: 43253 | AC8: 43253 | AD8: 43253 | AE8: N/A | AF8: 43165 | AG8: 43165 | AR8: Inactive | AS8: 43403 | AT8: 43403 | AU8: 43403 | AV8: 43403 | AW8: Need Info | AX8: Need Info | AY8: Inactive | AZ8: Inactive | BA8: Inactive | BB8: Inactive | BC8: Inactive | BD8: Inactive | BE8: 43283 | BF8: 43283 | BG8: 43253 | BH8: 43412 | BI8: 43412 | BJ8: 43412 | BK8: 43412 | BL8: 43412 | BM8: 43480 | BN8: 43479 | BO8: 43479 | BP8: 43479
A9: =LEFT(Table1[[#This Row],[Level]],2)&"-"&Table1[[#This Row],[Seq]] -> L1-7 | B9: L1-COA | C9: =IFERROR(IF(AND(Table1[[#This Row],[Level]]=B8,Table1[[#This Row],[Form Name]]=E8),C8,IF(Table1[[#This Row],[Level]]=B8,C8+1,1)),1) -> 7 | D9: ACC | E9: Copy Unit Codes to Accounts | F9: After Seed | G9: GL | H9: Yes | I9: Global | J9: Manual | K9: =IFERROR(VLOOKUP(E9,'Data Owners'!G:H,2,0),VLOOKUP(D9,'Data Owners'!A:D,3,0)) -> SL9 Data | L9: =IF(OR(P9="",Q9="",R9="",S9="",T9="",U9="",V9="",W9="",X9="",Y9="",Z9="",AA9="",AB9="",AC9="",AD9=""),"",IF(AND(P9="N/A",Q9="N/A",R9="N/A",S9="N/A",T9="N/A",U9="N/A",V9="N/A",W9="N/A",X9="N/A",Y9="N/A",Z9="N/A",AA9="N/A",AB9="N/A",AC9="N/A",AD9="N/A"),"N/A",IF(MAX(P9:AD9)=0,"",MAX(P9:AD9)))) -> 43446 | M9: =IF(OR(AE9="Need Info",AF9="Need Info",AG9="Need Info",AH9="Need Info",AI9="Need Info",AJ9="Need Info",AK9="Need Info",AL9="Need Info",AM9="Need Info",AN9="Need Info",AO9="Need Info",AP9="Need Info",AQ9="Need Info"),"Need Info",IF(OR(AE9="",AF9="",AG9="",AH9="",AI9="",AJ9="",AK9="",AL9="",AM9="",AN9="",AO9="",AP9="",AQ9=""),"",IF(AND(AE9="N/A",AF9="N/A",AG9="N/A",AH9="N/A",AI9="N/A",AJ9="N/A",AK9="N/A",AL9="N/A",AM9="N/A",AN9="N/A",AO9="N/A",AP9="N/A",AQ9="N/A"),"N/A",IF(MAX(AE9:AQ9)=0,"",MAX(AE9:AQ9))))) | O9: Add new UCs to LCOM, 1JBT, CORP | P9: 43402 | Q9: 43402 | R9: 43402 | S9: 43402 | T9: 43402 | U9: 43402 | V9: 43446 | W9: 43402 | X9: 43402 | Y9: 43402 | Z9: 43402 | AA9: 43402 | AB9: 43402 | AC9: 43402 | AD9: 43402 | AE9: N/A | AF9: 43467 | AG9: 43467 | AR9: Inactive | AS9: Inactive | AT9: Inactive | AU9: Inactive | AV9: Inactive | AW9: Inactive | AX9: Inactive | AY9: Inactive | AZ9: Inactive | BA9: Inactive | BB9: Inactive | BC9: Inactive | BD9: Inactive | BG9: 43402 | BH9: 43420 | BI9: 43420 | BJ9: 43420 | BK9: 43420 | BL9: 43420 | BM9: 43480 | BN9: 43479 | BO9: 43479 | BP9: 43479
A10: =LEFT(Table1[[#This Row],[Level]],2)&"-"&Table1[[#This Row],[Seq]] -> L1-8 | B10: L1-COA | C10: =IFERROR(IF(AND(Table1[[#This Row],[Level]]=B9,Table1[[#This Row],[Form Name]]=E9),C9,IF(Table1[[#This Row],[Level]]=B9,C9+1,1)),1) -> 8 | D10: ACC | E10: Chart of Account Allocations | F10: Seed | G10: GL | H10: Yes | I10: Site | J10: Manual | K10: =IFERROR(VLOOKUP(E10,'Data Owners'!G:H,2,0),VLOOKUP(D10,'Data Owners'!A:D,3,0)) -> SL9 Data | L10: =IF(OR(P10="",Q10="",R10="",S10="",T10="",U10="",V10="",W10="",X10="",Y10="",Z10="",AA10="",AB10="",AC10="",AD10=""),"",IF(AND(P10="N/A",Q10="N/A",R10="N/A",S10="N/A",T10="N/A",U10="N/A",V10="N/A",W10="N/A",X10="N/A",Y10="N/A",Z10="N/A",AA10="N/A",AB10="N/A",AC10="N/A",AD10="N/A"),"N/A",IF(MAX(P10:AD10)=0,"",MAX(P10:AD10)))) -> N/A | M10: =IF(OR(AE10="Need Info",AF10="Need Info",AG10="Need Info",AH10="Need Info",AI10="Need Info",AJ10="Need Info",AK10="Need Info",AL10="Need Info",AM10="Need Info",AN10="Need Info",AO10="Need Info",AP10="Need Info",AQ10="Need Info"),"Need Info",IF(OR(AE10="",AF10="",AG10="",AH10="",AI10="",AJ10="",AK10="",AL10="",AM10="",AN10="",AO10="",AP10="",AQ10=""),"",IF(AND(AE10="N/A",AF10="N/A",AG10="N/A",AH10="N/A",AI10="N/A",AJ10="N/A",AK10="N/A",AL10="N/A",AM10="N/A",AN10="N/A",AO10="N/A",AP10="N/A",AQ10="N/A"),"N/A",IF(MAX(AE10:AQ10)=0,"",MAX(AE10:AQ10))))) -> N/A | P10: N/A | Q10: N/A | R10: N/A | S10: N/A | T10: N/A | U10: N/A | V10: N/A | W10: N/A | X10: N/A | Y10: N/A | Z10: N/A | AA10: N/A | AB10: N/A | AC10: N/A | AD10: N/A | AE10: N/A | AF10: N/A | AG10: N/A | AH10: N/A | AI10: N/A | AJ10: N/A | AK10: N/A | AL10: N/A | AM10: N/A | AN10: N/A | AO10: N/A | AP10: N/A | AQ10: N/A | AR10: N/A | AS10: N/A | AT10: N/A | AU10: N/A | AV10: N/A | AW10: N/A | AX10: N/A | AY10: Inactive | AZ10: Inactive | BA10: Inactive | BB10: Inactive | BC10: Inactive | BD10: Inactive | BE10: N/A | BF10: N/A | BG10: N/A | BH10: N/A | BI10: N/A | BJ10: N/A | BK10: N/A | BL10: N/A | BM10: N/A | BN10: Need Info | BO10: Need Info | BP10: Need Info
A11: =LEFT(Table1[[#This Row],[Level]],2)&"-"&Table1[[#This Row],[Seq]] -> L2-1 | B11: L2-Code | C11: =IFERROR(IF(AND(Table1[[#This Row],[Level]]=B10,Table1[[#This Row],[Form Name]]=E10),C10,IF(Table1[[#This Row],[Level]]=B10,C10+1,1)),1) -> 1 | D11: GEN | E11: Billing Terms | F11: Seed | H11: Yes | I11: Global | J11: Manual | K11: =IFERROR(VLOOKUP(E11,'Data Owners'!G:H,2,0),VLOOKUP(D11,'Data Owners'!A:D,3,0)) -> All | L11: =IF(OR(P11="",Q11="",R11="",S11="",T11="",U11="",V11="",W11="",X11="",Y11="",Z11="",AA11="",AB11="",AC11="",AD11=""),"",IF(AND(P11="N/A",Q11="N/A",R11="N/A",S11="N/A",T11="N/A",U11="N/A",V11="N/A",W11="N/A",X11="N/A",Y11="N/A",Z11="N/A",AA11="N/A",AB11="N/A",AC11="N/A",AD11="N/A"),"N/A",IF(MAX(P11:AD11)=0,"",MAX(P11:AD11)))) -> 43536 | M11: =IF(OR(AE11="Need Info",AF11="Need Info",AG11="Need Info",AH11="Need Info",AI11="Need Info",AJ11="Need Info",AK11="Need Info",AL11="Need Info",AM11="Need Info",AN11="Need Info",AO11="Need Info",AP11="Need Info",AQ11="Need Info"),"Need Info",IF(OR(AE11="",AF11="",AG11="",AH11="",AI11="",AJ11="",AK11="",AL11="",AM11="",AN11="",AO11="",AP11="",AQ11=""),"",IF(AND(AE11="N/A",AF11="N/A",AG11="N/A",AH11="N/A",AI11="N/A",AJ11="N/A",AK11="N/A",AL11="N/A",AM11="N/A",AN11="N/A",AO11="N/A",AP11="N/A",AQ11="N/A"),"N/A",IF(MAX(AE11:AQ11)=0,"",MAX(AE11:AQ11))))) | O11: Add new to 1JBT, CORP | P11: N/A | Q11: N/A | R11: N/A | S11: N/A | T11: 43536 | U11: 43536 | V11: 43536 | W11: 43536 | X11: 43536 | Y11: 43536 | Z11: 43536 | AA11: 43536 | AB11: 43536 | AC11: 43536 | AD11: 43536 | AE11: N/A | AH11: N/A | AK11: N/A | AN11: N/A | AP11: N/A | AW11: N/A | AY11: Inactive | BA11: Inactive | BC11: Inactive | BE11: N/A | BG11: 43409 | BH11: 43409 | BI11: 43409 | BJ11: 43409 | BK11: 43409 | BL11: 43409 | BN11: =Table1[[#This Row],[Seed: Seed_BKK1]] -> 0 | BO11: =Table1[[#This Row],[Seed: Seed_THQ1]] -> 0 | BP11: =Table1[[#This Row],[Seed: Seed_SIN1]] -> 0
A12: =LEFT(Table1[[#This Row],[Level]],2)&"-"&Table1[[#This Row],[Seq]] -> L2-2 | B12: L2-Code | C12: =IFERROR(IF(AND(Table1[[#This Row],[Level]]=B11,Table1[[#This Row],[Form Name]]=E11),C11,IF(Table1[[#This Row],[Level]]=B11,C11+1,1)),1) -> 2 | D12: GEN | E12: Countries | F12: Seed | H12: Yes | I12: Global | J12: Manual | K12: =IFERROR(VLOOKUP(E12,'Data Owners'!G:H,2,0),VLOOKUP(D12,'Data Owners'!A:D,3,0)) -> All | L12: =IF(OR(P12="",Q12="",R12="",S12="",T12="",U12="",V12="",W12="",X12="",Y12="",Z12="",AA12="",AB12="",AC12="",AD12=""),"",IF(AND(P12="N/A",Q12="N/A",R12="N/A",S12="N/A",T12="N/A",U12="N/A",V12="N/A",W12="N/A",X12="N/A",Y12="N/A",Z12="N/A",AA12="N/A",AB12="N/A",AC12="N/A",AD12="N/A"),"N/A",IF(MAX(P12:AD12)=0,"",MAX(P12:AD12)))) -> 43525 | M12: =IF(OR(AE12="Need Info",AF12="Need Info",AG12="Need Info",AH12="Need Info",AI12="Need Info",AJ12="Need Info",AK12="Need Info",AL12="Need Info",AM12="Need Info",AN12="Need Info",AO12="Need Info",AP12="Need Info",AQ12="Need Info"),"Need Info",IF(OR(AE12="",AF12="",AG12="",AH12="",AI12="",AJ12="",AK12="",AL12="",AM12="",AN12="",AO12="",AP12="",AQ12=""),"",IF(AND(AE12="N/A",AF12="N/A",AG12="N/A",AH12="N/A",AI12="N/A",AJ12="N/A",AK12="N/A",AL12="N/A",AM12="N/A",AN12="N/A",AO12="N/A",AP12="N/A",AQ12="N/A"),"N/A",IF(MAX(AE12:AQ12)=0,"",MAX(AE12:AQ12))))) -> 43402 | P12: 43525 | Q12: 43104 | R12: 43172 | S12: 43172 | T12: 43104 | U12: 43104 | V12: 43165 | W12: 43104 | X12: 43104 | Y12: 43172 | Z12: 43172 | AA12: 43172 | AB12: 43172 | AC12: 43104 | AD12: 43104 | AE12: N/A | AF12: 43402 | AG12: 43402 | AH12: 43402 | AI12: 43402 | AJ12: 43402 | AK12: 43402 | AL12: 43402 | AM12: 43402 | AN12: 43402 | AO12: 43402 | AP12: 43402 | AQ12: 43402 | AR12: 43402 | AS12: 43402 | AT12: 43402 | AU12: 43402 | AV12: 43402 | AW12: 43402 | AX12: 43402 | AY12: 43402 | AZ12: 43402 | BA12: 43402 | BB12: 43402 | BC12: 43402 | BD12: 43402 | BE12: 43283 | BF12: 43165 | BG12: 43104 | BH12: 43402 | BI12: 43402 | BJ12: 43402 | BK12: 43402 | BL12: 43402 | BN12: =Table1[[#This Row],[Seed: Seed_BKK1]] -> 43402 | BO12: =Table1[[#This Row],[Seed: Seed_THQ1]] -> 43402 | BP12: =Table1[[#This Row],[Seed: Seed_SIN1]] -> 43402
A13: =LEFT(Table1[[#This Row],[Level]],2)&"-"&Table1[[#This Row],[Seq]] -> L2-3 | B13: L2-Code | C13: =IFERROR(IF(AND(Table1[[#This Row],[Level]]=B12,Table1[[#This Row],[Form Name]]=E12),C12,IF(Table1[[#This Row],[Level]]=B12,C12+1,1)),1) -> 3 | D13: GEN | E13: Delivery Terms | F13: Seed | H13: Yes | I13: Global | J13: Manual | K13: =IFERROR(VLOOKUP(E13,'Data Owners'!G:H,2,0),VLOOKUP(D13,'Data Owners'!A:D,3,0)) -> All | L13: =IF(OR(P13="",Q13="",R13="",S13="",T13="",U13="",V13="",W13="",X13="",Y13="",Z13="",AA13="",AB13="",AC13="",AD13=""),"",IF(AND(P13="N/A",Q13="N/A",R13="N/A",S13="N/A",T13="N/A",U13="N/A",V13="N/A",W13="N/A",X13="N/A",Y13="N/A",Z13="N/A",AA13="N/A",AB13="N/A",AC13="N/A",AD13="N/A"),"N/A",IF(MAX(P13:AD13)=0,"",MAX(P13:AD13)))) -> 43172 | M13: =IF(OR(AE13="Need Info",AF13="Need Info",AG13="Need Info",AH13="Need Info",AI13="Need Info",AJ13="Need Info",AK13="Need Info",AL13="Need Info",AM13="Need Info",AN13="Need Info",AO13="Need Info",AP13="Need Info",AQ13="Need Info"),"Need Info",IF(OR(AE13="",AF13="",AG13="",AH13="",AI13="",AJ13="",AK13="",AL13="",AM13="",AN13="",AO13="",AP13="",AQ13=""),"",IF(AND(AE13="N/A",AF13="N/A",AG13="N/A",AH13="N/A",AI13="N/A",AJ13="N/A",AK13="N/A",AL13="N/A",AM13="N/A",AN13="N/A",AO13="N/A",AP13="N/A",AQ13="N/A"),"N/A",IF(MAX(AE13:AQ13)=0,"",MAX(AE13:AQ13))))) -> 43403 | P13: N/A | Q13: N/A | R13: N/A | S13: N/A | T13: 43105 | U13: 43105 | V13: 43165 | W13: 43105 | X13: 43105 | Y13: 43172 | Z13: 43172 | AA13: 43172 | AB13: 43172 | AC13: 43105 | AD13: 43105 | AE13: N/A | AF13: 43165 | AG13: 43165 | AH13: N/A | AI13: 43403 | AJ13: 43403 | AK13: N/A | AL13: 43403 | AM13: 43403 | AN13: N/A | AO13: 43403 | AP13: N/A | AQ13: 43403 | AR13: 43403 | AS13: 43403 | AT13: 43403 | AU13: 43403 | AV13: 43403 | AW13: N/A | AX13: 43403 | AY13: Inactive | AZ13: 43403 | BA13: Inactive | BB13: 43403 | BC13: Inactive | BD13: 43403 | BE13: N/A | BF13: 43165 | BG13: 43105 | BH13: 43403 | BI13: 43403 | BJ13: 43403 | BK13: 43403 | BL13: 43403 | BN13: =Table1[[#This Row],[Seed: Seed_BKK1]] -> 43403 | BO13: =Table1[[#This Row],[Seed: Seed_THQ1]] -> 43403 | BP13: =Table1[[#This Row],[Seed: Seed_SIN1]] -> 43403
A14: =LEFT(Table1[[#This Row],[Level]],2)&"-"&Table1[[#This Row],[Seq]] -> L2-4 | B14: L2-Code | C14: =IFERROR(IF(AND(Table1[[#This Row],[Level]]=B13,Table1[[#This Row],[Form Name]]=E13),C13,IF(Table1[[#This Row],[Level]]=B13,C13+1,1)),1) -> 4 | D14: GEN | E14: Prov States | F14: Seed | H14: Yes | I14: Global | J14: Manual | K14: =IFERROR(VLOOKUP(E14,'Data Owners'!G:H,2,0),VLOOKUP(D14,'Data Owners'!A:D,3,0)) -> All | L14: =IF(OR(P14="",Q14="",R14="",S14="",T14="",U14="",V14="",W14="",X14="",Y14="",Z14="",AA14="",AB14="",AC14="",AD14=""),"",IF(AND(P14="N/A",Q14="N/A",R14="N/A",S14="N/A",T14="N/A",U14="N/A",V14="N/A",W14="N/A",X14="N/A",Y14="N/A",Z14="N/A",AA14="N/A",AB14="N/A",AC14="N/A",AD14="N/A"),"N/A",IF(MAX(P14:AD14)=0,"",MAX(P14:AD14)))) -> 43172 | M14: =IF(OR(AE14="Need Info",AF14="Need Info",AG14="Need Info",AH14="Need Info",AI14="Need Info",AJ14="Need Info",AK14="Need Info",AL14="Need Info",AM14="Need Info",AN14="Need Info",AO14="Need Info",AP14="Need Info",AQ14="Need Info"),"Need Info",IF(OR(AE14="",AF14="",AG14="",AH14="",AI14="",AJ14="",AK14="",AL14="",AM14="",AN14="",AO14="",AP14="",AQ14=""),"",IF(AND(AE14="N/A",AF14="N/A",AG14="N/A",AH14="N/A",AI14="N/A",AJ14="N/A",AK14="N/A",AL14="N/A",AM14="N/A",AN14="N/A",AO14="N/A",AP14="N/A",AQ14="N/A"),"N/A",IF(MAX(AE14:AQ14)=0,"",MAX(AE14:AQ14))))) -> 43403 | P14: N/A | Q14: N/A | R14: N/A | S14: N/A | T14: 43105 | U14: 43105 | V14: 43165 | W14: 43105 | X14: 43105 | Y14: 43172 | Z14: 43172 | AA14: 43172 | AB14: 43172 | AC14: 43105 | AD14: 43105 | AE14: N/A | AF14: 43165 | AG14: 43165 | AH14: N/A | AI14: 43403 | AJ14: 43403 | AK14: N/A | AL14: 43403 | AM14: 43403 | AN14: N/A | AO14: 43403 | AP14: N/A | AQ14: 43403 | AR14: 43403 | AS14: 43403 | AT14: 43403 | AU14: 43403 | AV14: 43403 | AW14: N/A | AX14: 43403 | AY14: Inactive | AZ14: 43403 | BA14: Inactive | BB14: 43403 | BC14: Inactive | BD14: 43403 | BE14: N/A | BF14: 43165 | BG14: 43411 | BH14: 43411 | BI14: 43411 | BJ14: 43411 | BK14: 43411 | BL14: 43411 | BN14: =Table1[[#This Row],[Seed: Seed_BKK1]] -> 43403 | BO14: =Table1[[#This Row],[Seed: Seed_THQ1]] -> 43403 | BP14: =Table1[[#This Row],[Seed: Seed_SIN1]] -> 43403
A15: =LEFT(Table1[[#This Row],[Level]],2)&"-"&Table1[[#This Row],[Seq]] -> L2-5 | B15: L2-Code | C15: =IFERROR(IF(AND(Table1[[#This Row],[Level]]=B14,Table1[[#This Row],[Form Name]]=E14),C14,IF(Table1[[#This Row],[Level]]=B14,C14+1,1)),1) -> 5 | D15: GEN | E15: Interaction Topics | F15: Seed | K15: =IFERROR(VLOOKUP(E15,'Data Owners'!G:H,2,0),VLOOKUP(D15,'Data Owners'!A:D,3,0)) -> All | L15: =IF(OR(P15="",Q15="",R15="",S15="",T15="",U15="",V15="",W15="",X15="",Y15="",Z15="",AA15="",AB15="",AC15="",AD15=""),"",IF(AND(P15="N/A",Q15="N/A",R15="N/A",S15="N/A",T15="N/A",U15="N/A",V15="N/A",W15="N/A",X15="N/A",Y15="N/A",Z15="N/A",AA15="N/A",AB15="N/A",AC15="N/A",AD15="N/A"),"N/A",IF(MAX(P15:AD15)=0,"",MAX(P15:AD15)))) -> N/A | M15: =IF(OR(AE15="Need Info",AF15="Need Info",AG15="Need Info",AH15="Need Info",AI15="Need Info",AJ15="Need Info",AK15="Need Info",AL15="Need Info",AM15="Need Info",AN15="Need Info",AO15="Need Info",AP15="Need Info",AQ15="Need Info"),"Need Info",IF(OR(AE15="",AF15="",AG15="",AH15="",AI15="",AJ15="",AK15="",AL15="",AM15="",AN15="",AO15="",AP15="",AQ15=""),"",IF(AND(AE15="N/A",AF15="N/A",AG15="N/A",AH15="N/A",AI15="N/A",AJ15="N/A",AK15="N/A",AL15="N/A",AM15="N/A",AN15="N/A",AO15="N/A",AP15="N/A",AQ15="N/A"),"N/A",IF(MAX(AE15:AQ15)=0,"",MAX(AE15:AQ15))))) -> N/A | P15: N/A | Q15: N/A | R15: N/A | S15: N/A | T15: N/A | U15: N/A | V15: N/A | W15: N/A | X15: N/A | Y15: N/A | Z15: N/A | AA15: N/A | AB15: N/A | AC15: N/A | AD15: N/A | AE15: N/A | AF15: N/A | AG15: N/A | AH15: N/A | AI15: N/A | AJ15: N/A | AK15: N/A | AL15: N/A | AM15: N/A | AN15: N/A | AO15: N/A | AP15: N/A | AQ15: N/A | AR15: N/A | AS15: N/A | AT15: N/A | AU15: N/A | AV15: N/A | AW15: N/A | AX15: N/A | AY15: Inactive | AZ15: Inactive | BA15: Inactive | BB15: Inactive | BC15: Inactive | BD15: Inactive | BE15: N/A | BF15: N/A | BG15: N/A | BH15: N/A | BI15: N/A | BJ15: N/A | BK15: N/A | BL15: N/A | BM15: N/A | BN15: N/A | BO15: N/A | BP15: N/A
A16: =LEFT(Table1[[#This Row],[Level]],2)&"-"&Table1[[#This Row],[Seq]] -> L2-6 | B16: L2-Code | C16: =IFERROR(IF(AND(Table1[[#This Row],[Level]]=B15,Table1[[#This Row],[Form Name]]=E15),C15,IF(Table1[[#This Row],[Level]]=B15,C15+1,1)),1) -> 6 | D16: GEN | E16: Multi-Lingual Service Invoice | F16: Seed | K16: =IFERROR(VLOOKUP(E16,'Data Owners'!G:H,2,0),VLOOKUP(D16,'Data Owners'!A:D,3,0)) -> All | L16: =IF(OR(P16="",Q16="",R16="",S16="",T16="",U16="",V16="",W16="",X16="",Y16="",Z16="",AA16="",AB16="",AC16="",AD16=""),"",IF(AND(P16="N/A",Q16="N/A",R16="N/A",S16="N/A",T16="N/A",U16="N/A",V16="N/A",W16="N/A",X16="N/A",Y16="N/A",Z16="N/A",AA16="N/A",AB16="N/A",AC16="N/A",AD16="N/A"),"N/A",IF(MAX(P16:AD16)=0,"",MAX(P16:AD16)))) -> N/A | M16: =IF(OR(AE16="Need Info",AF16="Need Info",AG16="Need Info",AH16="Need Info",AI16="Need Info",AJ16="Need Info",AK16="Need Info",AL16="Need Info",AM16="Need Info",AN16="Need Info",AO16="Need Info",AP16="Need Info",AQ16="Need Info"),"Need Info",IF(OR(AE16="",AF16="",AG16="",AH16="",AI16="",AJ16="",AK16="",AL16="",AM16="",AN16="",AO16="",AP16="",AQ16=""),"",IF(AND(AE16="N/A",AF16="N/A",AG16="N/A",AH16="N/A",AI16="N/A",AJ16="N/A",AK16="N/A",AL16="N/A",AM16="N/A",AN16="N/A",AO16="N/A",AP16="N/A",AQ16="N/A"),"N/A",IF(MAX(AE16:AQ16)=0,"",MAX(AE16:AQ16))))) -> N/A | P16: N/A | Q16: N/A | R16: N/A | S16: N/A | T16: N/A | U16: N/A | V16: N/A | W16: N/A | X16: N/A | Y16: N/A | Z16: N/A | AA16: N/A | AB16: N/A | AC16: N/A | AD16: N/A | AE16: N/A | AF16: N/A | AG16: N/A | AH16: N/A | AI16: N/A | AJ16: N/A | AK16: N/A | AL16: N/A | AM16: N/A | AN16: N/A | AO16: N/A | AP16: N/A | AQ16: N/A | AR16: N/A | AS16: N/A | AT16: N/A | AU16: N/A | AV16: N/A | AW16: N/A | AX16: N/A | AY16: Inactive | AZ16: Inactive | BA16: Inactive | BB16: Inactive | BC16: Inactive | BD16: Inactive | BE16: N/A | BG16: N/A | BH16: N/A | BI16: N/A | BJ16: N/A | BK16: N/A | BL16: N/A | BM16: N/A | BN16: N/A | BO16: N/A | BP16: N/A
A17: =LEFT(Table1[[#This Row],[Level]],2)&"-"&Table1[[#This Row],[Seq]] -> L2-7 | B17: L2-Code | C17: =IFERROR(IF(AND(Table1[[#This Row],[Level]]=B16,Table1[[#This Row],[Form Name]]=E16),C16,IF(Table1[[#This Row],[Level]]=B16,C16+1,1)),1) -> 7 | D17: GEN | E17: Multi-Lingual Ship Via | F17: Seed | K17: =IFERROR(VLOOKUP(E17,'Data Owners'!G:H,2,0),VLOOKUP(D17,'Data Owners'!A:D,3,0)) -> All | L17: =IF(OR(P17="",Q17="",R17="",S17="",T17="",U17="",V17="",W17="",X17="",Y17="",Z17="",AA17="",AB17="",AC17="",AD17=""),"",IF(AND(P17="N/A",Q17="N/A",R17="N/A",S17="N/A",T17="N/A",U17="N/A",V17="N/A",W17="N/A",X17="N/A",Y17="N/A",Z17="N/A",AA17="N/A",AB17="N/A",AC17="N/A",AD17="N/A"),"N/A",IF(MAX(P17:AD17)=0,"",MAX(P17:AD17)))) -> N/A | M17: =IF(OR(AE17="Need Info",AF17="Need Info",AG17="Need Info",AH17="Need Info",AI17="Need Info",AJ17="Need Info",AK17="Need Info",AL17="Need Info",AM17="Need Info",AN17="Need Info",AO17="Need Info",AP17="Need Info",AQ17="Need Info"),"Need Info",IF(OR(AE17="",AF17="",AG17="",AH17="",AI17="",AJ17="",AK17="",AL17="",AM17="",AN17="",AO17="",AP17="",AQ17=""),"",IF(AND(AE17="N/A",AF17="N/A",AG17="N/A",AH17="N/A",AI17="N/A",AJ17="N/A",AK17="N/A",AL17="N/A",AM17="N/A",AN17="N/A",AO17="N/A",AP17="N/A",AQ17="N/A"),"N/A",IF(MAX(AE17:AQ17)=0,"",MAX(AE17:AQ17))))) -> N/A | P17: N/A | Q17: N/A | R17: N/A | S17: N/A | T17: N/A | U17: N/A | V17: N/A | W17: N/A | X17: N/A | Y17: N/A | Z17: N/A | AA17: N/A | AB17: N/A | AC17: N/A | AD17: N/A | AE17: N/A | AF17: N/A | AG17: N/A | AH17: N/A | AI17: N/A | AJ17: N/A | AK17: N/A | AL17: N/A | AM17: N/A | AN17: N/A | AO17: N/A | AP17: N/A | AQ17: N/A | AR17: N/A | AS17: N/A | AT17: N/A | AU17: N/A | AV17: N/A | AW17: N/A | AX17: N/A | AY17: Inactive | AZ17: Inactive | BA17: Inactive | BB17: Inactive | BC17: Inactive | BD17: Inactive | BE17: N/A | BG17: N/A | BH17: N/A | BI17: N/A | BJ17: N/A | BK17: N/A | BL17: N/A | BM17: N/A | BN17: N/A | BO17: N/A | BP17: N/A
A18: =LEFT(Table1[[#This Row],[Level]],2)&"-"&Table1[[#This Row],[Seq]] -> L2-8 | B18: L2-Code | C18: =IFERROR(IF(AND(Table1[[#This Row],[Level]]=B17,Table1[[#This Row],[Form Name]]=E17),C17,IF(Table1[[#This Row],[Level]]=B17,C17+1,1)),1) -> 8 | D18: GEN | E18: Multi-Lingual Terms | F18: Seed | K18: =IFERROR(VLOOKUP(E18,'Data Owners'!G:H,2,0),VLOOKUP(D18,'Data Owners'!A:D,3,0)) -> All | L18: =IF(OR(P18="",Q18="",R18="",S18="",T18="",U18="",V18="",W18="",X18="",Y18="",Z18="",AA18="",AB18="",AC18="",AD18=""),"",IF(AND(P18="N/A",Q18="N/A",R18="N/A",S18="N/A",T18="N/A",U18="N/A",V18="N/A",W18="N/A",X18="N/A",Y18="N/A",Z18="N/A",AA18="N/A",AB18="N/A",AC18="N/A",AD18="N/A"),"N/A",IF(MAX(P18:AD18)=0,"",MAX(P18:AD18)))) -> N/A | M18: =IF(OR(AE18="Need Info",AF18="Need Info",AG18="Need Info",AH18="Need Info",AI18="Need Info",AJ18="Need Info",AK18="Need Info",AL18="Need Info",AM18="Need Info",AN18="Need Info",AO18="Need Info",AP18="Need Info",AQ18="Need Info"),"Need Info",IF(OR(AE18="",AF18="",AG18="",AH18="",AI18="",AJ18="",AK18="",AL18="",AM18="",AN18="",AO18="",AP18="",AQ18=""),"",IF(AND(AE18="N/A",AF18="N/A",AG18="N/A",AH18="N/A",AI18="N/A",AJ18="N/A",AK18="N/A",AL18="N/A",AM18="N/A",AN18="N/A",AO18="N/A",AP18="N/A",AQ18="N/A"),"N/A",IF(MAX(AE18:AQ18)=0,"",MAX(AE18:AQ18))))) -> N/A | P18: N/A | Q18: N/A | R18: N/A | S18: N/A | T18: N/A | U18: N/A | V18: N/A | W18: N/A | X18: N/A | Y18: N/A | Z18: N/A | AA18: N/A | AB18: N/A | AC18: N/A | AD18: N/A | AE18: N/A | AF18: N/A | AG18: N/A | AH18: N/A | AI18: N/A | AJ18: N/A | AK18: N/A | AL18: N/A | AM18: N/A | AN18: N/A | AO18: N/A | AP18: N/A | AQ18: N/A | AR18: N/A | AS18: N/A | AT18: N/A | AU18: N/A | AV18: N/A | AW18: N/A | AX18: N/A | AY18: Inactive | AZ18: Inactive | BA18: Inactive | BB18: Inactive | BC18: Inactive | BD18: Inactive | BE18: N/A | BG18: N/A | BH18: N/A | BI18: N/A | BJ18: N/A | BK18: N/A | BL18: N/A | BM18: N/A | BN18: N/A | BO18: N/A | BP18: N/A
A19: =LEFT(Table1[[#This Row],[Level]],2)&"-"&Table1[[#This Row],[Seq]] -> L2-9 | B19: L2-Code | C19: =IFERROR(IF(AND(Table1[[#This Row],[Level]]=B18,Table1[[#This Row],[Form Name]]=E18),C18,IF(Table1[[#This Row],[Level]]=B18,C18+1,1)),1) -> 9 | D19: GEN | E19: Nature of Transaction Codes | F19: Seed | K19: =IFERROR(VLOOKUP(E19,'Data Owners'!G:H,2,0),VLOOKUP(D19,'Data Owners'!A:D,3,0)) -> All | L19: =IF(OR(P19="",Q19="",R19="",S19="",T19="",U19="",V19="",W19="",X19="",Y19="",Z19="",AA19="",AB19="",AC19="",AD19=""),"",IF(AND(P19="N/A",Q19="N/A",R19="N/A",S19="N/A",T19="N/A",U19="N/A",V19="N/A",W19="N/A",X19="N/A",Y19="N/A",Z19="N/A",AA19="N/A",AB19="N/A",AC19="N/A",AD19="N/A"),"N/A",IF(MAX(P19:AD19)=0,"",MAX(P19:AD19)))) -> N/A | M19: =IF(OR(AE19="Need Info",AF19="Need Info",AG19="Need Info",AH19="Need Info",AI19="Need Info",AJ19="Need Info",AK19="Need Info",AL19="Need Info",AM19="Need Info",AN19="Need Info",AO19="Need Info",AP19="Need Info",AQ19="Need Info"),"Need Info",IF(OR(AE19="",AF19="",AG19="",AH19="",AI19="",AJ19="",AK19="",AL19="",AM19="",AN19="",AO19="",AP19="",AQ19=""),"",IF(AND(AE19="N/A",AF19="N/A",AG19="N/A",AH19="N/A",AI19="N/A",AJ19="N/A",AK19="N/A",AL19="N/A",AM19="N/A",AN19="N/A",AO19="N/A",AP19="N/A",AQ19="N/A"),"N/A",IF(MAX(AE19:AQ19)=0,"",MAX(AE19:AQ19))))) -> N/A | P19: N/A | Q19: N/A | R19: N/A | S19: N/A | T19: N/A | U19: N/A | V19: N/A | W19: N/A | X19: N/A | Y19: N/A | Z19: N/A | AA19: N/A | AB19: N/A | AC19: N/A | AD19: N/A | AE19: N/A | AF19: N/A | AG19: N/A | AH19: N/A | AI19: N/A | AJ19: N/A | AK19: N/A | AL19: N/A | AM19: N/A | AN19: N/A | AO19: N/A | AP19: N/A | AQ19: N/A | AR19: N/A | AS19: N/A | AT19: N/A | AU19: N/A | AV19: N/A | AW19: N/A | AX19: N/A | AY19: Inactive | AZ19: Inactive | BA19: Inactive | BB19: Inactive | BC19: Inactive | BD19: Inactive | BE19: N/A | BF19: N/A | BG19: N/A | BH19: N/A | BI19: N/A | BJ19: N/A | BK19: N/A | BL19: N/A | BM19: N/A | BN19: N/A | BO19: N/A | BP19: N/A
A20: =LEFT(Table1[[#This Row],[Level]],2)&"-"&Table1[[#This Row],[Seq]] -> L2-10 | B20: L2-Code | C20: =IFERROR(IF(AND(Table1[[#This Row],[Level]]=B19,Table1[[#This Row],[Form Name]]=E19),C19,IF(Table1[[#This Row],[Level]]=B19,C19+1,1)),1) -> 10 | D20: GEN | E20: Secondary Nature of Transaction Code | F20: Seed | K20: =IFERROR(VLOOKUP(E20,'Data Owners'!G:H,2,0),VLOOKUP(D20,'Data Owners'!A:D,3,0)) -> All | L20: =IF(OR(P20="",Q20="",R20="",S20="",T20="",U20="",V20="",W20="",X20="",Y20="",Z20="",AA20="",AB20="",AC20="",AD20=""),"",IF(AND(P20="N/A",Q20="N/A",R20="N/A",S20="N/A",T20="N/A",U20="N/A",V20="N/A",W20="N/A",X20="N/A",Y20="N/A",Z20="N/A",AA20="N/A",AB20="N/A",AC20="N/A",AD20="N/A"),"N/A",IF(MAX(P20:AD20)=0,"",MAX(P20:AD20)))) -> N/A | M20: =IF(OR(AE20="Need Info",AF20="Need Info",AG20="Need Info",AH20="Need Info",AI20="Need Info",AJ20="Need Info",AK20="Need Info",AL20="Need Info",AM20="Need Info",AN20="Need Info",AO20="Need Info",AP20="Need Info",AQ20="Need Info"),"Need Info",IF(OR(AE20="",AF20="",AG20="",AH20="",AI20="",AJ20="",AK20="",AL20="",AM20="",AN20="",AO20="",AP20="",AQ20=""),"",IF(AND(AE20="N/A",AF20="N/A",AG20="N/A",AH20="N/A",AI20="N/A",AJ20="N/A",AK20="N/A",AL20="N/A",AM20="N/A",AN20="N/A",AO20="N/A",AP20="N/A",AQ20="N/A"),"N/A",IF(MAX(AE20:AQ20)=0,"",MAX(AE20:AQ20))))) -> N/A | P20: N/A | Q20: N/A | R20: N/A | S20: N/A | T20: N/A | U20: N/A | V20: N/A | W20: N/A | X20: N/A | Y20: N/A | Z20: N/A | AA20: N/A | AB20: N/A | AC20: N/A | AD20: N/A | AE20: N/A | AF20: N/A | AG20: N/A | AH20: N/A | AI20: N/A | AJ20: N/A | AK20: N/A | AL20: N/A | AM20: N/A | AN20: N/A | AO20: N/A | AP20: N/A | AQ20: N/A | AR20: N/A | AS20: N/A | AT20: N/A | AU20: N/A | AV20: N/A | AW20: N/A | AX20: N/A | AY20: Inactive | AZ20: Inactive | BA20: Inactive | BB20: Inactive | BC20: Inactive | BD20: Inactive | BE20: N/A | BF20: N/A | BG20: N/A | BH20: N/A | BI20: N/A | BJ20: N/A | BK20: N/A | BL20: N/A | BM20: N/A | BN20: N/A | BO20: N/A | BP20: N/A
A21: =LEFT(Table1[[#This Row],[Level]],2)&"-"&Table1[[#This Row],[Seq]] -> L2-11 | B21: L2-Code | C21: =IFERROR(IF(AND(Table1[[#This Row],[Level]]=B20,Table1[[#This Row],[Form Name]]=E20),C20,IF(Table1[[#This Row],[Level]]=B20,C20+1,1)),1) -> 11 | D21: GEN | E21: Ship Via Codes | F21: After Seed | K21: =IFERROR(VLOOKUP(E21,'Data Owners'!G:H,2,0),VLOOKUP(D21,'Data Owners'!A:D,3,0)) -> All | L21: =IF(OR(P21="",Q21="",R21="",S21="",T21="",U21="",V21="",W21="",X21="",Y21="",Z21="",AA21="",AB21="",AC21="",AD21=""),"",IF(AND(P21="N/A",Q21="N/A",R21="N/A",S21="N/A",T21="N/A",U21="N/A",V21="N/A",W21="N/A",X21="N/A",Y21="N/A",Z21="N/A",AA21="N/A",AB21="N/A",AC21="N/A",AD21="N/A"),"N/A",IF(MAX(P21:AD21)=0,"",MAX(P21:AD21)))) -> 43368 | M21: =IF(OR(AE21="Need Info",AF21="Need Info",AG21="Need Info",AH21="Need Info",AI21="Need Info",AJ21="Need Info",AK21="Need Info",AL21="Need Info",AM21="Need Info",AN21="Need Info",AO21="Need Info",AP21="Need Info",AQ21="Need Info"),"Need Info",IF(OR(AE21="",AF21="",AG21="",AH21="",AI21="",AJ21="",AK21="",AL21="",AM21="",AN21="",AO21="",AP21="",AQ21=""),"",IF(AND(AE21="N/A",AF21="N/A",AG21="N/A",AH21="N/A",AI21="N/A",AJ21="N/A",AK21="N/A",AL21="N/A",AM21="N/A",AN21="N/A",AO21="N/A",AP21="N/A",AQ21="N/A"),"N/A",IF(MAX(AE21:AQ21)=0,"",MAX(AE21:AQ21))))) -> 43529 | O21: Add new to 1JBT, CORP | P21: N/A | Q21: N/A | R21: N/A | S21: N/A | T21: 43312 | U21: 43301 | V21: 43368 | W21: 43254 | X21: 43300 | Y21: N/A | Z21: N/A | AA21: N/A | AB21: N/A | AC21: 43128 | AD21: 43301 | AE21: N/A | AF21: 43529 | AG21: 43529 | AH21: N/A | AI21: 43529 | AJ21: 43529 | AK21: N/A | AL21: 43529 | AM21: 43529 | AN21: N/A | AO21: 43529 | AP21: N/A | AQ21: 43529 | AR21: Inactive | AS21: Inactive | AT21: Inactive | AU21: Inactive | AV21: Inactive | AW21: Inactive | AX21: Inactive | AY21: Inactive | AZ21: Inactive | BA21: Inactive | BB21: Inactive | BC21: Inactive | BD21: Inactive | BE21: N/A | BG21: 43312 | BH21: Skip | BI21: Skip | BJ21: Skip | BK21: Skip | BL21: Skip | BM21: 43480 | BN21: 43480 | BO21: 43480 | BP21: 43480
A22: =LEFT(Table1[[#This Row],[Level]],2)&"-"&Table1[[#This Row],[Seq]] -> L2-12 | B22: L2-Code | C22: =IFERROR(IF(AND(Table1[[#This Row],[Level]]=B21,Table1[[#This Row],[Form Name]]=E21),C21,IF(Table1[[#This Row],[Level]]=B21,C21+1,1)),1) -> 12 | D22: GEN | E22: Unit of Measure Codes | F22: Seed | H22: Yes | I22: Global | J22: Manual | K22: =IFERROR(VLOOKUP(E22,'Data Owners'!G:H,2,0),VLOOKUP(D22,'Data Owners'!A:D,3,0)) -> All | L22: =IF(OR(P22="",Q22="",R22="",S22="",T22="",U22="",V22="",W22="",X22="",Y22="",Z22="",AA22="",AB22="",AC22="",AD22=""),"",IF(AND(P22="N/A",Q22="N/A",R22="N/A",S22="N/A",T22="N/A",U22="N/A",V22="N/A",W22="N/A",X22="N/A",Y22="N/A",Z22="N/A",AA22="N/A",AB22="N/A",AC22="N/A",AD22="N/A"),"N/A",IF(MAX(P22:AD22)=0,"",MAX(P22:AD22)))) -> 43243 | M22: =IF(OR(AE22="Need Info",AF22="Need Info",AG22="Need Info",AH22="Need Info",AI22="Need Info",AJ22="Need Info",AK22="Need Info",AL22="Need Info",AM22="Need Info",AN22="Need Info",AO22="Need Info",AP22="Need Info",AQ22="Need Info"),"Need Info",IF(OR(AE22="",AF22="",AG22="",AH22="",AI22="",AJ22="",AK22="",AL22="",AM22="",AN22="",AO22="",AP22="",AQ22=""),"",IF(AND(AE22="N/A",AF22="N/A",AG22="N/A",AH22="N/A",AI22="N/A",AJ22="N/A",AK22="N/A",AL22="N/A",AM22="N/A",AN22="N/A",AO22="N/A",AP22="N/A",AQ22="N/A"),"N/A",IF(MAX(AE22:AQ22)=0,"",MAX(AE22:AQ22))))) -> 43403 | P22: N/A | Q22: N/A | R22: N/A | S22: N/A | T22: 43115 | U22: 43115 | V22: 43165 | W22: 43243 | X22: 43243 | Y22: N/A | Z22: N/A | AA22: N/A | AB22: N/A | AC22: 43125 | AD22: 43115 | AE22: N/A | AF22: 43403 | AG22: 43403 | AH22: N/A | AI22: 43403 | AJ22: 43403 | AK22: N/A | AL22: 43403 | AM22: 43403 | AN22: N/A | AO22: 43403 | AP22: N/A | AQ22: 43403 | AR22: 43403 | AS22: 43403 | AT22: 43403 | AU22: 43403 | AV22: 43403 | AW22: N/A | AX22: 43403 | AY22: Inactive | AZ22: Inactive | BA22: Inactive | BB22: Inactive | BC22: Inactive | BD22: Inactive | BE22: N/A | BF22: 43165 | BG22: 43409 | BH22: 43409 | BI22: 43409 | BJ22: 43409 | BK22: 43409 | BL22: 43409 | BN22: =Table1[[#This Row],[Seed: Seed_BKK1]] -> 43403 | BO22: =Table1[[#This Row],[Seed: Seed_THQ1]] -> 43403 | BP22: =Table1[[#This Row],[Seed: Seed_SIN1]] -> 43403
A23: =LEFT(Table1[[#This Row],[Level]],2)&"-"&Table1[[#This Row],[Seq]] -> L2-13 | B23: L2-Code | C23: =IFERROR(IF(AND(Table1[[#This Row],[Level]]=B22,Table1[[#This Row],[Form Name]]=E22),C22,IF(Table1[[#This Row],[Level]]=B22,C22+1,1)),1) -> 13 | D23: ACC | E23: Bank Reconciliation Reason Codes | F23: Seed | G23: Bank | H23: Yes | I23: Global | J23: Manual | K23: =IFERROR(VLOOKUP(E23,'Data Owners'!G:H,2,0),VLOOKUP(D23,'Data Owners'!A:D,3,0)) -> John Bohrman | L23: =IF(OR(P23="",Q23="",R23="",S23="",T23="",U23="",V23="",W23="",X23="",Y23="",Z23="",AA23="",AB23="",AC23="",AD23=""),"",IF(AND(P23="N/A",Q23="N/A",R23="N/A",S23="N/A",T23="N/A",U23="N/A",V23="N/A",W23="N/A",X23="N/A",Y23="N/A",Z23="N/A",AA23="N/A",AB23="N/A",AC23="N/A",AD23="N/A"),"N/A",IF(MAX(P23:AD23)=0,"",MAX(P23:AD23)))) -> 43172 | M23: =IF(OR(AE23="Need Info",AF23="Need Info",AG23="Need Info",AH23="Need Info",AI23="Need Info",AJ23="Need Info",AK23="Need Info",AL23="Need Info",AM23="Need Info",AN23="Need Info",AO23="Need Info",AP23="Need Info",AQ23="Need Info"),"Need Info",IF(OR(AE23="",AF23="",AG23="",AH23="",AI23="",AJ23="",AK23="",AL23="",AM23="",AN23="",AO23="",AP23="",AQ23=""),"",IF(AND(AE23="N/A",AF23="N/A",AG23="N/A",AH23="N/A",AI23="N/A",AJ23="N/A",AK23="N/A",AL23="N/A",AM23="N/A",AN23="N/A",AO23="N/A",AP23="N/A",AQ23="N/A"),"N/A",IF(MAX(AE23:AQ23)=0,"",MAX(AE23:AQ23))))) -> 43403 | P23: N/A | Q23: N/A | R23: N/A | S23: N/A | T23: N/A | U23: 43105 | V23: 43165 | W23: 43105 | X23: 43105 | Y23: 43172 | Z23: 43172 | AA23: 43172 | AB23: 43172 | AC23: 43105 | AD23: 43105 | AE23: N/A | AF23: 43165 | AG23: 43165 | AH23: N/A | AI23: 43403 | AJ23: 43403 | AK23: N/A | AL23: 43403 | AM23: 43403 | AN23: N/A | AO23: 43403 | AP23: N/A | AQ23: 43403 | AR23: 43403 | AS23: 43403 | AT23: 43403 | AU23: 43403 | AV23: 43403 | AW23: N/A | AX23: 43403 | AY23: Inactive | AZ23: Inactive | BA23: Inactive | BB23: Inactive | BC23: Inactive | BD23: Inactive | BE23: N/A | BF23: 43165 | BG23: N/A | BH23: 43403 | BI23: 43403 | BJ23: 43403 | BK23: 43403 | BL23: 43403 | BN23: =Table1[[#This Row],[Seed: Seed_BKK1]] -> 43403 | BO23: =Table1[[#This Row],[Seed: Seed_THQ1]] -> 43403 | BP23: =Table1[[#This Row],[Seed: Seed_SIN1]] -> 43403
A24: =LEFT(Table1[[#This Row],[Level]],2)&"-"&Table1[[#This Row],[Seq]] -> L2-14 | B24: L2-Code | C24: =IFERROR(IF(AND(Table1[[#This Row],[Level]]=B23,Table1[[#This Row],[Form Name]]=E23),C23,IF(Table1[[#This Row],[Level]]=B23,C23+1,1)),1) -> 14 | D24: ACC | E24: Bank File Format | F24: After Seed | G24: Bank | H24: Yes | I24: Global | J24: Manual | K24: =IFERROR(VLOOKUP(E24,'Data Owners'!G:H,2,0),VLOOKUP(D24,'Data Owners'!A:D,3,0)) -> John Bohrman | L24: =IF(OR(P24="",Q24="",R24="",S24="",T24="",U24="",V24="",W24="",X24="",Y24="",Z24="",AA24="",AB24="",AC24="",AD24=""),"",IF(AND(P24="N/A",Q24="N/A",R24="N/A",S24="N/A",T24="N/A",U24="N/A",V24="N/A",W24="N/A",X24="N/A",Y24="N/A",Z24="N/A",AA24="N/A",AB24="N/A",AC24="N/A",AD24="N/A"),"N/A",IF(MAX(P24:AD24)=0,"",MAX(P24:AD24)))) -> 43301 | M24: =IF(OR(AE24="Need Info",AF24="Need Info",AG24="Need Info",AH24="Need Info",AI24="Need Info",AJ24="Need Info",AK24="Need Info",AL24="Need Info",AM24="Need Info",AN24="Need Info",AO24="Need Info",AP24="Need Info",AQ24="Need Info"),"Need Info",IF(OR(AE24="",AF24="",AG24="",AH24="",AI24="",AJ24="",AK24="",AL24="",AM24="",AN24="",AO24="",AP24="",AQ24=""),"",IF(AND(AE24="N/A",AF24="N/A",AG24="N/A",AH24="N/A",AI24="N/A",AJ24="N/A",AK24="N/A",AL24="N/A",AM24="N/A",AN24="N/A",AO24="N/A",AP24="N/A",AQ24="N/A"),"N/A",IF(MAX(AE24:AQ24)=0,"",MAX(AE24:AQ24))))) | P24: N/A | Q24: N/A | R24: N/A | S24: N/A | T24: 43118 | U24: 43166 | V24: 43301 | W24: 43118 | X24: 43243 | Y24: N/A | Z24: N/A | AA24: N/A | AB24: N/A | AC24: 43118 | AD24: 43118 | AE24: N/A | AF24: N/A | AG24: N/A | AH24: N/A | AK24: N/A | AN24: N/A | AP24: N/A | AR24: Inactive | AS24: Inactive | AT24: Inactive | AU24: Inactive | AV24: Inactive | AW24: Inactive | AX24: Inactive | AY24: Inactive | AZ24: Inactive | BA24: Inactive | BB24: Inactive | BC24: Inactive | BD24: Inactive | BE24: N/A | BF24: N/A | BG24: 43118 | BH24: 43418 | BI24: 43418 | BJ24: 43418 | BK24: 43418 | BL24: 43418 | BM24: N/A | BN24: Need Info | BO24: Need Info | BP24: Need Info
A25: =LEFT(Table1[[#This Row],[Level]],2)&"-"&Table1[[#This Row],[Seq]] -> L2-15 | B25: L2-Code | C25: =IFERROR(IF(AND(Table1[[#This Row],[Level]]=B24,Table1[[#This Row],[Form Name]]=E24),C24,IF(Table1[[#This Row],[Level]]=B24,C24+1,1)),1) -> 15 | D25: ACC | E25: Bank Code Bank File Format | F25: After Seed | G25: Bank | H25: Yes | I25: Global | J25: Manual | K25: =IFERROR(VLOOKUP(E25,'Data Owners'!G:H,2,0),VLOOKUP(D25,'Data Owners'!A:D,3,0)) -> John Bohrman | L25: =IF(OR(P25="",Q25="",R25="",S25="",T25="",U25="",V25="",W25="",X25="",Y25="",Z25="",AA25="",AB25="",AC25="",AD25=""),"",IF(AND(P25="N/A",Q25="N/A",R25="N/A",S25="N/A",T25="N/A",U25="N/A",V25="N/A",W25="N/A",X25="N/A",Y25="N/A",Z25="N/A",AA25="N/A",AB25="N/A",AC25="N/A",AD25="N/A"),"N/A",IF(MAX(P25:AD25)=0,"",MAX(P25:AD25)))) -> 43301 | M25: =IF(OR(AE25="Need Info",AF25="Need Info",AG25="Need Info",AH25="Need Info",AI25="Need Info",AJ25="Need Info",AK25="Need Info",AL25="Need Info",AM25="Need Info",AN25="Need Info",AO25="Need Info",AP25="Need Info",AQ25="Need Info"),"Need Info",IF(OR(AE25="",AF25="",AG25="",AH25="",AI25="",AJ25="",AK25="",AL25="",AM25="",AN25="",AO25="",AP25="",AQ25=""),"",IF(AND(AE25="N/A",AF25="N/A",AG25="N/A",AH25="N/A",AI25="N/A",AJ25="N/A",AK25="N/A",AL25="N/A",AM25="N/A",AN25="N/A",AO25="N/A",AP25="N/A",AQ25="N/A"),"N/A",IF(MAX(AE25:AQ25)=0,"",MAX(AE25:AQ25))))) | P25: N/A | Q25: N/A | R25: N/A | S25: N/A | T25: 43118 | U25: 43166 | V25: 43301 | W25: 43118 | X25: 43243 | Y25: N/A | Z25: N/A | AA25: N/A | AB25: N/A | AC25: 43118 | AD25: 43118 | AE25: N/A | AF25: N/A | AG25: N/A | AH25: N/A | AK25: N/A | AN25: N/A | AP25: N/A | AR25: Inactive | AS25: Inactive | AT25: Inactive | AU25: Inactive | AV25: Inactive | AW25: Inactive | AX25: Inactive | AY25: Inactive | AZ25: Inactive | BA25: Inactive | BB25: Inactive | BC25: Inactive | BD25: Inactive | BE25: N/A | BF25: N/A | BG25: 43118 | BH25: 43418 | BI25: 43418 | BJ25: 43418 | BK25: 43418 | BL25: 43418 | BM25: N/A | BN25: Need Info | BO25: Need Info | BP25: Need Info
A26: =LEFT(Table1[[#This Row],[Level]],2)&"-"&Table1[[#This Row],[Seq]] -> L2-16 | B26: L2-Code | C26: =IFERROR(IF(AND(Table1[[#This Row],[Level]]=B25,Table1[[#This Row],[Form Name]]=E25),C25,IF(Table1[[#This Row],[Level]]=B25,C25+1,1)),1) -> 16 | D26: ACC | E26: Bank Reconciliations | F26: After Seed | G26: Bank | H26: Yes | I26: Global | J26: Manual | K26: =IFERROR(VLOOKUP(E26,'Data Owners'!G:H,2,0),VLOOKUP(D26,'Data Owners'!A:D,3,0)) -> John Bohrman | L26: =IF(OR(P26="",Q26="",R26="",S26="",T26="",U26="",V26="",W26="",X26="",Y26="",Z26="",AA26="",AB26="",AC26="",AD26=""),"",IF(AND(P26="N/A",Q26="N/A",R26="N/A",S26="N/A",T26="N/A",U26="N/A",V26="N/A",W26="N/A",X26="N/A",Y26="N/A",Z26="N/A",AA26="N/A",AB26="N/A",AC26="N/A",AD26="N/A"),"N/A",IF(MAX(P26:AD26)=0,"",MAX(P26:AD26)))) -> 43301 | M26: =IF(OR(AE26="Need Info",AF26="Need Info",AG26="Need Info",AH26="Need Info",AI26="Need Info",AJ26="Need Info",AK26="Need Info",AL26="Need Info",AM26="Need Info",AN26="Need Info",AO26="Need Info",AP26="Need Info",AQ26="Need Info"),"Need Info",IF(OR(AE26="",AF26="",AG26="",AH26="",AI26="",AJ26="",AK26="",AL26="",AM26="",AN26="",AO26="",AP26="",AQ26=""),"",IF(AND(AE26="N/A",AF26="N/A",AG26="N/A",AH26="N/A",AI26="N/A",AJ26="N/A",AK26="N/A",AL26="N/A",AM26="N/A",AN26="N/A",AO26="N/A",AP26="N/A",AQ26="N/A"),"N/A",IF(MAX(AE26:AQ26)=0,"",MAX(AE26:AQ26))))) | P26: N/A | Q26: N/A | R26: N/A | S26: N/A | T26: 43115 | U26: 43115 | V26: 43301 | W26: 43115 | X26: 43243 | Y26: N/A | Z26: N/A | AA26: N/A | AB26: N/A | AC26: 43118 | AD26: 43115 | AE26: N/A | AF26: N/A | AG26: N/A | AH26: N/A | AK26: N/A | AL26: 43468 | AM26: 43468 | AN26: N/A | AP26: N/A | AR26: 43468 | AS26: N/A | AT26: 43468 | AU26: 43468 | AV26: 43468 | AW26: N/A | AX26: 43468 | AY26: Inactive | AZ26: Inactive | BA26: Inactive | BB26: Inactive | BC26: Inactive | BD26: Inactive | BE26: N/A | BG26: 43115 | BH26: 43410 | BI26: 43410 | BJ26: 43410 | BK26: 43410 | BL26: 43410 | BM26: 43480 | BN26: =Table1[[#This Row],[Seed: Seed_BKK1]] -> 43468 | BO26: =Table1[[#This Row],[Seed: Seed_THQ1]] -> 43468 | BP26: =Table1[[#This Row],[Seed: Seed_SIN1]] -> 0
A27: =LEFT(Table1[[#This Row],[Level]],2)&"-"&Table1[[#This Row],[Seq]] -> L2-17 | B27: L2-Code | C27: =IFERROR(IF(AND(Table1[[#This Row],[Level]]=B26,Table1[[#This Row],[Form Name]]=E26),C26,IF(Table1[[#This Row],[Level]]=B26,C26+1,1)),1) -> 17 | D27: ACC | E27: Credit Hold Reason Codes | F27: Seed | G27: AR | H27: Yes | I27: Global | J27: Manual | K27: =IFERROR(VLOOKUP(E27,'Data Owners'!G:H,2,0),VLOOKUP(D27,'Data Owners'!A:D,3,0)) -> John Bohrman | L27: =IF(OR(P27="",Q27="",R27="",S27="",T27="",U27="",V27="",W27="",X27="",Y27="",Z27="",AA27="",AB27="",AC27="",AD27=""),"",IF(AND(P27="N/A",Q27="N/A",R27="N/A",S27="N/A",T27="N/A",U27="N/A",V27="N/A",W27="N/A",X27="N/A",Y27="N/A",Z27="N/A",AA27="N/A",AB27="N/A",AC27="N/A",AD27="N/A"),"N/A",IF(MAX(P27:AD27)=0,"",MAX(P27:AD27)))) -> 43172 | M27: =IF(OR(AE27="Need Info",AF27="Need Info",AG27="Need Info",AH27="Need Info",AI27="Need Info",AJ27="Need Info",AK27="Need Info",AL27="Need Info",AM27="Need Info",AN27="Need Info",AO27="Need Info",AP27="Need Info",AQ27="Need Info"),"Need Info",IF(OR(AE27="",AF27="",AG27="",AH27="",AI27="",AJ27="",AK27="",AL27="",AM27="",AN27="",AO27="",AP27="",AQ27=""),"",IF(AND(AE27="N/A",AF27="N/A",AG27="N/A",AH27="N/A",AI27="N/A",AJ27="N/A",AK27="N/A",AL27="N/A",AM27="N/A",AN27="N/A",AO27="N/A",AP27="N/A",AQ27="N/A"),"N/A",IF(MAX(AE27:AQ27)=0,"",MAX(AE27:AQ27))))) -> 43403 | P27: N/A | Q27: N/A | R27: N/A | S27: N/A | T27: 43105 | U27: 43105 | V27: 43165 | W27: 43105 | X27: 43105 | Y27: 43172 | Z27: 43172 | AA27: 43172 | AB27: 43172 | AC27: 43105 | AD27: 43105 | AE27: N/A | AF27: 43165 | AG27: 43165 | AH27: N/A | AI27: 43403 | AJ27: 43403 | AK27: N/A | AL27: 43403 | AM27: 43403 | AN27: N/A | AO27: 43403 | AP27: N/A | AQ27: 43403 | AR27: 43403 | AS27: 43403 | AT27: 43403 | AU27: 43403 | AV27: 43403 | AW27: N/A | AX27: 43403 | AY27: Inactive | AZ27: Inactive | BA27: Inactive | BB27: Inactive | BC27: Inactive | BD27: Inactive | BE27: N/A | BF27: 43165 | BG27: 43105 | BH27: 43403 | BI27: 43403 | BJ27: 43403 | BK27: 43403 | BL27: 43403 | BN27: =Table1[[#This Row],[Seed: Seed_BKK1]] -> 43403 | BO27: =Table1[[#This Row],[Seed: Seed_THQ1]] -> 43403 | BP27: =Table1[[#This Row],[Seed: Seed_SIN1]] -> 43403
