Workbook
Name LoadMethod: Ref!$C$2:$C$3
Name Scope: Ref!$B$2:$B$3
Name Sites: [1]Sites!$A$3:$A$20
Name YesNo: Ref!$A$2:$A$3

Sheet Summary
A2: Information Needed | G2: Confirmed
A3: Count of Assignment | G3: Count of Assignment
A4: Row Labels | B4: No | C4: Yes | D4: (blank) | E4: Grand Total | G4: Row Labels | H4: No | I4: Yes | J4: Grand Total
A5: ACC | B5: 26 | C5: 23 | D5: 1 | E5: 50 | G5: ACC | H5: 20 | I5: 29 | J5: 49
A6: AM | B6: 9 | C6: 4 | E6: 13 | G6: AM | H6: 3 | I6: 10 | J6: 13
A7: CUST | B7: 7 | C7: 6 | E7: 13 | G7: CUST | H7: 7 | I7: 6 | J7: 13
A8: ENG | B8: 2 | C8: 1 | E8: 3 | G8: ENG | I8: 3 | J8: 3
A9: FS | D9: 1 | E9: 1 | G9: FS | H9: 1 | J9: 1
A10: GEN | B10: 16 | C10: 3 | D10: 1 | E10: 20 | G10: GEN | H10: 1 | I10: 18 | J10: 19
A11: HR | B11: 2 | C11: 8 | E11: 10 | G11: HR | H11: 10 | J11: 10
A12: INV | B12: 18 | C12: 4 | E12: 22 | G12: INV | H12: 3 | I12: 19 | J12: 22
A13: PP | B13: 5 | C13: 1 | D13: 4 | E13: 10 | G13: PP | I13: 6 | J13: 6
A14: PRJ | D14: 1 | E14: 1 | G14: PUR | H14: 6 | I14: 10 | J14: 16
A15: PUR | B15: 9 | C15: 7 | E15: 16 | G15: SYS | I15: 26 | J15: 26
A16: SYS | B16: 25 | C16: 1 | E16: 26 | G16: Grand Total | H16: 51 | I16: 127 | J16: 178
A17: Grand Total | B17: 119 | C17: 58 | D17: 8 | E17: 185
B20: =B17/GETPIVOTDATA("Assignment",$A$3) -> 0.64324324 | C20: =C17/GETPIVOTDATA("Assignment",$A$3) -> 0.31351351 | D20: =D17/GETPIVOTDATA("Assignment",$A$3) -> 0.043243243 | E20: =E17/GETPIVOTDATA("Assignment",$A$3) -> 1 | H20: =H16/GETPIVOTDATA("Assignment",$G$3) -> 0.28651685 | I20: =I16/GETPIVOTDATA("Assignment",$G$3) -> 0.71348315 | J20: =J16/GETPIVOTDATA("Assignment",$G$3) -> 1

Sheet Checklist
A1: Function | B1: Area | C1: SL9 Name | D1: Pronto Name | E1: Pronto Navigation | F1: Assignment | G1: Reviewed? | H1: Info Needed? | I1: Confirmed? | J1: Update Seed? | K1: Comments | L1: Contact | M1: Update When | N1: Module | O1: Seed | P1: Scope Level | Q1: Loading Method
A2: COA | B2: ACC | C2: Accounting Periods | D2: Period Processing Dates | E2: Admin->System Admin->Table Maint | F2: =VLOOKUP(Table1[[#This Row],[Area]],Ref!E:F,2,0) -> Nok | G2: Yes | H2: No | I2: Yes | J2: No | M2: Seed | N2: GL | O2: Yes | P2: Global | Q2: Manual
A3: COA | B3: ACC | C3: Chart of Accounts | F3: =VLOOKUP(Table1[[#This Row],[Area]],Ref!E:F,2,0) -> Nok | G3: Yes | H3: Yes | I3: No | J3: Yes | K3: Add new accounts for VAT and WH | M3: Seed | N3: GL | O3: Yes | P3: Global | Q3: Manual
A4: COA | B4: ACC | C4: Unit Code 1 | F4: =VLOOKUP(Table1[[#This Row],[Area]],Ref!E:F,2,0) -> Nok | G4: Yes | H4: No | I4: Yes | J4: Yes | M4: After Seed | N4: GL | O4: Yes | P4: Global | Q4: Manual
A5: COA | B5: ACC | C5: Unit Code 2 | F5: =VLOOKUP(Table1[[#This Row],[Area]],Ref!E:F,2,0) -> Nok | G5: Yes | H5: Yes | I5: No | J5: Yes | M5: After Seed | N5: GL | O5: Yes | P5: Global | Q5: Manual
A6: COA | B6: ACC | C6: Unit Code 3 | F6: =VLOOKUP(Table1[[#This Row],[Area]],Ref!E:F,2,0) -> Nok | G6: Yes | H6: No | I6: Yes | J6: No | M6: Seed | N6: GL | O6: Yes | P6: Global | Q6: Manual
A7: COA | B7: ACC | C7: Unit Code 4 | F7: =VLOOKUP(Table1[[#This Row],[Area]],Ref!E:F,2,0) -> Nok | G7: Yes | H7: No | I7: Yes | J7: Yes | M7: Seed | N7: GL | O7: Yes | P7: Global | Q7: Manual
A8: COA | B8: ACC | C8: Copy Unit Codes to Accounts | F8: =VLOOKUP(Table1[[#This Row],[Area]],Ref!E:F,2,0) -> Nok | G8: Yes | H8: No | I8: Yes | J8: No | M8: After Seed | N8: GL | O8: Yes | P8: Global | Q8: Manual
A9: COA | B9: ACC | C9: Chart of Account Allocations | F9: =VLOOKUP(Table1[[#This Row],[Area]],Ref!E:F,2,0) -> Nok | G9: Yes | H9: Yes | I9: No | J9: Yes | M9: Seed | N9: GL | O9: Yes | P9: Site | Q9: Manual
A10: Code | B10: GEN | C10: Billing Terms | D10: Supplier Payment Terms Customer Terms Discount | F10: =VLOOKUP(Table1[[#This Row],[Area]],Ref!E:F,2,0) -> All | G10: Yes | H10: No | I10: Yes | J10: Yes | M10: After Seed | O10: Yes | P10: Global | Q10: Manual
A11: Code | B11: GEN | C11: Countries | F11: =VLOOKUP(Table1[[#This Row],[Area]],Ref!E:F,2,0) -> All | G11: Yes | H11: No | I11: Yes | J11: No | M11: Seed | O11: Yes | P11: Global | Q11: Manual
A12: Code | B12: GEN | C12: Delivery Terms | F12: =VLOOKUP(Table1[[#This Row],[Area]],Ref!E:F,2,0) -> All | G12: Yes | H12: No | I12: Yes | J12: No | M12: Seed | O12: Yes | P12: Global | Q12: Manual
A13: Code | B13: GEN | C13: Prov States | D13: Not Needed | F13: =VLOOKUP(Table1[[#This Row],[Area]],Ref!E:F,2,0) -> All | G13: Yes | H13: No | I13: Yes | J13: No | M13: Seed | O13: Yes | P13: Global | Q13: Manual
A14: Code | B14: GEN | C14: Interaction Topics | D14: Not Needed | F14: =VLOOKUP(Table1[[#This Row],[Area]],Ref!E:F,2,0) -> All | G14: Not Used | H14: Not Used | I14: Not Used | J14: Not Used | M14: Seed
A15: Code | B15: FS | C15: Multi-Lingual Service Invoice | F15: =VLOOKUP(Table1[[#This Row],[Area]],Ref!E:F,2,0) -> Opond/Toey | G15: Not Used | H15: Not Used | I15: Not Used | J15: Not Used | M15: Seed
A16: Code | B16: GEN | C16: Multi-Lingual Ship Via | F16: =VLOOKUP(Table1[[#This Row],[Area]],Ref!E:F,2,0) -> All | G16: Yes | H16: No | I16: Yes | J16: No | M16: Seed
A17: Code | B17: GEN | C17: Multi-Lingual Terms | F17: =VLOOKUP(Table1[[#This Row],[Area]],Ref!E:F,2,0) -> All | G17: Yes | H17: No | I17: Yes | J17: No | M17: Seed
A18: Code | B18: GEN | C18: Nature of Transaction Codes | D18: Not Needed | F18: =VLOOKUP(Table1[[#This Row],[Area]],Ref!E:F,2,0) -> All | G18: Yes | H18: No | I18: Yes | J18: No | M18: Seed
A19: Code | B19: GEN | C19: Secondary Nature of Transaction Code | D19: Not Needed | F19: =VLOOKUP(Table1[[#This Row],[Area]],Ref!E:F,2,0) -> All | G19: Yes | H19: No | I19: Yes | J19: No | M19: Seed
A20: Code | B20: GEN | C20: Ship Via Codes | D20: Not in Pronto | F20: =VLOOKUP(Table1[[#This Row],[Area]],Ref!E:F,2,0) -> All | G20: Yes | H20: Yes | I20: Yes | J20: Yes | M20: After Seed
A21: Code | B21: GEN | C21: Unit of Measure Codes | D21: Unit of Measure | F21: =VLOOKUP(Table1[[#This Row],[Area]],Ref!E:F,2,0) -> All | G21: Yes | H21: No | I21: Yes | J21: No | M21: Seed | O21: Yes | P21: Global | Q21: Manual
A22: Code | B22: ACC | C22: Bank Reconciliation Reason Codes | F22: =VLOOKUP(Table1[[#This Row],[Area]],Ref!E:F,2,0) -> Nok | G22: Yes | H22: No | I22: Yes | J22: No | M22: Seed | N22: Bank | O22: Yes | P22: Global | Q22: Manual
A23: Code | B23: ACC | C23: Bank File Format | F23: =VLOOKUP(Table1[[#This Row],[Area]],Ref!E:F,2,0) -> Nok | G23: Yes | H23: No | I23: Yes | J23: No | M23: After Seed | N23: Bank | O23: Yes | P23: Global | Q23: Manual
A24: Code | B24: ACC | C24: Bank Code Bank File Format | F24: =VLOOKUP(Table1[[#This Row],[Area]],Ref!E:F,2,0) -> Nok | G24: Yes | H24: No | I24: Yes | J24: No | M24: After Seed | N24: Bank | O24: Yes | P24: Global | Q24: Manual
A25: Code | B25: ACC | C25: Bank Reconciliations | F25: =VLOOKUP(Table1[[#This Row],[Area]],Ref!E:F,2,0) -> Nok | G25: Yes | H25: Yes | I25: No | J25: Yes | M25: After Seed | N25: Bank | O25: Yes | P25: Global | Q25: Manual
A26: Code | B26: ACC | C26: Credit Hold Reason Codes | F26: =VLOOKUP(Table1[[#This Row],[Area]],Ref!E:F,2,0) -> Nok | G26: Yes | H26: No | I26: Yes | J26: No | M26: Seed | N26: AR | O26: Yes | P26: Global | Q26: Manual
A27: Code | B27: ACC | C27: Currency Codes | D27: Currency Code Maintenance | E27: Admin->System Admin->System Codes & Messages->Local/Foreign Currency Maint->Currency Maint | F27: =VLOOKUP(Table1[[#This Row],[Area]],Ref!E:F,2,0) -> Nok | G27: Yes | H27: No | I27: Yes | J27: No | M27: Seed | N27: GL | O27: Yes | P27: Global | Q27: Manual
A28: Code | B28: ACC | C28: Currency Rates | D28: Local - Foreign Currency Maintenance | E28: Admin->System Admin->System Codes & Messages->Local/Foreign Currency Maint->Currency Maint | F28: =VLOOKUP(Table1[[#This Row],[Area]],Ref!E:F,2,0) -> Nok | G28: Yes | H28: No | I28: Yes | J28: No | M28: After Seed | N28: GL | O28: Yes | P28: Global | Q28: Manual
A29: Code | B29: ACC | C29: Invoice Categories | F29: =VLOOKUP(Table1[[#This Row],[Area]],Ref!E:F,2,0) -> Nok | G29: Yes | H29: No | I29: Yes | J29: No | M29: Seed | N29: AR | O29: Yes | P29: Global | Q29: Manual
A30: Code | B30: ACC | C30: Invoice Debit and Credit Memo Sequences | F30: =VLOOKUP(Table1[[#This Row],[Area]],Ref!E:F,2,0) -> Nok | G30: Yes | H30: No | I30: No | J30: Yes | M30: Seed | N30: AR | O30: Yes | P30: Global | Q30: Manual
A31: Code | B31: ACC | C31: Journals | F31: =VLOOKUP(Table1[[#This Row],[Area]],Ref!E:F,2,0) -> Nok | G31: Yes | H31: No | I31: Yes | J31: No | M31: Seed | N31: GL | O31: Yes | P31: Global | Q31: Manual
A32: Code | B32: ACC | C32: Payment Hold Reasons | F32: =VLOOKUP(Table1[[#This Row],[Area]],Ref!E:F,2,0) -> Nok | G32: Yes | H32: No | I32: Yes | J32: No | M32: Seed | N32: AR | O32: Yes | P32: Global | Q32: Manual
A33: Code | B33: ACC | C33: Tax Codes | D33: Tax Code | E33: Admin->System Admin->Table Maint->Tax Info->Consumer Tax | F33: =VLOOKUP(Table1[[#This Row],[Area]],Ref!E:F,2,0) -> Nok | G33: Yes | H33: No | I33: Yes | J33: No | M33: After Seed | N33: Tax | O33: Yes | P33: Global | Q33: Manual
A34: Code | B34: ACC | C34: Tax Jurisdiction | F34: =VLOOKUP(Table1[[#This Row],[Area]],Ref!E:F,2,0) -> Nok | G34: Yes | H34: No | I34: Yes | J34: No | M34: Seed | N34: AR | O34: Yes | P34: Global | Q34: Manual
A35: Code | B35: ACC | C35: Departments | F35: =VLOOKUP(Table1[[#This Row],[Area]],Ref!E:F,2,0) -> Nok | G35: Yes | H35: No | I35: Yes | J35: No | M35: Seed | N35: GL | O35: Yes | P35: Global | Q35: Manual
A36: Code | B36: ACC | C36: Product Codes | F36: =VLOOKUP(Table1[[#This Row],[Area]],Ref!E:F,2,0) -> Nok | G36: Yes | H36: Yes | I36: No | J36: No | M36: After Seed | N36: GL | O36: Yes | P36: Global | Q36: Manual
A37: Code | B37: ACC | C37: Distribution Accounts | F37: =VLOOKUP(Table1[[#This Row],[Area]],Ref!E:F,2,0) -> Nok | G37: Yes | H37: Yes | I37: No | J37: No | M37: After Seed | N37: GL | O37: Yes | P37: Global | Q37: Manual
A38: Code | B38: ACC | C38: Service Product Codes | F38: =VLOOKUP(Table1[[#This Row],[Area]],Ref!E:F,2,0) -> Nok | G38: Yes | H38: No | I38: Yes | J38: Yes | M38: Seed | N38: GL | O38: Yes | P38: Global | Q38: Manual
A39: Code | B39: ACC | C39: Service Distribution Accounts | F39: =VLOOKUP(Table1[[#This Row],[Area]],Ref!E:F,2,0) -> Nok | G39: Yes | H39: No | I39: Yes | J39: Yes | M39: Seed | N39: GL | O39: Yes | P39: Global | Q39: Manual
A40: Code | B40: ACC | C40: Process Indicator IDs | F40: =VLOOKUP(Table1[[#This Row],[Area]],Ref!E:F,2,0) -> Nok | G40: Not Used | H40: Not Used | I40: Not Used | J40: Not Used | M40: After Seed | N40: GL | O40: Yes | P40: Global | Q40: Manual
...

Sheet Ref
A1: Yes/No | B1: Scope | C1: Load Method | E1: Area | F1: Assignment
A2: Yes | B2: Global | C2: Manual | E2: ACC | F2: Nok
A3: No | B3: Site | C3: SQL | E3: GEN | F3: All
E4: AM | F4: Aeh/Pauline
E5: ENG | F5: N/A
E6: FS | F6: Opond/Toey
E7: HR | F7: Claire
E8: INV | F8: Anutida
E9: PRJ | F9: Nittakarn
E10: QC | F10: Anutida
E11: PP | F11: Anutida
E12: SYS | F12: Sean Zhou
E13: PUR | F13: Aeh/Pauline
E14: CUST | F14: Orawan
